Workbook

Sheet 총괄
A1: 농식품인력개발원 '26년 7월 중 교육대상자 추천
A2: [과정명 클릭시 해당 시트로 이동]
A3: 연번 | B3: 과정명 | C3: 배정인원 | D3: 신청인원 | E3: 비 고
A4: 합계 | B4: =COUNTA(B5:B19) -> 15 | C4: =SUM(C5:C29) -> 367 | D4: =SUM(D5:D29) -> 0
A5: 1 | B5: =배정인원!B5 -> 농업인 인스타그램 활용 기초(2기) | C5: =배정인원!C5 -> 18
A6: 2 | B6: =배정인원!B6 -> 트랙터 운전(4기) | C6: =배정인원!C6 -> 15
A7: 3 | B7: =배정인원!B7 -> 예취기 정비(2기) | C7: =배정인원!C7 -> 15
A8: 4 | B8: =배정인원!B8 -> 발효식초-2기 | C8: =배정인원!C8 -> 28
A9: 5 | B9: =배정인원!B9 -> 농업재배보험 제대로 알기(2기) | C9: =배정인원!C9 -> 28
A10: 6 | B10: =배정인원!B10 -> 창업자금 확보전략 | C10: =배정인원!C10 -> 15
A11: 7 | B11: =배정인원!B11 -> 우리동네양조장(탁주초급)-2기 | C11: =배정인원!C11 -> 28
A12: 8 | B12: =배정인원!B12 -> 농업인이 알아야 할 세무·노무 | C12: =배정인원!C12 -> 20
A13: 9 | B13: =배정인원!B13 -> 브랜드·패키지 디자인 | C13: =배정인원!C13 -> 20
A14: 10 | B14: =배정인원!B14 -> 친환경농산물 판로개척 | C14: =배정인원!C14 -> 28
A15: 11 | B15: =배정인원!B15 -> 토종종자 관리기초(2기) | C15: =배정인원!C15 -> 28
A16: 12 | B16: =배정인원!B16 -> 체험형메뉴개발(식용꽃)-1기 | C16: =배정인원!C16 -> 28
... A29: 25 | B29: =배정인원!B29 -> 0 | C29: =배정인원!C29 -> 0
A30: [안내사항] ✱시․군 추천 우선순위를 반영하되, 교육과정에 맞는 영농경력, 영농작목, 학습의지 등 제반사항을 종합적으로 검토하여 과정장이 최종 선발

Sheet 배정인원
A1: 농식품인력개발원 '26년 7월 중 교육과정 배정 인원
A2: (단위 : 명)
A3: 연번 | B3: 과정명 | C3: 합계 | D3: 전주시 | E3: 군산시 | F3: 익산시 | G3: 정읍시 | H3: 남원시 | I3: 김제시 | J3: 완주군 | K3: 진안군 | L3: 무주군 | M3: 장수군 | N3: 임실군 | O3: 순창군 | P3: 고창군 | Q3: 부안군
B4: 합 계 | C4: =SUM(C5:C29) -> 367 | D4: =SUM(D5:D29) -> 28 | E4: =SUM(E5:E29) -> 27 | F4: =SUM(F5:F29) -> 28 | G4: =SUM(G5:G29) -> 26 | H4: =SUM(H5:H29) -> 24 | I4: =SUM(I5:I29) -> 26 | J4: =SUM(J5:J29) -> 28 | ... Q4: =SUM(Q5:Q29) -> 24
A5: 1 | B5: 농업인 인스타그램 활용 기초(2기) | C5: =SUM(D5:Q5) -> 18 | D5: 3 | E5: 2 | F5: 2 | G5: 1 | H5: 1 | I5: 1 | J5: 1 | K5: 1 | L5: 1 | M5: 1 | N5: 1 | O5: 1 | P5: 1 | Q5: 1
A6: 2 | B6: 트랙터 운전(4기) | C6: =SUM(D6:Q6) -> 15 | D6: 1 | E6: 1 | F6: 1 | G6: 1 | H6: 1 | I6: 1 | J6: 1 | K6: 2 | L6: 1 | M6: 1 | N6: 1 | O6: 1 | P6: 1 | Q6: 1
A7: 3 | B7: 예취기 정비(2기) | C7: =SUM(D7:Q7) -> 15 | D7: 1 | E7: 1 | F7: 1 | G7: 1 | H7: 1 | I7: 1 | J7: 1 | K7: 1 | L7: 2 | M7: 1 | N7: 1 | O7: 1 | P7: 1 | Q7: 1
A8: 4 | B8: 발효식초-2기 | C8: =SUM(D8:Q8) -> 28 | D8: 2 | E8: 2 | F8: 2 | G8: 2 | H8: 2 | I8: 2 | J8: 2 | K8: 2 | L8: 2 | M8: 2 | N8: 2 | O8: 2 | P8: 2 | Q8: 2
A9: 5 | B9: 농업재배보험 제대로 알기(2기) | C9: =SUM(D9:Q9) -> 28 | D9: 2 | E9: 2 | F9: 2 | G9: 2 | H9: 2 | I9: 2 | J9: 2 | K9: 2 | L9: 2 | M9: 2 | N9: 2 | O9: 2 | P9: 2 | Q9: 2
A10: 6 | B10: 창업자금 확보전략 | C10: =SUM(D10:Q10) -> 15 | D10: 1 | E10: 1 | F10: 2 | G10: 1 | H10: 1 | I10: 1 | J10: 1 | K10: 1 | L10: 1 | M10: 1 | N10: 1 | O10: 1 | P10: 1 | Q10: 1
A11: 7 | B11: 우리동네양조장(탁주초급)-2기 | C11: =SUM(D11:Q11) -> 28 | D11: 2 | E11: 2 | F11: 2 | G11: 2 | H11: 2 | I11: 2 | J11: 2 | K11: 2 | L11: 2 | M11: 2 | N11: 2 | O11: 2 | P11: 2 | Q11: 2
A12: 8 | B12: 농업인이 알아야 할 세무·노무 | C12: =SUM(D12:Q12) -> 20 | D12: 2 | E12: 2 | F12: 2 | G12: 2 | H12: 1 | I12: 2 | J12: 2 | K12: 1 | L12: 1 | M12: 1 | N12: 1 | O12: 1 | P12: 1 | Q12: 1
A13: 9 | B13: 브랜드·패키지 디자인 | C13: =SUM(D13:Q13) -> 20 | D13: 2 | E13: 2 | F13: 2 | G13: 2 | H13: 1 | I13: 2 | J13: 2 | K13: 1 | L13: 1 | M13: 1 | N13: 1 | O13: 1 | P13: 1 | Q13: 1
A14: 10 | B14: 친환경농산물 판로개척 | C14: =SUM(D14:Q14) -> 28 | D14: 2 | E14: 2 | F14: 2 | G14: 2 | H14: 2 | I14: 2 | J14: 2 | K14: 2 | L14: 2 | M14: 2 | N14: 2 | O14: 2 | P14: 2 | Q14: 2
A15: 11 | B15: 토종종자 관리기초(2기) | C15: =SUM(D15:Q15) -> 28 | D15: 2 | E15: 2 | F15: 2 | G15: 2 | H15: 2 | I15: 2 | J15: 2 | K15: 2 | L15: 2 | M15: 2 | N15: 2 | O15: 2 | P15: 2 | Q15: 2
A16: 12 | B16: 체험형메뉴개발(식용꽃)-1기 | C16: =SUM(D16:Q16) -> 28 | D16: 2 | E16: 2 | F16: 2 | G16: 2 | H16: 2 | I16: 2 | J16: 2 | K16: 2 | L16: 2 | M16: 2 | N16: 2 | O16: 2 | P16: 2 | Q16: 2
... A20: 16 | B20: 아스파라거스 재배(2기) | C20: =SUM(D20:Q20) -> 20 | D20: 1 | E20: 1 | F20: 1 | G20: 1 | H20: 1 | I20: 1 | J20: 2 | K20: 2 | L20: 2 | M20: 2 | N20: 2 | O20: 2 | P20: 1 | Q20: 1
A21: 17 | C21: =SUM(D21:Q21) -> 0
A22: 18 | C22: =SUM(D22:Q22) -> 0
A23: 19 | C23: =SUM(D23:Q23) -> 0
A24: 20 | C24: =SUM(D24:Q24) -> 0
A25: 21 | C25: =SUM(D25:Q25) -> 0
A26: 22 | C26: =SUM(D26:Q26) -> 0
A27: 23 | C27: =SUM(D27:Q27) -> 0
A28: 24 | C28: =SUM(D28:Q28) -> 0
A29: 25 | C29: =SUM(D29:Q29) -> 0

Sheet 1
A1: 교육대상자 추천 명단
A2: ○ 과정명 : | C2: =배정인원!B5 -> 농업인 인스타그램 활용 기초(2기)
A3: ○ 기 간 : | C3: 7. 7.(화) ~ 9.(목) / 3일(20시간)
A4: ○ 대 상 : | C4: 희망 농업인
A5: 연번 | B5: 성 명 | C5: 생년월일 | D5: 주 소 | E5: 연락처 | F5: 성별 | G5: 나이 | H5: 영농경력 | I5: 영농분야
A6: 1 | B6: 홍길동 | C6: 1980.01.01 | D6: 김제시 백구면 신모길 19 | E6: 010-0000-0000 | F6: 남 | G6: =YEAR(TODAY())-YEAR(SUBSTITUTE(C6,".","-")) -> 46 | H6: 3 | I6: 토마토
A7: 2 | G7: =YEAR(TODAY())-YEAR(SUBSTITUTE(C7,".","-")) -> #VALUE!
A8: 3 | G8: =YEAR(TODAY())-YEAR(SUBSTITUTE(C8,".","-")) -> #VALUE!
A9: 4 | G9: =YEAR(TODAY())-YEAR(SUBSTITUTE(C9,".","-")) -> #VALUE!
A10: 5 | G10: =YEAR(TODAY())-YEAR(SUBSTITUTE(C10,".","-")) -> #VALUE!
A11: 6 | G11: =YEAR(TODAY())-YEAR(SUBSTITUTE(C11,".","-")) -> #VALUE!
A12: 7 | G12: =YEAR(TODAY())-YEAR(SUBSTITUTE(C12,".","-")) -> #VALUE!
A13: 8 | G13: =YEAR(TODAY())-YEAR(SUBSTITUTE(C13,".","-")) -> #VALUE!
A14: 9 | G14: =YEAR(TODAY())-YEAR(SUBSTITUTE(C14,".","-")) -> #VALUE!
A15: 10 | G15: =YEAR(TODAY())-YEAR(SUBSTITUTE(C15,".","-")) -> #VALUE!
A16: [선정 안내사항] ✱ 배정한 인원보다 초과하여 추천할 경우 연번 순위에 의거 배정한 인원만 선정함 (단, 타 시·군의 미 신청으로 추천인원이 계획인원보다 부족할 경우 조정 검토 후 부족한 인원 내에서 차순위자 추가 선정 가능) ✱ 시·군 추천 우선순위를 반영하되, 교육과정에 맞는 영농경력, 영농작목, 학습의지 등 제반사항을 종합적으로 검토하여 과정장이 최종 선발

Sheet 2
A1: 교육대상자 추천 명단
A2: ○ 과정명 : | C2: =배정인원!B6 -> 트랙터 운전(4기)
A3: ○ 기 간 : | C3: 7. 21.(화) / 1일
A4: ○ 대 상 : | C4: 트랙터 보유 농업인, 농업인
A5: 연번 | B5: 성 명 | C5: 생년월일 | D5: 주 소 | E5: 연락처 | F5: 성별 | G5: 나이 | H5: 영농경력 | I5: 영농분야
A6: 1 | B6: 홍길동 | C6: 1980.01.01 | D6: 김제시 백구면 신모길 19 | E6: 010-0000-0000 | F6: 남 | G6: =YEAR(TODAY())-YEAR(SUBSTITUTE(C6,".","-")) -> 46 | H6: 3 | I6: 토마토
A7: 2 | G7: =YEAR(TODAY())-YEAR(SUBSTITUTE(C7,".","-")) -> #VALUE!
A8: 3 | G8: =YEAR(TODAY())-YEAR(SUBSTITUTE(C8,".","-")) -> #VALUE!
A9: 4 | G9: =YEAR(TODAY())-YEAR(SUBSTITUTE(C9,".","-")) -> #VALUE!
A10: 5 | G10: =YEAR(TODAY())-YEAR(SUBSTITUTE(C10,".","-")) -> #VALUE!
A11: 6 | G11: =YEAR(TODAY())-YEAR(SUBSTITUTE(C11,".","-")) -> #VALUE!
A12: 7 | G12: =YEAR(TODAY())-YEAR(SUBSTITUTE(C12,".","-")) -> #VALUE!
A13: 8 | G13: =YEAR(TODAY())-YEAR(SUBSTITUTE(C13,".","-")) -> #VALUE!
A14: 9 | G14: =YEAR(TODAY())-YEAR(SUBSTITUTE(C14,".","-")) -> #VALUE!
A15: 10 | G15: =YEAR(TODAY())-YEAR(SUBSTITUTE(C15,".","-")) -> #VALUE!
A16: [선정 안내사항] ✱ 배정한 인원보다 초과하여 추천할 경우 연번 순위에 의거 배정한 인원만 선정함 (단, 타 시·군의 미 신청으로 추천인원이 계획인원보다 부족할 경우 조정 검토 후 부족한 인원 내에서 차순위자 추가 선정 가능) ✱ 시·군 추천 우선순위를 반영하되, 교육과정에 맞는 영농경력, 영농작목, 학습의지 등 제반사항을 종합적으로 검토하여 과정장이 최종 선발

Sheet 3
A1: 교육대상자 추천 명단
A2: ○ 과정명 : | C2: =배정인원!B7 -> 예취기 정비(2기)
A3: ○ 기 간 : | C3: 7. 23.(목) / 1일
A4: ○ 대 상 : | C4: 예취기 보유 농업인, 농업인
A5: 연번 | B5: 성 명 | C5: 생년월일 | D5: 주 소 | E5: 연락처 | F5: 성별 | G5: 나이 | H5: 영농경력 | I5: 영농분야
A6: 1 | B6: 홍길동 | C6: 1980.01.01 | D6: 김제시 백구면 신모길 19 | E6: 010-0000-0000 | F6: 남 | G6: =YEAR(TODAY())-YEAR(SUBSTITUTE(C6,".","-")) -> 46 | H6: 3 | I6: 토마토
A7: 2 | G7: =YEAR(TODAY())-YEAR(SUBSTITUTE(C7,".","-")) -> #VALUE!
A8: 3 | G8: =YEAR(TODAY())-YEAR(SUBSTITUTE(C8,".","-")) -> #VALUE!
A9: 4 | G9: =YEAR(TODAY())-YEAR(SUBSTITUTE(C9,".","-")) -> #VALUE!
A10: 5 | G10: =YEAR(TODAY())-YEAR(SUBSTITUTE(C10,".","-")) -> #VALUE!
A11: 6 | G11: =YEAR(TODAY())-YEAR(SUBSTITUTE(C11,".","-")) -> #VALUE!
A12: 7 | G12: =YEAR(TODAY())-YEAR(SUBSTITUTE(C12,".","-")) -> #VALUE!
A13: 8 | G13: =YEAR(TODAY())-YEAR(SUBSTITUTE(C13,".","-")) -> #VALUE!
A14: 9 | G14: =YEAR(TODAY())-YEAR(SUBSTITUTE(C14,".","-")) -> #VALUE!
A15: 10 | G15: =YEAR(TODAY())-YEAR(SUBSTITUTE(C15,".","-")) -> #VALUE!
A16: [선정 안내사항] ✱ 배정한 인원보다 초과하여 추천할 경우 연번 순위에 의거 배정한 인원만 선정함 (단, 타 시·군의 미 신청으로 추천인원이 계획인원보다 부족할 경우 조정 검토 후 부족한 인원 내에서 차순위자 추가 선정 가능) ✱ 시·군 추천 우선순위를 반영하되, 교육과정에 맞는 영농경력, 영농작목, 학습의지 등 제반사항을 종합적으로 검토하여 과정장이 최종 선발

Sheet 4
A1: 교육대상자 추천 명단
A2: ○ 과정명 : | C2: =배정인원!B8 -> 발효식초-2기
A3: ○ 기 간 : | C3: 7. 2., 7. 9., 7.16., 7. 23. / 4일(매주 목)
A4: ○ 대 상 : | C4: 1. 농업인 2. 교육희망자
A5: 연번 | B5: 성 명 | C5: 생년월일 | D5: 주 소 | E5: 연락처 | F5: 성별 | G5: 나이 | H5: 영농경력 | I5: 영농분야
A6: 1 | B6: 홍길동 | C6: 1980.01.01 | D6: 김제시 백구면 신모길 19 | E6: 010-0000-0000 | F6: 남 | G6: =YEAR(TODAY())-YEAR(SUBSTITUTE(C6,".","-")) -> 46 | H6: 3 | I6: 토마토
A7: 2 | G7: =YEAR(TODAY())-YEAR(SUBSTITUTE(C7,".","-")) -> #VALUE!
A8: 3 | G8: =YEAR(TODAY())-YEAR(SUBSTITUTE(C8,".","-")) -> #VALUE!
A9: 4 | G9: =YEAR(TODAY())-YEAR(SUBSTITUTE(C9,".","-")) -> #VALUE!
A10: 5 | G10: =YEAR(TODAY())-YEAR(SUBSTITUTE(C10,".","-")) -> #VALUE!
A11: 6 | G11: =YEAR(TODAY())-YEAR(SUBSTITUTE(C11,".","-")) -> #VALUE!
A12: 7 | G12: =YEAR(TODAY())-YEAR(SUBSTITUTE(C12,".","-")) -> #VALUE!
A13: 8 | G13: =YEAR(TODAY())-YEAR(SUBSTITUTE(C13,".","-")) -> #VALUE!
A14: 9 | G14: =YEAR(TODAY())-YEAR(SUBSTITUTE(C14,".","-")) -> #VALUE!
A15: 10 | G15: =YEAR(TODAY())-YEAR(SUBSTITUTE(C15,".","-")) -> #VALUE!
A16: [선정 안내사항] ✱ 배정한 인원보다 초과하여 추천할 경우 연번 순위에 의거 배정한 인원만 선정함 (단, 타 시·군의 미 신청으로 추천인원이 계획인원보다 부족할 경우 조정 검토 후 부족한 인원 내에서 차순위자 추가 선정 가능) ✱ 시·군 추천 우선순위를 반영하되, 교육과정에 맞는 영농경력, 영농작목, 학습의지 등 제반사항을 종합적으로 검토하여 과정장이 최종 선발

Sheet 5
A1: 교육대상자 추천 명단
A2: ○ 과정명 : | C2: =배정인원!B9 -> 농업재배보험 제대로 알기(2기)
A3: ○ 기 간 : | C3: 7. 3.(금) / 1일
A4: ○ 대 상 : | C4: 1.농업인 2. 교육희망자
A5: 연번 | B5: 성 명 | C5: 생년월일 | D5: 주 소 | E5: 연락처 | F5: 성별 | G5: 나이 | H5: 영농경력 | I5: 영농분야
A6: 1 | B6: 홍길동 | C6: 1980.01.01 | D6: 김제시 백구면 신모길 19 | E6: 010-0000-0000 | F6: 남 | G6: =YEAR(TODAY())-YEAR(SUBSTITUTE(C6,".","-")) -> 46 | H6: 3 | I6: 토마토
A7: 2 | G7: =YEAR(TODAY())-YEAR(SUBSTITUTE(C7,".","-")) -> #VALUE!
A8: 3 | G8: =YEAR(TODAY())-YEAR(SUBSTITUTE(C8,".","-")) -> #VALUE!
A9: 4 | G9: =YEAR(TODAY())-YEAR(SUBSTITUTE(C9,".","-")) -> #VALUE!
A10: 5 | G10: =YEAR(TODAY())-YEAR(SUBSTITUTE(C10,".","-")) -> #VALUE!
A11: 6 | G11: =YEAR(TODAY())-YEAR(SUBSTITUTE(C11,".","-")) -> #VALUE!
A12: 7 | G12: =YEAR(TODAY())-YEAR(SUBSTITUTE(C12,".","-")) -> #VALUE!
A13: 8 | G13: =YEAR(TODAY())-YEAR(SUBSTITUTE(C13,".","-")) -> #VALUE!
A14: 9 | G14: =YEAR(TODAY())-YEAR(SUBSTITUTE(C14,".","-")) -> #VALUE!
A15: 10 | G15: =YEAR(TODAY())-YEAR(SUBSTITUTE(C15,".","-")) -> #VALUE!
A16: [선정 안내사항] ✱ 배정한 인원보다 초과하여 추천할 경우 연번 순위에 의거 배정한 인원만 선정함 (단, 타 시·군의 미 신청으로 추천인원이 계획인원보다 부족할 경우 조정 검토 후 부족한 인원 내에서 차순위자 추가 선정 가능) ✱ 시·군 추천 우선순위를 반영하되, 교육과정에 맞는 영농경력, 영농작목, 학습의지 등 제반사항을 종합적으로 검토하여 과정장이 최종 선발

Sheet 6
A1: 교육대상자 추천 명단
A2: ○ 과정명 : | C2: =배정인원!B10 -> 창업자금 확보전략
A3: ○ 기 간 : | C3: 7. 6.(월) / 1일
A4: ○ 대 상 : | C4: 1. 예비 창업자 2. 농업인
A5: 연번 | B5: 성 명 | C5: 생년월일 | D5: 주 소 | E5: 연락처 | F5: 성별 | G5: 나이 | H5: 영농경력 | I5: 영농분야
A6: 1 | B6: 홍길동 | C6: 1980.01.01 | D6: 김제시 백구면 신모길 19 | E6: 010-0000-0000 | F6: 남 | G6: =YEAR(TODAY())-YEAR(SUBSTITUTE(C6,".","-")) -> 46 | H6: 3 | I6: 토마토
A7: 2 | G7: =YEAR(TODAY())-YEAR(SUBSTITUTE(C7,".","-")) -> #VALUE!
A8: 3 | G8: =YEAR(TODAY())-YEAR(SUBSTITUTE(C8,".","-")) -> #VALUE!
A9: 4 | G9: =YEAR(TODAY())-YEAR(SUBSTITUTE(C9,".","-")) -> #VALUE!
A10: 5 | G10: =YEAR(TODAY())-YEAR(SUBSTITUTE(C10,".","-")) -> #VALUE!
A11: 6 | G11: =YEAR(TODAY())-YEAR(SUBSTITUTE(C11,".","-")) -> #VALUE!
A12: 7 | G12: =YEAR(TODAY())-YEAR(SUBSTITUTE(C12,".","-")) -> #VALUE!
A13: 8 | G13: =YEAR(TODAY())-YEAR(SUBSTITUTE(C13,".","-")) -> #VALUE!
A14: 9 | G14: =YEAR(TODAY())-YEAR(SUBSTITUTE(C14,".","-")) -> #VALUE!
A15: 10 | G15: =YEAR(TODAY())-YEAR(SUBSTITUTE(C15,".","-")) -> #VALUE!
A16: [선정 안내사항] ✱ 배정한 인원보다 초과하여 추천할 경우 연번 순위에 의거 배정한 인원만 선정함 (단, 타 시·군의 미 신청으로 추천인원이 계획인원보다 부족할 경우 조정 검토 후 부족한 인원 내에서 차순위자 추가 선정 가능) ✱ 시·군 추천 우선순위를 반영하되, 교육과정에 맞는 영농경력, 영농작목, 학습의지 등 제반사항을 종합적으로 검토하여 과정장이 최종 선발

Sheet 7
A1: 교육대상자 추천 명단
A2: ○ 과정명 : | C2: =배정인원!B11 -> 우리동네양조장(탁주초급)-2기
A3: ○ 기 간 : | C3: 7. 8.(수) / 1일
A4: ○ 대 상 : | C4: 1. 농업인 2. 교육희망자
A5: 연번 | B5: 성 명 | C5: 생년월일 | D5: 주 소 | E5: 연락처 | F5: 성별 | G5: 나이 | H5: 영농경력 | I5: 영농분야
A6: 1 | B6: 홍길동 | C6: 1980.01.01 | D6: 김제시 백구면 신모길 19 | E6: 010-0000-0000 | F6: 남 | G6: =YEAR(TODAY())-YEAR(SUBSTITUTE(C6,".","-")) -> 46 | H6: 3 | I6: 토마토
A7: 2 | G7: =YEAR(TODAY())-YEAR(SUBSTITUTE(C7,".","-")) -> #VALUE!
A8: 3 | G8: =YEAR(TODAY())-YEAR(SUBSTITUTE(C8,".","-")) -> #VALUE!
A9: 4 | G9: =YEAR(TODAY())-YEAR(SUBSTITUTE(C9,".","-")) -> #VALUE!
A10: 5 | G10: =YEAR(TODAY())-YEAR(SUBSTITUTE(C10,".","-")) -> #VALUE!
A11: 6 | G11: =YEAR(TODAY())-YEAR(SUBSTITUTE(C11,".","-")) -> #VALUE!
A12: 7 | G12: =YEAR(TODAY())-YEAR(SUBSTITUTE(C12,".","-")) -> #VALUE!
A13: 8 | G13: =YEAR(TODAY())-YEAR(SUBSTITUTE(C13,".","-")) -> #VALUE!
A14: 9 | G14: =YEAR(TODAY())-YEAR(SUBSTITUTE(C14,".","-")) -> #VALUE!
A15: 10 | G15: =YEAR(TODAY())-YEAR(SUBSTITUTE(C15,".","-")) -> #VALUE!
A16: [선정 안내사항] ✱ 배정한 인원보다 초과하여 추천할 경우 연번 순위에 의거 배정한 인원만 선정함 (단, 타 시·군의 미 신청으로 추천인원이 계획인원보다 부족할 경우 조정 검토 후 부족한 인원 내에서 차순위자 추가 선정 가능) ✱ 시·군 추천 우선순위를 반영하되, 교육과정에 맞는 영농경력, 영농작목, 학습의지 등 제반사항을 종합적으로 검토하여 과정장이 최종 선발

Sheet 8
A1: 교육대상자 추천 명단
A2: ○ 과정명 : | C2: =배정인원!B12 -> 농업인이 알아야 할 세무·노무
A3: ○ 기 간 : | C3: 7. 10.(금) / 1일
A4: ○ 대 상 : | C4: 1. 농업인 2. 교육희망자
A5: 연번 | B5: 성 명 | C5: 생년월일 | D5: 주 소 | E5: 연락처 | F5: 성별 | G5: 나이 | H5: 영농경력 | I5: 영농분야
A6: 1 | B6: 홍길동 | C6: 1980.01.01 | D6: 김제시 백구면 신모길 19 | E6: 010-0000-0000 | F6: 남 | G6: =YEAR(TODAY())-YEAR(SUBSTITUTE(C6,".","-")) -> 46 | H6: 3 | I6: 토마토
A7: 2 | G7: =YEAR(TODAY())-YEAR(SUBSTITUTE(C7,".","-")) -> #VALUE!
A8: 3 | G8: =YEAR(TODAY())-YEAR(SUBSTITUTE(C8,".","-")) -> #VALUE!
A9: 4 | G9: =YEAR(TODAY())-YEAR(SUBSTITUTE(C9,".","-")) -> #VALUE!
A10: 5 | G10: =YEAR(TODAY())-YEAR(SUBSTITUTE(C10,".","-")) -> #VALUE!
A11: 6 | G11: =YEAR(TODAY())-YEAR(SUBSTITUTE(C11,".","-")) -> #VALUE!
A12: 7 | G12: =YEAR(TODAY())-YEAR(SUBSTITUTE(C12,".","-")) -> #VALUE!
A13: 8 | G13: =YEAR(TODAY())-YEAR(SUBSTITUTE(C13,".","-")) -> #VALUE!
A14: 9 | G14: =YEAR(TODAY())-YEAR(SUBSTITUTE(C14,".","-")) -> #VALUE!
A15: 10 | G15: =YEAR(TODAY())-YEAR(SUBSTITUTE(C15,".","-")) -> #VALUE!
A16: [선정 안내사항] ✱ 배정한 인원보다 초과하여 추천할 경우 연번 순위에 의거 배정한 인원만 선정함 (단, 타 시·군의 미 신청으로 추천인원이 계획인원보다 부족할 경우 조정 검토 후 부족한 인원 내에서 차순위자 추가 선정 가능) ✱ 시·군 추천 우선순위를 반영하되, 교육과정에 맞는 영농경력, 영농작목, 학습의지 등 제반사항을 종합적으로 검토하여 과정장이 최종 선발

Sheet 9
A1: 교육대상자 추천 명단
A2: ○ 과정명 : | C2: =배정인원!B13 -> 브랜드·패키지 디자인
A3: ○ 기 간 : | C3: 7. 14.(화) ~ 15.(수), 7. 21.(화) ~ 22.(수) / 4일
A4: ○ 대 상 : | C4: 1. 농식품 기업 임ㆍ직원 2. 농업인
A5: 연번 | B5: 성 명 | C5: 생년월일 | D5: 주 소 | E5: 연락처 | F5: 성별 | G5: 나이 | H5: 영농경력 | I5: 영농분야
A6: 1 | B6: 홍길동 | C6: 1980.01.01 | D6: 김제시 백구면 신모길 19 | E6: 010-0000-0000 | F6: 남 | G6: =YEAR(TODAY())-YEAR(SUBSTITUTE(C6,".","-")) -> 46 | H6: 3 | I6: 토마토
A7: 2 | G7: =YEAR(TODAY())-YEAR(SUBSTITUTE(C7,".","-")) -> #VALUE!
A8: 3 | G8: =YEAR(TODAY())-YEAR(SUBSTITUTE(C8,".","-")) -> #VALUE!
A9: 4 | G9: =YEAR(TODAY())-YEAR(SUBSTITUTE(C9,".","-")) -> #VALUE!
A10: 5 | G10: =YEAR(TODAY())-YEAR(SUBSTITUTE(C10,".","-")) -> #VALUE!
A11: 6 | G11: =YEAR(TODAY())-YEAR(SUBSTITUTE(C11,".","-")) -> #VALUE!
A12: 7 | G12: =YEAR(TODAY())-YEAR(SUBSTITUTE(C12,".","-")) -> #VALUE!
A13: 8 | G13: =YEAR(TODAY())-YEAR(SUBSTITUTE(C13,".","-")) -> #VALUE!
A14: 9 | G14: =YEAR(TODAY())-YEAR(SUBSTITUTE(C14,".","-")) -> #VALUE!
A15: 10 | G15: =YEAR(TODAY())-YEAR(SUBSTITUTE(C15,".","-")) -> #VALUE!
A16: [선정 안내사항] ✱ 배정한 인원보다 초과하여 추천할 경우 연번 순위에 의거 배정한 인원만 선정함 (단, 타 시·군의 미 신청으로 추천인원이 계획인원보다 부족할 경우 조정 검토 후 부족한 인원 내에서 차순위자 추가 선정 가능) ✱ 시·군 추천 우선순위를 반영하되, 교육과정에 맞는 영농경력, 영농작목, 학습의지 등 제반사항을 종합적으로 검토하여 과정장이 최종 선발

Sheet 10
A1: 교육대상자 추천 명단
A2: ○ 과정명 : | C2: =배정인원!B14 -> 친환경농산물 판로개척
A3: ○ 기 간 : | C3: 7. 16.(목) ~ 17.(금) / 2일
A4: ○ 선발순위 : | C4: 1. 농업인 2. 교육희망자
A5: 연번 | B5: 성 명 | C5: 생년월일 | D5: 주 소 | E5: 연락처 | F5: 성별 | G5: 나이 | H5: 영농경력 | I5: 영농분야
A6: 1 | B6: 홍길동 | C6: 1980.01.01 | D6: 김제시 백구면 신모길 19 | E6: 010-0000-0000 | F6: 남 | G6: =YEAR(TODAY())-YEAR(SUBSTITUTE(C6,".","-")) -> 46 | H6: 3 | I6: 토마토
A7: 2 | G7: =YEAR(TODAY())-YEAR(SUBSTITUTE(C7,".","-")) -> #VALUE!
A8: 3 | G8: =YEAR(TODAY())-YEAR(SUBSTITUTE(C8,".","-")) -> #VALUE!
A9: 4 | G9: =YEAR(TODAY())-YEAR(SUBSTITUTE(C9,".","-")) -> #VALUE!
A10: 5 | G10: =YEAR(TODAY())-YEAR(SUBSTITUTE(C10,".","-")) -> #VALUE!
A11: 6 | G11: =YEAR(TODAY())-YEAR(SUBSTITUTE(C11,".","-")) -> #VALUE!
A12: 7 | G12: =YEAR(TODAY())-YEAR(SUBSTITUTE(C12,".","-")) -> #VALUE!
A13: 8 | G13: =YEAR(TODAY())-YEAR(SUBSTITUTE(C13,".","-")) -> #VALUE!
A14: 9 | G14: =YEAR(TODAY())-YEAR(SUBSTITUTE(C14,".","-")) -> #VALUE!
A15: 10 | G15: =YEAR(TODAY())-YEAR(SUBSTITUTE(C15,".","-")) -> #VALUE!
A16: [선정 안내사항] ✱ 배정한 인원보다 초과하여 추천할 경우 연번 순위에 의거 배정한 인원만 선정함 (단, 타 시·군의 미 신청으로 추천인원이 계획인원보다 부족할 경우 조정 검토 후 부족한 인원 내에서 차순위자 추가 선정 가능) ✱ 시·군 추천 우선순위를 반영하되, 교육과정에 맞는 영농경력, 영농작목, 학습의지 등 제반사항을 종합적으로 검토하여 과정장이 최종 선발

Sheet 11
A1: 교육대상자 추천 명단
A2: ○ 과정명 : | C2: =배정인원!B15 -> 토종종자 관리기초(2기)
A3: ○ 기 간 : | C3: 7. 20.(월) / 1일
A4: ○ 대 상 : | C4: 1. 농업인 2. 교육희망자
A5: 연번 | B5: 성 명 | C5: 생년월일 | D5: 주 소 | E5: 연락처 | F5: 성별 | G5: 나이 | H5: 영농경력 | I5: 영농분야
A6: 1 | B6: 홍길동 | C6: 1980.01.01 | D6: 김제시 백구면 신모길 19 | E6: 010-0000-0000 | F6: 남 | G6: =YEAR(TODAY())-YEAR(SUBSTITUTE(C6,".","-")) -> 46 | H6: 3 | I6: 토마토
A7: 2 | G7: =YEAR(TODAY())-YEAR(SUBSTITUTE(C7,".","-")) -> #VALUE!
A8: 3 | G8: =YEAR(TODAY())-YEAR(SUBSTITUTE(C8,".","-")) -> #VALUE!
A9: 4 | G9: =YEAR(TODAY())-YEAR(SUBSTITUTE(C9,".","-")) -> #VALUE!
A10: 5 | G10: =YEAR(TODAY())-YEAR(SUBSTITUTE(C10,".","-")) -> #VALUE!
A11: 6 | G11: =YEAR(TODAY())-YEAR(SUBSTITUTE(C11,".","-")) -> #VALUE!
A12: 7 | G12: =YEAR(TODAY())-YEAR(SUBSTITUTE(C12,".","-")) -> #VALUE!
A13: 8 | G13: =YEAR(TODAY())-YEAR(SUBSTITUTE(C13,".","-")) -> #VALUE!
A14: 9 | G14: =YEAR(TODAY())-YEAR(SUBSTITUTE(C14,".","-")) -> #VALUE!
A15: 10 | G15: =YEAR(TODAY())-YEAR(SUBSTITUTE(C15,".","-")) -> #VALUE!
A16: [선정 안내사항] ✱ 배정한 인원보다 초과하여 추천할 경우 연번 순위에 의거 배정한 인원만 선정함 (단, 타 시·군의 미 신청으로 추천인원이 계획인원보다 부족할 경우 조정 검토 후 부족한 인원 내에서 차순위자 추가 선정 가능) ✱ 시·군 추천 우선순위를 반영하되, 교육과정에 맞는 영농경력, 영농작목, 학습의지 등 제반사항을 종합적으로 검토하여 과정장이 최종 선발

Sheet 12
A1: 교육대상자 추천 명단
A2: ○ 과정명 : | C2: =배정인원!B16 -> 체험형메뉴개발(식용꽃)-1기
A3: ○ 기 간 : | C3: 7. 28.(화) ~ 31.(금) / 4일
A4: ○ 대 상 : | C4: 1. 마을기업 종사자 2. 농업인 3. 교육희망자
A5: 연번 | B5: 성 명 | C5: 생년월일 | D5: 주 소 | E5: 연락처 | F5: 성별 | G5: 나이 | H5: 영농경력 | I5: 영농분야
A6: 1 | B6: 홍길동 | C6: 1980.01.01 | D6: 김제시 백구면 신모길 19 | E6: 010-0000-0000 | F6: 남 | G6: =YEAR(TODAY())-YEAR(SUBSTITUTE(C6,".","-")) -> 46 | H6: 3 | I6: 토마토
A7: 2 | G7: =YEAR(TODAY())-YEAR(SUBSTITUTE(C7,".","-")) -> #VALUE!
A8: 3 | G8: =YEAR(TODAY())-YEAR(SUBSTITUTE(C8,".","-")) -> #VALUE!
A9: 4 | G9: =YEAR(TODAY())-YEAR(SUBSTITUTE(C9,".","-")) -> #VALUE!
A10: 5 | G10: =YEAR(TODAY())-YEAR(SUBSTITUTE(C10,".","-")) -> #VALUE!
A11: 6 | G11: =YEAR(TODAY())-YEAR(SUBSTITUTE(C11,".","-")) -> #VALUE!
A12: 7 | G12: =YEAR(TODAY())-YEAR(SUBSTITUTE(C12,".","-")) -> #VALUE!
A13: 8 | G13: =YEAR(TODAY())-YEAR(SUBSTITUTE(C13,".","-")) -> #VALUE!
A14: 9 | G14: =YEAR(TODAY())-YEAR(SUBSTITUTE(C14,".","-")) -> #VALUE!
A15: 10 | G15: =YEAR(TODAY())-YEAR(SUBSTITUTE(C15,".","-")) -> #VALUE!
A16: [선정 안내사항] ✱ 배정한 인원보다 초과하여 추천할 경우 연번 순위에 의거 배정한 인원만 선정함 (단, 타 시·군의 미 신청으로 추천인원이 계획인원보다 부족할 경우 조정 검토 후 부족한 인원 내에서 차순위자 추가 선정 가능) ✱ 시·군 추천 우선순위를 반영하되, 교육과정에 맞는 영농경력, 영농작목, 학습의지 등 제반사항을 종합적으로 검토하여 과정장이 최종 선발

Sheet 13
A1: 교육대상자 추천 명단
A2: ○ 과정명 : | C2: =배정인원!B17 -> 농식품 챗GPT활용 AI마케팅(2기)
A3: ○ 기 간 : | C3: 7. 29.(수) ~ 30.(목) / 2일
A4: ○ 대 상 : | C4: 1. 농업인 2. 교육희망자
A5: 연번 | B5: 성 명 | C5: 생년월일 | D5: 주 소 | E5: 연락처 | F5: 성별 | G5: 나이 | H5: 영농경력 | I5: 영농분야
A6: 1 | B6: 홍길동 | C6: 1980.01.01 | D6: 김제시 백구면 신모길 19 | E6: 010-0000-0000 | F6: 남 | G6: =YEAR(TODAY())-YEAR(SUBSTITUTE(C6,".","-")) -> 46 | H6: 3 | I6: 토마토
A7: 2 | G7: =YEAR(TODAY())-YEAR(SUBSTITUTE(C7,".","-")) -> #VALUE!
A8: 3 | G8: =YEAR(TODAY())-YEAR(SUBSTITUTE(C8,".","-")) -> #VALUE!
A9: 4 | G9: =YEAR(TODAY())-YEAR(SUBSTITUTE(C9,".","-")) -> #VALUE!
A10: 5 | G10: =YEAR(TODAY())-YEAR(SUBSTITUTE(C10,".","-")) -> #VALUE!
A11: 6 | G11: =YEAR(TODAY())-YEAR(SUBSTITUTE(C11,".","-")) -> #VALUE!
A12: 7 | G12: =YEAR(TODAY())-YEAR(SUBSTITUTE(C12,".","-")) -> #VALUE!
A13: 8 | G13: =YEAR(TODAY())-YEAR(SUBSTITUTE(C13,".","-")) -> #VALUE!
A14: 9 | G14: =YEAR(TODAY())-YEAR(SUBSTITUTE(C14,".","-")) -> #VALUE!
A15: 10 | G15: =YEAR(TODAY())-YEAR(SUBSTITUTE(C15,".","-")) -> #VALUE!
A16: [선정 안내사항] ✱ 배정한 인원보다 초과하여 추천할 경우 연번 순위에 의거 배정한 인원만 선정함 (단, 타 시·군의 미 신청으로 추천인원이 계획인원보다 부족할 경우 조정 검토 후 부족한 인원 내에서 차순위자 추가 선정 가능) ✱ 시·군 추천 우선순위를 반영하되, 교육과정에 맞는 영농경력, 영농작목, 학습의지 등 제반사항을 종합적으로 검토하여 과정장이 최종 선발

Sheet 14
A1: 교육대상자 추천 명단
A2: ○ 과정명 : | C2: =배정인원!B18 -> 탄소중립관련 농업인 지원제도(2기)
A3: ○ 기 간 : | C3: 7. 31.(금) / 1일
A4: ○ 선발순위 : | C4: 1. 농업인 2. 교육희망자
A5: 연번 | B5: 성 명 | C5: 생년월일 | D5: 주 소 | E5: 연락처 | F5: 성별 | G5: 나이 | H5: 영농경력 | I5: 영농분야
A6: 1 | B6: 홍길동 | C6: 1980.01.01 | D6: 김제시 백구면 신모길 19 | E6: 010-0000-0000 | F6: 남 | G6: =YEAR(TODAY())-YEAR(SUBSTITUTE(C6,".","-")) -> 46 | H6: 3 | I6: 토마토
A7: 2 | G7: =YEAR(TODAY())-YEAR(SUBSTITUTE(C7,".","-")) -> #VALUE!
A8: 3 | G8: =YEAR(TODAY())-YEAR(SUBSTITUTE(C8,".","-")) -> #VALUE!
A9: 4 | G9: =YEAR(TODAY())-YEAR(SUBSTITUTE(C9,".","-")) -> #VALUE!
A10: 5 | G10: =YEAR(TODAY())-YEAR(SUBSTITUTE(C10,".","-")) -> #VALUE!
A11: 6 | G11: =YEAR(TODAY())-YEAR(SUBSTITUTE(C11,".","-")) -> #VALUE!
A12: 7 | G12: =YEAR(TODAY())-YEAR(SUBSTITUTE(C12,".","-")) -> #VALUE!
A13: 8 | G13: =YEAR(TODAY())-YEAR(SUBSTITUTE(C13,".","-")) -> #VALUE!
A14: 9 | G14: =YEAR(TODAY())-YEAR(SUBSTITUTE(C14,".","-")) -> #VALUE!
A15: 10 | G15: =YEAR(TODAY())-YEAR(SUBSTITUTE(C15,".","-")) -> #VALUE!
A16: [선정 안내사항] ✱ 배정한 인원보다 초과하여 추천할 경우 연번 순위에 의거 배정한 인원만 선정함 (단, 타 시·군의 미 신청으로 추천인원이 계획인원보다 부족할 경우 조정 검토 후 부족한 인원 내에서 차순위자 추가 선정 가능) ✱ 시·군 추천 우선순위를 반영하되, 교육과정에 맞는 영농경력, 영농작목, 학습의지 등 제반사항을 종합적으로 검토하여 과정장이 최종 선발

Sheet 15
A1: 교육대상자 추천 명단
A2: ○ 과정명 : | C2: =배정인원!B19 -> PLS 이해 및 농약 안전사용(2기)
A3: ○ 기 간 : | C3: 7. 3.(금) / 1일(7시간)
A4: ○ 대 상 : | C4: 귀농인, 농업인
A5: 연번 | B5: 성 명 | C5: 생년월일 | D5: 주 소 | E5: 연락처 | F5: 성별 | G5: 나이 | H5: 영농경력 | I5: 영농분야
A6: 1 | B6: 홍길동 | C6: 1980.01.01 | D6: 김제시 백구면 신모길 19 | E6: 010-0000-0000 | F6: 남 | G6: =YEAR(TODAY())-YEAR(SUBSTITUTE(C6,".","-")) -> 46 | H6: 3 | I6: 양봉
A7: 2 | G7: =YEAR(TODAY())-YEAR(SUBSTITUTE(C7,".","-")) -> #VALUE!
A8: 3 | G8: =YEAR(TODAY())-YEAR(SUBSTITUTE(C8,".","-")) -> #VALUE!
A9: 4 | G9: =YEAR(TODAY())-YEAR(SUBSTITUTE(C9,".","-")) -> #VALUE!
A10: 5 | G10: =YEAR(TODAY())-YEAR(SUBSTITUTE(C10,".","-")) -> #VALUE!
A11: 6 | G11: =YEAR(TODAY())-YEAR(SUBSTITUTE(C11,".","-")) -> #VALUE!
A12: 7 | G12: =YEAR(TODAY())-YEAR(SUBSTITUTE(C12,".","-")) -> #VALUE!
A13: 8 | G13: =YEAR(TODAY())-YEAR(SUBSTITUTE(C13,".","-")) -> #VALUE!
A14: 9 | G14: =YEAR(TODAY())-YEAR(SUBSTITUTE(C14,".","-")) -> #VALUE!
A15: 10 | G15: =YEAR(TODAY())-YEAR(SUBSTITUTE(C15,".","-")) -> #VALUE!
A16: [선정 안내사항] ✱ 배정한 인원보다 초과하여 추천할 경우 연번 순위에 의거 배정한 인원만 선정함 (단, 타 시·군의 미 신청으로 추천인원이 계획인원보다 부족할 경우 조정 검토 후 부족한 인원 내에서 차순위자 추가 선정 가능) ✱ 시·군 추천 우선순위를 반영하되, 교육과정에 맞는 영농경력, 영농작목, 학습의지 등 제반사항을 종합적으로 검토하여 과정장이 최종 선발

Sheet 16
A1: 교육대상자 추천 명단
A2: ○ 과정명 : | C2: =배정인원!B20 -> 아스파라거스 재배(2기)
A3: ○ 기 간 : | C3: 7. 7.(화) / 1일(7시간)
A4: ○ 대 상 : | C4: 귀농인, 농업인
A5: 연번 | B5: 성 명 | C5: 생년월일 | D5: 주 소 | E5: 연락처 | F5: 성별 | G5: 나이 | H5: 영농경력 | I5: 영농분야
A6: 1 | B6: 홍길동 | C6: 1980.01.01 | D6: 김제시 백구면 신모길 19 | E6: 010-0000-0000 | F6: 남 | G6: =YEAR(TODAY())-YEAR(SUBSTITUTE(C6,".","-")) -> 46 | H6: 3 | I6: 토마토
A7: 2 | G7: =YEAR(TODAY())-YEAR(SUBSTITUTE(C7,".","-")) -> #VALUE!
A8: 3 | G8: =YEAR(TODAY())-YEAR(SUBSTITUTE(C8,".","-")) -> #VALUE!
A9: 4 | G9: =YEAR(TODAY())-YEAR(SUBSTITUTE(C9,".","-")) -> #VALUE!
A10: 5 | G10: =YEAR(TODAY())-YEAR(SUBSTITUTE(C10,".","-")) -> #VALUE!
A11: 6 | G11: =YEAR(TODAY())-YEAR(SUBSTITUTE(C11,".","-")) -> #VALUE!
A12: 7 | G12: =YEAR(TODAY())-YEAR(SUBSTITUTE(C12,".","-")) -> #VALUE!
A13: 8 | G13: =YEAR(TODAY())-YEAR(SUBSTITUTE(C13,".","-")) -> #VALUE!
A14: 9 | G14: =YEAR(TODAY())-YEAR(SUBSTITUTE(C14,".","-")) -> #VALUE!
A15: 10 | G15: =YEAR(TODAY())-YEAR(SUBSTITUTE(C15,".","-")) -> #VALUE!
A16: [선정 안내사항] ✱ 배정한 인원보다 초과하여 추천할 경우 연번 순위에 의거 배정한 인원만 선정함 (단, 타 시·군의 미 신청으로 추천인원이 계획인원보다 부족할 경우 조정 검토 후 부족한 인원 내에서 차순위자 추가 선정 가능) ✱ 시·군 추천 우선순위를 반영하되, 교육과정에 맞는 영농경력, 영농작목, 학습의지 등 제반사항을 종합적으로 검토하여 과정장이 최종 선발
