Workbook

Sheet 총괄
A1: 개인서비스요금 조사표
D2: 조사일자 (2025. 03. .)
A4: 연번 | B4: 품목 | D4: 단위 | E4: 평균가격 | F4: 업소명 | G4: 금액 | H4: 업소명 | I4: 금액 | J4: 업소명 | K4: 금액 | L4: 업소명 | M4: 금액 | N4: 업소명 | O4: 금액
A5: 1 | B5: 외식비 (24종) | C5: 김치찌개 | D5: 1인분(보통) | E5: =AVERAGE(G5,I5,K5,M5,O5) -> 9750 | F5: 외식명가 | G5: =수성동!G40 -> 10000 | H5: 삼식이네 | I5: =수성동!G96 -> 8000 | J5: 청국장집 | L5: 미리내 | M5: =수성동!G91 -> 10000 | N5: 모심 | O5: =수성동!G15 -> 11000
A6: 2 | C6: 된장찌개 | D6: 1인분(보통) | E6: =AVERAGE(G6,I6,K6,M6) -> 9000 | F6: 새암정 | G6: =수성동!G23 -> 8000 | H6: 신금상회관 | I6: =상동!G29 -> 9000 | J6: 옥돌 | L6: 청국장집 | M6: =상동!G78 -> 10000
A7: 3 | C7: 비빔밥 | D7: 1인분(육회) | E7: =AVERAGE(G7,I7,K7) -> 10500 | F7: 외식명가 | G7: =수성동!G41 -> 10000 | H7: 순정축협한우명품관 | I7: =상동!G24 -> 11000 | J7: 옥돌
A8: 4 | C8: 설렁탕 | D8: 1인분(보통) | E8: =AVERAGE(G8,I8,K8,M8,O8) -> 10666.667 | F8: 본가 | G8: =수성동!G17 -> 11000 | H8: 순정축협한우명품관 | I8: =상동!G25 -> 9000 | J8: 원조할매곰탕 | L8: 수성가마솥설렁탕 | M8: =수성동!G28 -> 12000 | N8: 할매집설렁탕
A9: 5 | C9: 갈비탕 | D9: 1인분(보통) | F9: 본가 | G9: =수성동!G18 -> 13000 | H9: 순정축협한우명품관 | I9: =상동!G26 -> 15000 | J9: 옥돌 | L9: 외식명가 | M9: =수성동!G42 -> 10000 | N9: 돗가비
A10: 6 | C10: 삼계탕 | D10: 1인분(보통) | E10: =AVERAGE(G10,I10,K10,M10,O10) -> 15000 | F10: 이대감네 | G10: =수성동!G45 -> 15000 | H10: 시골삼계탕 | I10: =수성동!G29 -> 15000 | J10: 유창순대삼계탕 | L10: 예가 | M10: =상동!G32 -> 15000 | N10: 본가누룽지삼계탕
A11: 7 | C11: 불고기 | D11: 소고기 200g정도 | E11: =AVERAGE(I11,K11) -> 26000 | F11: 한우만 | G11: =상동!G47 -> 0 | H11: 순정축협한우명품관 | I11: =상동!G27 -> 26000 | J11: 옥돌
A12: 8 | C12: 소고기 | D12: 등심 180g | E12: =AVERAGE(G12,I12,K12,M12,O12) -> 34999.667 | F12: 한우만 | G12: =상동!G48 -> 23400 | H12: 순정축협한우명품관 | I12: =상동!G28 -> 39600 | J12: 옥돌 | L12: 명품한우정육식당 | M12: =상동!G12 -> 41999 | N12: 불타는안창살
A13: 9 | C13: 돼지갈비 | D13: 200g | E13: =AVERAGE(G13,I13,K13,M13,O13) -> 14110 | F13: 외식명가 | G13: =수성동!G43 -> 14000 | H13: 풍성한숯불갈비 | I13: =상동!G79 -> 11330 | J13: 삼보숯불갈비 | L13: 제주숯불갈비 | M13: =상동!G35 -> 17000 | N13: 솔가숯불갈비
A14: 10 | C14: 삼겹살 | D14: 180g | E14: =AVERAGE(G14,I14,K14,M14,O14) -> 12300 | F14: 외식명가 | G14: =수성동!G44 -> 12600 | H14: 고향촌 | I14: =수성동!G6 -> 9000 | J14: 옥돌 | L14: 제주숯불갈비 | M14: =상동!G36 -> 15300 | N14: 복돼지
A15: 11 | C15: 냉면 | D15: 1인분(물냉면) | E15: =AVERAGE(G15,I15,K15,M15) -> #VALUE! | F15: 산골냉면 | G15: 계절휴업 | H15: 장터목 | I15: =상동!G34 -> 9000 | J15: 돗가비 | L15: 일노냉면 | M15: =수성동!H76 -> #VALUE!
A16: 12 | C16: 칼국수 | D16: 1인분(보통) | E16: =AVERAGE(G16,I16,K16,M16) -> 10000 | F16: 아양촌 | G16: =상동!G74 -> 11000 | H16: 다래원 | I16: =상동!G9 -> 10000 | J16: 공주칼국수 | L16: 어머니해물칼국수 | M16: =상동!G31 -> 9000
A17: 13 | C17: 자장면 | D17: 1인분(보통) | E17: =AVERAGE(G17,I17,K17,M17,O17) -> 6666.6667 | F17: 서울반점 | G17: =상동!G19 -> 6000 | H17: 일품향 | I17: =수성동!G77 -> 7000 | J17: 조화당 | L17: 수궁얼큰돼지짬뽕 | M17: =수성동!G24 -> 7000 | N17: 산동관
A18: 14 | C18: 짬뽕 | D18: 1인분(보통) | E18: =AVERAGE(G18,I18,K18,M18,O18) -> 8666.6667 | F18: 서울반점 | G18: =상동!G20 -> 8000 | H18: 일품향 | I18: =수성동!G78 -> 9000 | J18: 조화당 | L18: 수궁얼큰돼지짬뽕 | M18: =수성동!G25 -> 9000 | N18: 산동관
A19: 15 | C19: 탕수육 | D19: 일반탕수육 | E19: =AVERAGE(G19,I19,K19,M19,O19) -> 24333.333 | F19: 서울반점 | G19: =상동!G22 -> 23000 | H19: 일품향 | I19: =수성동!G80 -> 25000 | J19: 조화당 | L19: 수궁얼큰돼지짬뽕 | M19: =수성동!G27 -> 25000 | N19: 산동관
A20: 16 | C20: 볶음밥 | D20: 1인분(보통) | E20: =AVERAGE(G20,I20,K20,M20,O20) -> 8666.6667 | F20: 서울반점 | G20: =상동!G21 -> 8000 | H20: 일품향 | I20: =수성동!G79 -> 9000 | J20: 조화당 | L20: 수궁얼큰돼지짬뽕 | M20: =수성동!G26 -> 9000 | N20: 산동관
A21: 17 | C21: 돈가스 | D21: 일반돈가스 | E21: =AVERAGE(G21,I21,K21,M21) -> 13500 | F21: 메이플트리 | G21: =수성동!G14 -> 14500 | H21: 돈가스톡 | I21: =상동!G72 -> 11000 | J21: 무공돈까스 | L21: 마리서사 | M21: =수성동!G12 -> 15000
A22: 18 | C22: 라면 | D22: 일반라면 | E22: =AVERAGE(G22,I22,K22,M22) -> 4333.3333 | F22: 옛날김밥 | G22: =수성동!G31 -> 4000 | H22: 김가네꼴통김밥 | I22: =상동!G7 -> 5000 | J22: 종로김밥 | L22: 김밥천국 | M22: =수성동!G89 -> 4000
A23: 19 | C23: 김밥 | D23: 일반김밥 | E23: =AVERAGE(G23,I23,K23,M23) -> 3000 | F23: 옛날김밥 | G23: =수성동!G32 -> 3000 | H23: 김가네꼴통김밥 | I23: =상동!G8 -> 3000 | J23: 종로김밥 | L23: 김밥천국 | M23: =수성동!G90 -> 3000
A24: 20 | C24: 떡볶이 | D24: 일반, 1인분 | E24: =AVERAGE(G24,I24,K24,M24) -> 4133.3333 | F24: 옛날김밥 | G24: =수성동!G33 -> 4000 | H24: 우리할매떡볶이 | I24: =상동!G33 -> 4500 | J24: 신전떡볶이 | L24: 무공돈까스 | M24: =상동!G14 -> 3900
A25: 21 | C25: 치킨 | D25: 한마리, 후라이드 | E25: =AVERAGE(G25,I25,K25,M25,O25) -> 20333.333 | F25: 다사랑 | G25: =수성동!G8 -> 19000 | H25: 교촌치킨 | I25: =수성동!G7 -> 23000 | J25: BHC치킨 | L25: 맥시칸치킨 | M25: =상동!G11 -> 19000 | N25: 페리카나
A26: 22 | C26: 햄버거 | D26: 기본형 | E26: =AVERAGE(G26,I26,K26,M26) -> 4200 | F26: 버거킹 | G26: =수성동!G16 -> 4800 | H26: 맥도날드 | I26: =수성동!G13 -> 3600 | J26: 롯데리아 | L26: 맘스터치 | M26: =수성동!G73 -> 4200
A27: 23 | C27: 피자 | D27: 기본형 | E27: =AVERAGE(G27,I27,K27,M27,O27) -> 17466.667 | F27: 도미노 | G27: =수성동!G71 -> 20500 | H27: 피자스쿨 | I27: =상동!G46 -> 13900 | J27: 반올림 | L27: 지정환임실피자 | M27: =수성동!G93 -> 18000 | N27: 다사랑
A28: 24 | C28: 커피 | D28: 일반커피 | E28: =AVERAGE(G28,I28,K28,M28,O28) -> 3833.3333 | F28: 커피학산로 | G28: =상동!G44 -> 4000 | H28: 아프리카 | I28: =수성동!G30 -> 3500 | J28: 인터그리티 | L28: 카페새록 | M28: =상동!G43 -> 4000 | N28: 카페어반13-1
A29: 25 | B29: 서비스 요금 (19종) | C29: 의복수선료 | D29: 기본(바지1단) | E29: =AVERAGE(G29,I29,K29,M29) -> 4000 | F29: 한남세탁 | G29: =수성동!G50 -> 4000 | H29: 행복세탁 | I29: =수성동!G54 -> 4000 | J29: 제일세탁소 | L29: 김금매수선박사 | M29: =상동!G63 -> 4000
A30: 26 | C30: 세탁료 | D30: 양복1벌 | F30: 한남세탁 | G30: =수성동!G51 -> 10000 | H30: 행복세탁 | I30: =수성동!G55 -> 10000 | J30: 제일세탁소 | L30: 세탁나라 | N30: 크린토피아
A31: 27 | C31: 공동주택관리비 | D31: 개별부과금 제외한 전 금액(아파트 85㎡기준) | E31: =AVERAGE(G31,I31,K31,M31,O31) -> 65591 | F31: 부영 | G31: =수성동!G70 -> 63756 | H31: 삼화그린 | I31: =수성동!G88 -> 52907 | J31: 영무예다음 | L31: 유창2차아파트 | M31: =상동!G83 -> 80110 | N31: 대광로제비앙
A32: 28 | C32: 세차료 | D32: 중형 | E32: =AVERAGE(G32,I32,K32,M32) -> 31666.667 | F32: 개미손세차장 | G32: =수성동!G72 -> 30000 | H32: 수성손세차장 | I32: =수성동!G48 -> 25000 | J32: 금성세차장 | L32: 영화세차장 | M32: =상동!G81 -> 40000
A33: 29 | C33: 수영장 | D33: 성인일반 1회 입장료 | E33: =AVERAGE(G33,I33) -> 3250 | F33: 학생복지회관 | G33: =수성동!G47 -> 3000 | H33: 청소년수련관 | I33: =상동!G82 -> 3500
A34: 30 | C34: 볼링장 | D34: 평일 1게임(신발대여료 제외) | E34: =AVERAGE(G34,I34) -> 4100 | F34: 더원락볼링센터 | G34: =상동!G49 -> 4200 | H34: 그린볼링장 | I34: =수성동!G81 -> 4000
A35: 31 | C35: 헬스클럽 | D35: 1개월 | E35: =AVERAGE(G35,I35,K35,M35) -> 66666.667 | F35: 퍼스트클래스짐 | G35: =상동!G69 -> 90000 | H35: 비비피트니스 | I35: =상동!G70 -> 60000 | J35: 해동휘트니스센터 | L35: 파이트짐 | M35: =상동!G80 -> 50000 | N35: 햄프로헬스프라자
A36: 32 | C36: 골프연습장 | D36: 1개월 | E36: =AVERAGE(G36,I36,K36,M36) -> 133333.33 | F36: QED골프아카데미 | G36: =수성동!G60 -> 150000 | H36: 위너3D골프아카데미 | I36: =상동!G59 -> 150000 | J36: GDR골프존아카데미 | L36: 정읍골프랜드 | M36: =수성동!G56 -> 100000
A37: 33 | C37: 당구장 | D37: 10분 | E37: =AVERAGE(G37,I37,K37,M37) -> 1866.6667 | F37: 당구매니아 | G37: =수성동!G61 -> 2100 | H37: 당구풍월 | I37: =수성동!G57 -> 1800 | J37: 1박2일 | L37: 당구1번가 | M37: =상동!G61 -> 1700
A38: 34 | C38: 노래방 | D38: 일반실 1시간 | E38: =AVERAGE(G38,I38,K38,M38) -> 16666.667 | F38: 파라오 | G38: =수성동!G52 -> 25000 | H38: 새천년 | I38: =수성동!G65 -> 25000 | J38: 미소노래연습장 | L38: 초이스노래방 | M38: =상동!G53 -> 0
A39: 35 | C39: PC방 | D39: 40분 | E39: =AVERAGE(G39,I39,K39,M39) -> 1000 | F39: 아이센스리그 | G39: =수성동!G67 -> 1000 | H39: 더블루오션 | I39: =수성동!G58 -> 1000 | J39: 라온PC방 | L39: 가자PC | M39: =상동!G51 -> 1000
A40: 36 | C40: 영화관람료 | D40: 1회 | E40: =AVERAGE(G40) -> 14000 | F40: CGV | G40: =수성동!G66 -> 14000
A41: 37 | C41: 숙박료(호텔) | D41: 평일 1박 | E41: =G41 -> 119000 | F41: 로얄호텔 | G41: =수성동!G82 -> 119000
...

Sheet 상동
A1: 2026년 개인서비스요금 조사표(상동 지역)
D3: 조사일 : | G3: 모니터명 : 문희경
A4: 연번 | B4: 업소명 | C4: 주소 | D4: 품목 | E4: 규격 및 단위 | F4: 전월 | G4: 금월 | H4: 전월대비증감율 | I4: 비고
A6: 1 | B6: BHC치킨 | C6: 상신경1길 38 | D6: 치킨(후라이드) | E6: 1마리 | F6: 20000 | G6: 20000 | H6: =(F6-G6)/G6 -> 0 | I6: 상동
A7: 2 | B7: 김가네꼴통김밥 | C7: 충정로 33-1 | D7: 라면 | E7: 일반라면 | F7: 5000 | G7: 5000 | H7: 0 | I7: 상동
A8: 3 | B8: 김가네꼴통김밥 | C8: 충정로 33-1 | D8: 김밥 | E8: 일반김밥(1줄) | F8: 3000 | G8: 3000 | H8: =(G8-F8)/F8 -> 0 | I8: 상동
A9: 4 | B9: 다래원 | C9: 상사1길 26 | D9: 칼국수 | E9: 1인분 | F9: 10000 | G9: 10000 | H9: =(G9-F9)/F9 -> 0 | I9: 상동
A10: 5 | B10: 롯데리아 | C10: 신경2길 28 | D10: 햄버거(불고기) | E10: 기본형 | F10: 5000 | G10: 5000 | H10: =(G10-F10)/F10 -> 0 | I10: 상동
A11: 6 | B11: 맥시칸치킨 | C11: 학산로 97 | D11: 치킨(후라이드) | E11: 1마리 | F11: 19000 | G11: 19000 | H11: =(G11-F11)/F11 -> 0 | I11: 상동
A12: 7 | B12: 명품한우정육식당 | C12: 충정로 39-1 | D12: 소고기 | E12: 등심 180g | F12: 41999 | G12: 41999 | H12: =(G12-F12)/F12 -> 0 | I12: 상동
A13: 8 | B13: 무공돈까스 | C13: 충정로 80 | D13: 돈가스 | E13: 일반돈가스 | F13: 9500 | G13: 10000 | H13: =(G13-F13)/F13 -> 0.052631579 | I13: 상동
A14: 9 | B14: 무공돈까스 | C14: 충정로 80 | D14: 떡볶이 | E14: 일반 1인분 | F14: 3900 | G14: 3900 | H14: =(G14-F14)/F14 -> 0 | I14: 상동
A15: 10 | B15: 반올림 | C15: 중앙로 258 | D15: 피자(불고기) | E15: R | F15: 19900 | G15: 20900 | H15: =(G15-F15)/F15 -> 0.050251256 | I15: 상동
A16: 11 | B16: 복돼지 | C16: 중앙로 247 | D16: 삼겹살 | E16: 180g | F16: 12600 | G16: 12600 | H16: =(G16-F16)/F16 -> 0 | I16: 상동
A17: 12 | B17: 본가누룽지삼계탕 | C17: 신경2길 7 | D17: 삼계탕 | E17: 1인분 | F17: 15000 | G17: 15000 | H17: =(G17-F17)/F17 -> 0 | I17: 상동
A18: 13 | B18: 산골냉면 | C18: 내장산로 16-8 | D18: 냉면 | E18: 1인분(물냉면) | F18: 계절메뉴 | G18: 계절메뉴 | H18: 0 | I18: 상동
A19: 14 | B19: 서울반점 | C19: 하신경8길 32 | D19: 자장면 | E19: 1인분(보통) | F19: 6000 | G19: 6000 | H19: =(G19-F19)/F19 -> 0 | I19: 상동
A20: 15 | B20: 서울반점 | C20: 하신경8길 32 | D20: 짬뽕 | E20: 1인분(보통) | F20: 8000 | G20: 8000 | H20: =(G20-F20)/F20 -> 0 | I20: 상동
A21: 16 | B21: 서울반점 | C21: 하신경8길 32 | D21: 볶음밥 | E21: 1인분 | F21: 8000 | G21: 8000 | H21: =(G21-F21)/F21 -> 0 | I21: 상동
A22: 17 | B22: 서울반점 | C22: 하신경8길 32 | D22: 탕수육 | E22: 중(中) | F22: 23000 | G22: 23000 | H22: =(G22-F22)/F22 -> 0 | I22: 상동
A23: 18 | B23: 솔가숯불갈비 | C23: 벚꽃로 537-5 | D23: 돼지갈비 | E23: 200g | F23: 14400 | G23: 14400 | H23: =(G23-F23)/F23 -> 0 | I23: 상동
A24: 19 | B24: 순정축협한우명품관 | C24: 내장산로 14 | D24: 비빔밥 | E24: 1인분(육회) | F24: 11000 | G24: 11000 | H24: =(G24-F24)/F24 -> 0 | I24: 상동
A25: 20 | B25: 순정축협한우명품관 | C25: 내장산로 14 | D25: 설렁탕 | E25: 1인분 | F25: 9000 | G25: 9000 | H25: =(G25-F25)/F25 -> 0 | I25: 상동
A26: 21 | B26: 순정축협한우명품관 | C26: 내장산로 14 | D26: 갈비탕 | E26: 1인분 | F26: 15000 | G26: 15000 | H26: =(G26-F26)/F26 -> 0 | I26: 상동
A27: 22 | B27: 순정축협한우명품관 | C27: 내장산로 14 | D27: 불고기 | E27: 소고기 200g정도 | F27: 26000 | G27: 26000 | H27: =(G27-F27)/F27 -> 0 | I27: 상동
A28: 23 | B28: 순정축협한우명품관 | C28: 내장산로 14 | D28: 소고기 | E28: 등심 180g | F28: 39600 | G28: 39600 | H28: =(G28-F28)/F28 -> 0 | I28: 상동
A29: 24 | B29: 신금상회관 | C29: 상동 564-42 | D29: 된장찌개 | E29: 1인분 | F29: 9000 | G29: 9000 | H29: =(G29-F29)/F29 -> 0 | I29: 상동
A30: 25 | B30: 신전떡볶이 | C30: 충정로 54 | D30: 떡볶이 | E30: 일반 1인분 | F30: 4000 | G30: 4000 | H30: =(G30-F30)/F30 -> 0 | I30: 상동
... A46: 41 | B46: 피자스쿨 | C46: 충정로 75 | D46: 피자(불고기) | E46: R | F46: 13900 | G46: 13900 | H46: =(G46-F46)/F46 -> 0 | I46: 상동
A47: 42 | B47: 한우만 | C47: 중앙로 208 | D47: 불고기 | E47: 소고기 200g정도 | H47: 메뉴없음 | I47: 상동
A48: 43 | B48: 한우만 | C48: 중앙로 208 | D48: 소고기 | E48: 등심 180g | F48: 23400 | G48: 23400 | H48: =(G48-F48)/F48 -> 0 | I48: 상동
A49: 44 | B49: 더원락볼링센터 | C49: 동부3길 5 | D49: 볼링장 | E49: 평일 1게임 | F49: 4200 | G49: 4200 | H49: =(G49-F49)/F49 -> 0 | I49: 상동
A50: 45 | B50: 1박2일 | C50: 상동중앙로 30-13 | D50: 당구장 | E50: 10분 | F50: 폐업 | H50: =(G50-F50)/F50 -> #VALUE! | I50: 상동
A51: 46 | B51: 가자PC | C51: 상동중앙로 49 | D51: PC방 | E51: 40분 | F51: 1000 | G51: 1000 | H51: =(G51-F51)/F51 -> 0 | I51: 상동
A52: 47 | B52: 현대 | C52: 상동중앙로 55 | D52: 목욕료 | E52: 일반대중탕(성인) | F52: 9000 | G52: 9000 | H52: =(G52-F52)/F52 -> 0 | I52: 상동
A53: 48 | B53: 초이스노래방 | C53: 상사1길 38 | D53: 노래방 | E53: 1시간 | H53: 업종아님 | I53: 상동
A54: 49 | B54: 헤어포유 | C54: 상사3길 19-13 | D54: 미용료 | E54: 성인기본 컷트 | F54: 20000 | G54: 20000 | H54: =(G54-F54)/F54 -> 0 | I54: 상동
A55: 50 | B55: 정읍사진관 | C55: 상신경1길 4 | D55: 사진촬영료 | E55: 반명함판 | F55: 20000 | G55: 20000 | H55: =(G55-F55)/F55 -> 0 | I55: 상동
A56: 51 | B56: 라온PC방 | C56: 상신경1길 5 | D56: PC방 | E56: 40분 | F56: 1000 | G56: 1000 | H56: =(G56-F56)/F56 -> 0 | I56: 상동
A57: 52 | B57: 오대양 | C57: 상신경2길 4 | D57: 목욕료 | E57: 일반대중탕(성인) | F57: 9000 | G57: 9000 | H57: =(G57-F57)/F57 -> 0 | I57: 상동
...

Sheet 수성동
A1: 2026년 개인서비스요금 조사표(수성동 지역)
D3: 조사일 : | G3: 모니터명 : 현인옥
A4: 연번 | B4: 업소명 | C4: 주소 | D4: 품목 | E4: 규격 및 단위 | F4: 전월 | G4: 금월 | H4: 전월대비증감율 | I4: 비고
A6: 1 | B6: 갈비마을 | C6: 수성4로 47-9 | D6: 삼겹살 | E6: 180g | F6: 9000 | G6: 9000 | H6: =(G6-F6)/F6 -> 0 | I6: 수성동
A7: 2 | B7: 교촌치킨 | C7: 수성로 10-1 | D7: 치킨(후라이드) | E7: 1마리 | F7: 23000 | G7: 23000 | H7: =(G7-F7)/F7 -> 0 | I7: 수성동
A8: 3 | B8: 다사랑 | C8: 수성택지5길 8 | D8: 치킨(후라이드) | E8: 1마리 | F8: 19000 | G8: 19000 | H8: =(G8-F8)/F8 -> 0 | I8: 수성동
A9: 4 | B9: 다사랑 | C9: 수성택지5길 8 | D9: 피자(불고기) | E9: R | F9: 17000 | G9: 17000 | H9: =(G9-F9)/F9 -> 0 | I9: 수성동
A10: 5 | B10: 돗가비 | C10: 수성택지3길 15 | D10: 갈비탕 | E10: 1인분 | F10: 10000 | G10: 10000 | H10: =(G10-F10)/F10 -> 0 | I10: 수성동
A11: 6 | B11: 돗가비 | C11: 수성택지3길 15 | D11: 냉면 | E11: 1인분(물냉면) | F11: 7000 | G11: 7000 | H11: =(G11-F11)/F11 -> 0 | I11: 수성동
A12: 7 | B12: 마리서사 | C12: 수성택지4길 20-12 | D12: 돈가스 | E12: 일반 | F12: 15000 | G12: 15000 | H12: =(G12-F12)/F12 -> 0 | I12: 수성동
A13: 8 | B13: 맥도날드 | C13: 남북로 51 | D13: 햄버거(불고기) | E13: 1개 | F13: 3600 | G13: 3600 | H13: =(G13-F13)/F13 -> 0 | I13: 수성동
A14: 9 | B14: 메이플트리 | C14: 정인1길 55 | D14: 돈가스 | E14: 일반 | F14: 14500 | G14: 14500 | H14: =(G14-F14)/F14 -> 0 | I14: 수성동
A15: 10 | B15: 모심회관 | C15: 중앙2길 46 | D15: 김치찌개 | E15: 1인분 | F15: 11000 | G15: 11000 | H15: =(G15-F15)/F15 -> 0 | I15: 수성동
A16: 11 | B16: 버거킹 | C16: 남북로 28 | D16: 햄버거(불고기) | E16: 1개 | F16: 4800 | G16: 4800 | H16: =(G16-F16)/F16 -> 0 | I16: 수성동
A17: 12 | B17: 본가 | C17: 중앙2길 5-6 | D17: 설렁탕 | E17: 1인분 | F17: 11000 | G17: 11000 | H17: =(G17-F17)/F17 -> 0 | I17: 수성동
... A62: 57 | B62: 수정보석 | C62: 수성택지6길 6 | D62: 목욕료 | E62: 일반대중탕(성인) | F62: 9000 | G62: 9000 | H62: =(G62-F62)/F62 -> 0 | I62: 수성동
A63: 58 | B63: 영이발관 | C63: 수성택지7길 16-27 | D63: 이발료 | E63: 성인기본 컷트 | F63: 16000 | G63: 16000 | H63: 0 | I63: 수성동
A64: 59 | B64: 더맨헤어 | C64: 수성택지7길 23 | D64: 이발료 | E64: 성인기본 컷트 | F64: 15000 | G64: 15000 | H64: =(G64-F64)/F64 -> 0 | I64: 수성동
A65: 60 | B65: 새천년 | C65: 수성택지7길 27 | D65: 노래방 | E65: 1시간 | F65: 25000 | G65: 25000 | H65: =(G65-F65)/F65 -> 0 | I65: 수성동
A66: 61 | B66: CGV | C66: 중앙1길 1 | D66: 영화관람료 | E66: 평일 1회 | F66: 14000 | G66: 14000 | H66: =(G66-F66)/F66 -> 0 | I66: 수성동
A67: 62 | B67: 아이센스리그 | C67: 중앙로 126 | D67: PC방 | E67: 40분 | F67: 1000 | G67: 1000 | H67: =(G67-F67)/F67 -> 0 | I67: 수성동
A68: 63 | B68: 언니네 | C68: 초산로 83 | D68: 사진촬영료 | E68: 반명함판 | F68: 18000 | G68: 18000 | H68: =(G68-F68)/F68 -> 0 | I68: 수성동
A69: 64 | B69: 준 | C69: 초산로 87 | D69: 사진촬영료 | E69: 반명함판 | F69: 20000 | G69: 20000 | H69: =(G69-F69)/F69 -> 0 | I69: 수성동
A70: 65 | B70: 부영2차아파트 | D70: 공동주택관리비 | E70: 개별부과금 제외한 전 금액(아파트 85㎡기준) | F70: 63400 | G70: 63756 | H70: =(G70-F70)/F70 -> 0.005615142 | I70: 수성동
A71: 66 | B71: 도미노 | C71: 우암로 88 | D71: 피자(불고기) | E71: R | F71: 20500 | G71: 20500 | H71: =(G71-F71)/F71 -> 0 | I71: 장명동
A72: 67 | B72: 개미손세차장 | C72: 우암로 76 | D72: 세차료 | E72: 중형 | F72: 30000 | G72: 30000 | H72: =(G72-F72)/F72 -> 0 | I72: 장명동
A73: 68 | B73: 맘스터치 | C73: 조곡천1길 74-3 | D73: 햄버거(불고기) | E73: 기본 | F73: 4200 | G73: 4200 | H73: =(G73-F73)/F73 -> 0 | I73: 시기동
A74: 69 | B74: 삼보숯불갈비 | C74: 중앙로 158-8 | D74: 돼지갈비 | E74: 200g | F74: 10700 | G74: 10700 | H74: =(G74-F74)/F74 -> 0 | I74: 시기동
A75: 70 | B75: 원조할매곰탕 | C75: 조곡천2길 38 | D75: 설렁탕 | E75: 1인분 | F75: 8000 | G75: 8000 | H75: =(G75-F75)/F75 -> 0 | I75: 시기동
A76: 71 | B76: 일노냉면 | C76: 우암로 7 | D76: 냉면 | E76: 1인분(물냉면) | F76: 계절메뉴 | G76: 계절메뉴 | H76: =(G76-F76)/F76 -> #VALUE! | I76: 시기동
A77: 72 | B77: 일품향 | C77: 관통로 54-3 | D77: 자장면 | E77: 1인분(보통) | F77: 7000 | G77: 7000 | H77: =(G77-F77)/F77 -> 0 | I77: 시기동
A78: 73 | B78: 일품향 | C78: 관통로 54-3 | D78: 짬뽕 | E78: 1인분(보통) | F78: 9000 | G78: 9000 | H78: =(G78-F78)/F78 -> 0 | I78: 시기동
A79: 74 | B79: 일품향 | C79: 관통로 54-3 | D79: 볶음밥 | E79: 1인분 | F79: 9000 | G79: 9000 | H79: =(G79-F79)/F79 -> 0 | I79: 시기동
A80: 75 | B80: 일품향 | C80: 관통로 54-3 | D80: 탕수육 | E80: 중 | F80: 25000 | G80: 25000 | H80: =(G80-F80)/F80 -> 0 | I80: 시기동
A81: 76 | B81: 그린볼링장 | C81: 남북로 14 | D81: 볼링장 | E81: 평일1게임 | F81: 4000 | G81: 4000 | H81: =(G81-F81)/F81 -> 0 | I81: 시기동
A82: 77 | B82: 로얄호텔 | C82: 중앙로 170 | D82: 숙박료(호텔) | E82: 평일 1박 | F82: 119000 | G82: 119000 | H82: =(G82-F82)/F82 -> 0 | I82: 시기동
A83: 78 | B83: 엘리제궁 | C83: 중앙로 196 | D83: 숙박료(모텔) | E83: 평일 1박 | F83: 40000 | G83: 40000 | H83: =(G83-F83)/F83 -> 0 | I83: 시기동
A84: 79 | B84: H호텔 | C84: 중앙로 199 | D84: 숙박료(모텔) | E84: 평일 1박 | F84: 50000 | G84: 50000 | H84: =(G84-F84)/F84 -> 0 | I84: 시기동
A85: 80 | B85: 제일세탁소 | C85: 청수3길 31 | D85: 의복수선료 | E85: 바지1단 | F85: 4000 | G85: 4000 | H85: =(G85-F85)/F85 -> 0 | I85: 시기동
A86: 81 | B86: 제일세탁소 | C86: 청수3길 31 | D86: 세탁료(양복1벌) | E86: 양복1벌 | F86: 10000 | G86: 10000 | H86: =(G86-F86)/F86 -> 0 | I86: 시기동
...
