Workbook

Sheet 총괄
A1: 대형마트별 주요생필품 가격조사표
M2: (단위:원)
A3: 연번 | B3: 품목 | C3: 조사규격 및 단위 | D3: 엘디마트 | E3: 원스탑쇼핑몰 | F3: 하나마트 | G3: 샘고을시장 | H3: 홈마트 | I3: 농부애마트 | J3: 하나로마트 | K3: 롯데마트 | L3: 금월평균 | M3: 전월평균 | N3: 증감
A4: 1 | B4: 쌀 | C4: 정미포장미 20㎏ | D4: =대형마트!H6 -> 53000 | E4: =대형마트!N6 -> 56900 | F4: =대형마트!T6 -> 69000 | G4: =샘고을시장!H6 -> 55000 | H4: =대형마트!Z6 -> 62000 | I4: =대형마트!AF6 -> 57000 | J4: =대형마트!AL6 -> 57000 | K4: =대형마트!AR6 -> 52400 | L4: =ROUND(SUM(D4:K4)/8,-1) -> 57790 | M4: 57910 | N4: =L4-M4 -> -120
A5: 2 | B5: 무 | C5: 2.0㎏ 1개 | D5: =대형마트!H7 -> 2490 | E5: =대형마트!N7 -> 3500 | F5: =대형마트!T7 -> 2750 | G5: =샘고을시장!H7 -> 3000 | H5: =대형마트!Z7 -> 2500 | I5: =대형마트!AF7 -> 3000 | J5: =대형마트!AL7 -> 3500 | K5: =대형마트!AR7 -> 3300 | L5: =ROUND(SUM(D5:K5)/8,-1) -> 3010 | M5: 3220 | N5: =L5-M5 -> -210
A6: 3 | B6: 배추 | C6: 2.0㎏ 1포기 | D6: =대형마트!H8 -> 3000 | E6: =대형마트!N8 -> 2750 | F6: =대형마트!T8 -> 0 | G6: =샘고을시장!H8 -> 3150 | H6: =대형마트!Z8 -> 1500 | I6: =대형마트!AF8 -> 4750 | J6: =대형마트!AL8 -> 5150 | K6: =대형마트!AR8 -> 3720 | L6: =ROUND(SUM(D6:K6)/5,-1) -> 4800 | M6: 4480 | N6: =L6-M6 -> 320
A7: 4 | B7: 상추 | C7: 100g | D7: =대형마트!H9 -> 830 | E7: =대형마트!N9 -> 980 | F7: =대형마트!T9 -> 2200 | G7: =샘고을시장!H9 -> 730 | H7: =대형마트!Z9 -> 2500 | I7: =대형마트!AF9 -> 1160 | J7: =대형마트!AL9 -> 1300 | K7: =대형마트!AR9 -> 2200 | L7: =ROUND(SUM(D7:K7)/8,-1) -> 1490 | M7: 1970 | N7: =L7-M7 -> -480
A8: 5 | B8: 양파 | C8: 1.0㎏-잎없는것 | D8: =대형마트!H10 -> 2480 | E8: =대형마트!N10 -> 1920 | F8: =대형마트!T10 -> 2650 | G8: =샘고을시장!H10 -> 3800 | H8: =대형마트!Z10 -> 3490 | I8: =대형마트!AF10 -> 1980 | J8: =대형마트!AL10 -> 2900 | K8: =대형마트!AR10 -> 3650 | L8: =ROUND(SUM(D8:K8)/8,-1) -> 2860 | M8: 2990 | N8: =L8-M8 -> -130
A9: 6 | B9: 대파 | C9: 1.0㎏(흙대파) | D9: =대형마트!H11 -> 2480 | E9: =대형마트!N11 -> 2000 | F9: =대형마트!T11 -> 3900 | G9: =샘고을시장!H11 -> 2750 | H9: =대형마트!Z11 -> 5000 | I9: =대형마트!AF11 -> 4000 | J9: =대형마트!AL11 -> 5600 | K9: =대형마트!AR11 -> 4850 | L9: =ROUND(SUM(D9:K9)/7,-1) -> 4370 | M9: 3830 | N9: =L9-M9 -> 540
A10: 7 | B10: 콩나물 | C10: 300g봉지 | D10: =대형마트!H12 -> 1500 | E10: =대형마트!N12 -> 1550 | F10: =대형마트!T12 -> 1500 | G10: =샘고을시장!H12 -> 1500 | H10: =대형마트!Z12 -> 1500 | I10: =대형마트!AF12 -> 1500 | J10: =대형마트!AL12 -> 1380 | K10: =대형마트!AR12 -> 1220 | L10: =ROUND(SUM(D10:K10)/8,-1) -> 1460 | M10: 1470 | N10: =L10-M10 -> -10
A11: 8 | B11: 오이 | C11: 1개 | D11: =대형마트!H13 -> 1350 | E11: =대형마트!N13 -> 1500 | F11: =대형마트!T13 -> 1730 | G11: =샘고을시장!H13 -> 1000 | H11: =대형마트!Z13 -> 2000 | I11: =대형마트!AF13 -> 1500 | J11: =대형마트!AL13 -> 1600 | K11: =대형마트!AR13 -> 1600 | L11: =ROUND(SUM(D11:K11)/8,-1) -> 1540 | M11: 1240 | N11: =L11-M11 -> 300
A12: 9 | B12: 토마토 | C12: 100g | D12: =대형마트!H14 -> 390 | E12: =대형마트!N14 -> 670 | F12: =대형마트!T14 -> 700 | G12: =샘고을시장!H14 -> 500 | H12: =대형마트!Z14 -> 900 | I12: =대형마트!AF14 -> 950 | J12: =대형마트!AL14 -> 910 | K12: =대형마트!AR14 -> 1050 | L12: =ROUND(SUM(D12:K12)/8,-1) -> 760 | M12: 600 | N12: =L12-M12 -> 160
A13: 10 | B13: 사과 | C13: 300g정도 10개(상품) | D13: =대형마트!H15 -> 5200 | E13: =대형마트!N15 -> 5700 | F13: =대형마트!T15 -> 8700 | G13: =샘고을시장!H15 -> 10000 | H13: =대형마트!Z15 -> 11550 | I13: =대형마트!AF15 -> 11000 | J13: =대형마트!AL15 -> 8300 | K13: =대형마트!AR15 -> 6750 | L13: =ROUND(SUM(D13:K13)/8,-1) -> 8400 | M13: 7910 | N13: =L13-M13 -> 490
A14: 11 | B14: 배 | C14: 600g 정도 10개(상품) | D14: =대형마트!H16 -> 7600 | E14: =대형마트!N16 -> 3900 | F14: =대형마트!T16 -> 12000 | G14: =샘고을시장!H16 -> 12000 | H14: =대형마트!Z16 -> 14900 | I14: =대형마트!AF16 -> 11750 | J14: =대형마트!AL16 -> 11500 | K14: =대형마트!AR16 -> 8990 | L14: =ROUND(SUM(D14:K14)/8,-1) -> 10330 | M14: 13620 | N14: =L14-M14 -> -3290
A15: 12 | B15: 감귤류 | C15: 5kg | D15: =대형마트!H17 -> 24300 | E15: =대형마트!N17 -> 22500 | F15: =대형마트!T17 -> 11000 | G15: =샘고을시장!H17 -> 0 | H15: =대형마트!Z17 -> 31900 | I15: =대형마트!AF17 -> 33600 | J15: =대형마트!AL17 -> 49000 | K15: =대형마트!AR17 -> 29500 | L15: =ROUND(SUM(D15:K15)/8,-1) -> 25230 | M15: 0 | N15: =L15-M15 -> 25230
A16: 13 | B16: 쇠고기 | C16: 한우등심 1등급 100g | D16: =대형마트!H18 -> 11800 | E16: =대형마트!N18 -> 11500 | F16: =대형마트!T18 -> 6000 | G16: =샘고을시장!H18 -> 11000 | H16: =대형마트!Z18 -> 11000 | I16: =대형마트!AF18 -> 11000 | J16: =대형마트!AL18 -> 7000 | K16: =대형마트!AR18 -> 21490 | L16: =ROUND(SUM(D16:K16)/6,-1) -> 15130 | M16: 10300 | N16: =L16-M16 -> 4830
A17: 14 | B17: 돼지고기 | C17: 삼겹살 100g | D17: =대형마트!H19 -> 2500 | E17: =대형마트!N19 -> 2090 | F17: =대형마트!T19 -> 2650 | G17: =샘고을시장!H19 -> 2350 | H17: =대형마트!Z19 -> 2400 | I17: =대형마트!AF19 -> 2650 | J17: =대형마트!AL19 -> 2000 | K17: =대형마트!AR19 -> 2650 | L17: =ROUND(SUM(D17:K17)/8,-1) -> 2410 | M17: 2710 | N17: =L17-M17 -> -300
A18: 15 | B18: 닭고기 | C18: 육계 1.0㎏ | D18: =대형마트!H20 -> 5400 | E18: =대형마트!N20 -> 5900 | F18: =대형마트!T20 -> 2950 | G18: =샘고을시장!H20 -> 7000 | H18: =대형마트!Z20 -> 6500 | I18: =대형마트!AF20 -> 7900 | J18: =대형마트!AL20 -> 7200 | K18: =대형마트!AR20 -> 11000 | L18: =ROUND(SUM(D18:K18)/8,-1) -> 6730 | M18: 7200 | N18: =L18-M18 -> -470
A19: 16 | B19: 달걀 | C19: 신선란 또는 대란 한판 | D19: =대형마트!H21 -> 6500 | E19: =대형마트!N21 -> 7280 | F19: =대형마트!T21 -> 7800 | G19: =샘고을시장!H21 -> 7350 | H19: =대형마트!Z21 -> 6950 | I19: =대형마트!AF21 -> 7500 | J19: =대형마트!AL21 -> 7480 | K19: =대형마트!AR21 -> 6990 | L19: =ROUND(SUM(D19:K19)/8,-1) -> 7230 | M19: 7250 | N19: =L19-M19 -> -20
A20: 17 | B20: 갈치 | C20: 70cm정도 1마리 | D20: =대형마트!H22 -> 0 | E20: =대형마트!N22 -> 15900 | F20: =대형마트!T22 -> 11500 | G20: =샘고을시장!H22 -> 15000 | H20: =대형마트!Z22 -> 13000 | I20: =대형마트!AF22 -> 15800 | J20: =대형마트!AL22 -> 16800 | K20: =대형마트!AR22 -> 9680 | L20: =ROUND(SUM(D20:K20)/7,-1) -> 13950 | M20: 13860 | N20: =L20-M20 -> 90
A21: 18 | B21: 명태 | C21: 50㎝정도 1마리 | D21: =대형마트!H23 -> 0 | E21: =대형마트!N23 -> 4400 | F21: =대형마트!T23 -> 5700 | G21: =샘고을시장!H23 -> 5000 | H21: =대형마트!Z23 -> 5750 | I21: =대형마트!AF23 -> 3400 | J21: =대형마트!AL23 -> 3390 | K21: =대형마트!AR23 -> 4750 | L21: =ROUND(SUM(D21:K21)/7,-1) -> 4630 | M21: 3970 | N21: =L21-M21 -> 660
A22: 19 | B22: 조기 | C22: 20㎝정도 10마리 | D22: =대형마트!H24 -> 0 | E22: =대형마트!N24 -> 14400 | F22: =대형마트!T24 -> 0 | G22: =샘고을시장!H24 -> 10000 | H22: =대형마트!Z24 -> 18000 | I22: =대형마트!AF24 -> 9900 | J22: =대형마트!AL24 -> 0 | K22: =대형마트!AR24 -> 34900 | L22: =ROUND(SUM(D22:K22)/3,-1) -> 29070 | M22: 17450 | N22: =L22-M22 -> 11620
A23: 20 | B23: 고등어 | C23: 30㎝정도 500g 1마리 | D23: =대형마트!H25 -> 0 | E23: =대형마트!N25 -> 4000 | F23: =대형마트!T25 -> 2850 | G23: =샘고을시장!H25 -> 3500 | H23: =대형마트!Z25 -> 5500 | I23: =대형마트!AF25 -> 4000 | J23: =대형마트!AL25 -> 4700 | K23: =대형마트!AR25 -> 4000 | L23: =ROUND(SUM(D23:K23)/7,-1) -> 4080 | M23: 3830 | N23: =L23-M23 -> 250
A24: 21 | B24: 오징어 | C24: 25㎝정도 2마리 | D24: =대형마트!H26 -> 0 | E24: =대형마트!N26 -> 9900 | F24: =대형마트!T26 -> 12950 | G24: =샘고을시장!H26 -> 10000 | H24: =대형마트!Z26 -> 17250 | I24: =대형마트!AF26 -> 10000 | J24: =대형마트!AL26 -> 13150 | K24: =대형마트!AR26 -> 5950 | L24: =ROUND(SUM(D24:K24)/7,-1) -> 11310 | M24: 10660 | N24: =L24-M24 -> 650
A25: 22 | B25: 김 | C25: 1속 | D25: =대형마트!H27 -> 16000 | E25: =대형마트!N27 -> 19500 | F25: =대형마트!T27 -> 9900 | G25: =샘고을시장!H27 -> 0 | H25: =대형마트!Z27 -> 17500 | I25: =대형마트!AF27 -> 16300 | J25: =대형마트!AL27 -> 16000 | K25: =대형마트!AR27 -> 29800 | L25: =ROUND(SUM(D25:K25)/7,-1) -> 17860 | M25: 16790 | N25: =L25-M25 -> 1070
A26: 23 | B26: 밀가루 | C26: 백설표 중력분1등2.5㎏ | D26: =대형마트!H28 -> 3650 | E26: =대형마트!N28 -> 3980 | F26: =대형마트!T28 -> 5400 | G26: =샘고을시장!H28 -> 0 | H26: =대형마트!Z28 -> 5500 | I26: =대형마트!AF28 -> 4850 | J26: =대형마트!AL28 -> 4600 | K26: =대형마트!AR28 -> 4420 | L26: =ROUND(SUM(D26:K26)/7,-1) -> 4630 | M26: 4620 | N26: =L26-M26 -> 10
A27: 24 | B27: 라면 | C27: 신라면 120g 1봉지 | D27: =대형마트!H29 -> 3800 | E27: =대형마트!N29 -> 3790 | F27: =대형마트!T29 -> 4550 | G27: =샘고을시장!H29 -> 4200 | H27: =대형마트!Z29 -> 4500 | I27: =대형마트!AF29 -> 3980 | J27: =대형마트!AL29 -> 3900 | K27: =대형마트!AR29 -> 3900 | L27: =ROUND(SUM(D27:K27)/8,-1) -> 4080 | M27: 4140 | N27: =L27-M27 -> -60
A28: 25 | B28: 두부 | C28: 포장두부 1모 | D28: =대형마트!H30 -> 1250 | E28: =대형마트!N30 -> 1280 | F28: =대형마트!T30 -> 1200 | G28: =샘고을시장!H30 -> 1600 | H28: =대형마트!Z30 -> 1200 | I28: =대형마트!AF30 -> 1250 | J28: =대형마트!AL30 -> 1250 | K28: =대형마트!AR30 -> 1590 | L28: =ROUND(SUM(D28:K28)/8,-1) -> 1330 | M28: 1330 | N28: =L28-M28 -> 0
A29: 26 | B29: 진간장 | C29: 0.9ℓ 1병 | D29: =대형마트!H31 -> 5500 | E29: =대형마트!N31 -> 4540 | F29: =대형마트!T31 -> 4980 | G29: =샘고을시장!H31 -> 5000 | H29: =대형마트!Z31 -> 5500 | I29: =대형마트!AF31 -> 6000 | J29: =대형마트!AL31 -> 4750 | K29: =대형마트!AR31 -> 4750 | L29: =ROUND(SUM(D29:K29)/8,-1) -> 5130 | M29: 5020 | N29: =L29-M29 -> 110
A30: 27 | B30: 설탕 | C30: 백설표 정백당 1㎏ | D30: =대형마트!H32 -> 2400 | E30: =대형마트!N32 -> 2580 | F30: =대형마트!T32 -> 3100 | G30: =샘고을시장!H32 -> 2500 | H30: =대형마트!Z32 -> 3500 | I30: =대형마트!AF32 -> 2850 | J30: =대형마트!AL32 -> 2380 | K30: =대형마트!AR32 -> 2380 | L30: =ROUND(SUM(D30:K30)/8,-1) -> 2710 | M30: 2700 | N30: =L30-M30 -> 10
A31: 28 | B31: 식용유 | C31: 백설표옥수수기름1.8ℓ | D31: =대형마트!H33 -> 7900 | E31: =대형마트!N33 -> 6980 | F31: =대형마트!T33 -> 11000 | G31: =샘고을시장!H33 -> 11000 | H31: =대형마트!Z33 -> 9800 | I31: =대형마트!AF33 -> 9900 | J31: =대형마트!AL33 -> 10800 | K31: =대형마트!AR33 -> 10800 | L31: =ROUND(SUM(D31:K31)/8,-1) -> 9770 | M31: 9740 | N31: =L31-M31 -> 30
A32: 29 | B32: 참기름 | C32: 오뚜기 320㎖ 1병 | D32: =대형마트!H34 -> 7500 | E32: =대형마트!N34 -> 6480 | F32: =대형마트!T34 -> 7950 | G32: =샘고을시장!H34 -> 0 | H32: =대형마트!Z34 -> 8500 | I32: =대형마트!AF34 -> 5900 | J32: =대형마트!AL34 -> 9780 | K32: =대형마트!AR34 -> 9780 | L32: =ROUND(SUM(D32:K32)/7,-1) -> 7980 | M32: 7670 | N32: =L32-M32 -> 310
A33: 30 | B33: 믹스커피 | C33: 맥심 모카골드마일드 커피믹스 100T | D33: =대형마트!H35 -> 15200 | E33: =대형마트!N35 -> 16350 | F33: =대형마트!T35 -> 19500 | H33: =대형마트!Z35 -> 19000 | I33: =대형마트!AF35 -> 17700 | J33: =대형마트!AL35 -> 16330 | K33: =대형마트!AR35 -> 17270 | L33: =ROUND(SUM(D33:K33)/7,-1) -> 17340 | M33: 17540 | N33: =L33-M33 -> -200
A34: 31 | B34: 우유 | C34: 서울우유 200㎖ 종이팩 | D34: =대형마트!H36 -> 1200 | E34: =대형마트!N36 -> 800 | F34: =대형마트!T36 -> 1200 | H34: =대형마트!Z36 -> 1200 | I34: =대형마트!AF36 -> 1200 | J34: =대형마트!AL36 -> 1080 | K34: =대형마트!AR36 -> 1060 | L34: =ROUND(SUM(D34:K34)/7,-1) -> 1110 | M34: 1100 | N34: =L34-M34 -> 10
A35: 32 | B35: 소주 | C35: 참이슬 360㎖ 1병 | D35: =대형마트!H37 -> 1350 | E35: =대형마트!N37 -> 1490 | F35: =대형마트!T37 -> 1500 | H35: =대형마트!Z37 -> 1700 | I35: =대형마트!AF37 -> 1700 | J35: =대형마트!AL37 -> 1480 | K35: =대형마트!AR37 -> 1340 | L35: =ROUND(SUM(D35:K35)/7,-1) -> 1510 | M35: 1510 | N35: =L35-M35 -> 0
A36: 33 | B36: 맥주 | C36: 테라 500㎖ 1병 | D36: =대형마트!H38 -> 1700 | E36: =대형마트!N38 -> 1680 | F36: =대형마트!T38 -> 1850 | H36: =대형마트!Z38 -> 1900 | I36: =대형마트!AF38 -> 1900 | J36: =대형마트!AL38 -> 1670 | K36: =대형마트!AR38 -> 1670 | L36: =ROUND(SUM(D36:K36)/7,-1) -> 1770 | M36: 1770 | N36: =L36-M36 -> 0
A37: 34 | B37: 콜라 | C37: 코카콜라 PET병 1.8ℓ | D37: =대형마트!H39 -> 2080 | E37: =대형마트!N39 -> 1780 | F37: =대형마트!T39 -> 2200 | H37: =대형마트!Z39 -> 2100 | I37: =대형마트!AF39 -> 1950 | J37: =대형마트!AL39 -> 1830 | K37: =대형마트!AR39 -> 1880 | L37: =ROUND(SUM(D37:K37)/7,-1) -> 1970 | M37: 1900 | N37: =L37-M37 -> 70
A38: 35 | B38: 사이다 | C38: 칠성 PET병 1.5ℓ | D38: =대형마트!H40 -> 1750 | E38: =대형마트!N40 -> 1600 | F38: =대형마트!T40 -> 1700 | H38: =대형마트!Z40 -> 1800 | I38: =대형마트!AF40 -> 1650 | J38: =대형마트!AL40 -> 1900 | K38: =대형마트!AR40 -> 1880 | L38: =ROUND(SUM(D38:K38)/7,-1) -> 1750 | M38: 1750 | N38: =L38-M38 -> 0

Sheet 대형마트
A1: □ 주요생필품 물가조사표(대형마트)
AR2: (단위:원)
A3: 연번 | B3: 품목 | C3: 조사규격 및 단위 | D3: 엘디마트(상동) | J3: 원스탑쇼핑몰(상동) | P3: 하나마트(시기동) | V3: 홈마트(수성동) | AB3: 농부애마트(농소동) | AH3: 하나로마트 본점(연지동) | AN3: 롯데마트(농소동)
D4: 금월 가격 | G4: 평균가격 | J4: 금월 가격 | M4: 평균가격 | P4: 금월 가격 | S4: 평균가격 | V4: 금월 가격 | Y4: 평균가격 | AB4: 금월 가격 | AE4: 평균가격 | AH4: 금월 가격 | AK4: 평균가격 | AN4: 금월 가격 | AQ4: 평균가격
D5: 2주 | E5: 4주 | F5: 전주대비 증감율 | G5: 전월 | H5: 금월 | I5: 전월대비 증감율 | J5: 2주 | K5: 4주 | L5: 전주대비 증감율 | M5: 전월 | N5: 금월 | O5: 전월대비 증감율 | P5: 2주 | Q5: 4주 | R5: 전주대비 증감율 | S5: 전월 | T5: 금월 | U5: 전월대비 증감율 | V5: 2주 | W5: 4주 | X5: 전주대비 증감율 | Y5: 전월 | Z5: 금월 | AA5: 전월대비 증감율 | AB5: 2주 | AC5: 4주 | AD5: 전주대비 증감율 | AE5: 전월 | AF5: 금월 | AG5: 전월대비 증감율 | AH5: 2주 | AI5: 4주 | AJ5: 전주대비 증감율 | AK5: 전월 | AL5: 금월 | AM5: 전월대비 증감율 | AN5: 2주 | AO5: 4주 | AP5: 전주대비 증감율 | AQ5: 전월 | AR5: 금월 | AS5: 전월대비 증감율
A6: 1 | B6: 쌀 | C6: 일반미 20㎏ | D6: 53000 | E6: 53000 | F6: =(E6-D6)/D6 -> 0 | G6: 57800 | H6: =ROUND(SUM(D6:E6)/2,-1) -> 53000 | I6: =(H6-G6)/G6 -> -0.083044983 | J6: 56900 | K6: 56900 | L6: =(K6-J6)/J6 -> 0 | M6: 54350 | N6: =ROUND(SUM(J6:K6)/2,-1) -> 56900 | O6: =(N6-M6)/M6 -> 0.046918123 | P6: 69000 | Q6: 69000 | R6: =(Q6-P6)/P6 -> 0 | S6: 69000 | T6: =ROUND(SUM(P6:Q6)/2,-1) -> 69000 | U6: =(T6-S6)/S6 -> 0 | V6: 62000 | W6: 62000 | X6: =(W6-V6)/V6 -> 0 | Y6: 61500 | Z6: =ROUND(SUM(V6:W6)/2,-1) -> 62000 | AA6: =(Z6-Y6)/Y6 -> 0.0081300813 | AB6: 57000 | AC6: 57000 | AD6: =(AC6-AB6)/AB6 -> 0 | AE6: 58250 | AF6: =ROUND(SUM(AB6:AC6)/2,-1) -> 57000 | AG6: =(AF6-AE6)/AE6 -> -0.021459227 | AH6: 57000 | AI6: 57000 | AJ6: =(AI6-AH6)/AH6 -> 0 | AK6: 57500 | AL6: =ROUND(SUM(AH6:AI6)/2,-1) -> 57000 | AM6: =(AL6-AK6)/AK6 -> -0.0086956522 | AN6: 54900 | AO6: 49900 | AP6: =(AO6-AN6)/AN6 -> -0.091074681 | AQ6: 61900 | AR6: =ROUND(SUM(AN6:AO6)/2,-1) -> 52400 | AS6: =(AR6-AQ6)/AQ6 -> -0.15347334
A7: 2 | B7: 무 | C7: 1.0㎏ 1개 | D7: 2480 | E7: 2500 | F7: =(E7-D7)/D7 -> 0.0080645161 | G7: 1650 | H7: =ROUND(SUM(D7:E7)/2,-1) -> 2490 | I7: =(H7-G7)/G7 -> 0.50909091 | J7: 3500 | K7: 3500 | L7: =(K7-J7)/J7 -> 0 | M7: 2000 | N7: =ROUND(SUM(J7:K7)/2,-1) -> 3500 | O7: =(N7-M7)/M7 -> 0.75 | P7: 2500 | Q7: 3000 | R7: =(Q7-P7)/P7 -> 0.2 | S7: 1500 | T7: =ROUND(SUM(P7:Q7)/2,-1) -> 2750 | U7: =(T7-S7)/S7 -> 0.83333333 | V7: 2500 | W7: 2500 | X7: =(W7-V7)/V7 -> 0 | Y7: 2100 | Z7: =ROUND(SUM(V7:W7)/2,-1) -> 2500 | AA7: =(Z7-Y7)/Y7 -> 0.19047619 | AB7: 3000 | AC7: 3000 | AD7: =(AC7-AB7)/AB7 -> 0 | AE7: 1500 | AF7: =ROUND(SUM(AB7:AC7)/2,-1) -> 3000 | AG7: =(AF7-AE7)/AE7 -> 1 | AH7: 3400 | AI7: 3600 | AJ7: =(AI7-AH7)/AH7 -> 0.058823529 | AK7: 2050 | AL7: =ROUND(SUM(AH7:AI7)/2,-1) -> 3500 | AM7: =(AL7-AK7)/AK7 -> 0.70731707 | AN7: 3490 | AO7: 3100 | AP7: =(AO7-AN7)/AN7 -> -0.11174785 | AQ7: 2190 | AR7: =ROUND(SUM(AN7:AO7)/2,-1) -> 3300 | AS7: =(AR7-AQ7)/AQ7 -> 0.50684932
A8: 3 | B8: 배추 | C8: 2.0㎏ 1포기 | D8: 3000 | E8: 3000 | F8: =(E8-D8)/D8 -> 0 | G8: 6800 | H8: =ROUND(SUM(D8:E8)/2,-1) -> 3000 | I8: =(H8-G8)/G8 -> -0.55882353 | J8: 3000 | K8: 2500 | L8: =(K8-J8)/J8 -> -0.16666667 | M8: 0 | N8: =ROUND(SUM(J8:K8)/2,-1) -> 2750 | O8: =(N8-M8)/M8 -> #DIV/0! | R8: =(Q8-P8)/P8 -> #DIV/0! | S8: 0 | T8: =ROUND(SUM(P8:Q8)/2,-1) -> 0 | U8: =(T8-S8)/S8 -> #DIV/0! | V8: 0 | W8: 3000 | X8: =(W8-V8)/V8 -> #DIV/0! | Y8: 0 | Z8: =ROUND(SUM(V8:W8)/2,-1) -> 1500 | AA8: =(Z8-Y8)/Y8 -> #DIV/0! | AB8: 5500 | AC8: 4000 | AD8: =(AC8-AB8)/AB8 -> -0.27272727 | AE8: 4500 | AF8: =ROUND(SUM(AB8:AC8)/2,-1) -> 4750 | AG8: =(AF8-AE8)/AE8 -> 0.055555556 | AH8: 7000 | AI8: 3300 | AJ8: =(AI8-AH8)/AH8 -> -0.52857143 | AK8: 0 | AL8: =ROUND(SUM(AH8:AI8)/2,-1) -> 5150 | AM8: =(AL8-AK8)/AK8 -> #DIV/0! | AN8: 4990 | AO8: 2450 | AP8: =(AO8-AN8)/AN8 -> -0.50901804 | AQ8: 0 | AR8: =ROUND(SUM(AN8:AO8)/2,-1) -> 3720 | AS8: =(AR8-AQ8)/AQ8 -> #DIV/0!
A9: 4 | B9: 상추 | C9: 100g | D9: 830 | E9: 830 | F9: =(E9-D9)/D9 -> 0 | G9: 650 | H9: =ROUND(SUM(D9:E9)/2,-1) -> 830 | I9: =(H9-G9)/G9 -> 0.27692308 | J9: 980 | K9: 980 | L9: =(K9-J9)/J9 -> 0 | M9: 780 | N9: =ROUND(SUM(J9:K9)/2,-1) -> 980 | O9: =(N9-M9)/M9 -> 0.25641026 | P9: 2900 | Q9: 1500 | R9: =(Q9-P9)/P9 -> -0.48275862 | S9: 1100 | T9: =ROUND(SUM(P9:Q9)/2,-1) -> 2200 | U9: =(T9-S9)/S9 -> 1 | V9: 2500 | W9: 2500 | X9: =(W9-V9)/V9 -> 0 | Y9: 1500 | Z9: =ROUND(SUM(V9:W9)/2,-1) -> 2500 | AA9: =(Z9-Y9)/Y9 -> 0.66666667 | AB9: 1320 | AC9: 1000 | AD9: =(AC9-AB9)/AB9 -> -0.24242424 | AE9: 1000 | AF9: =ROUND(SUM(AB9:AC9)/2,-1) -> 1160 | AG9: =(AF9-AE9)/AE9 -> 0.16 | AH9: 1600 | AI9: 1000 | AJ9: =(AI9-AH9)/AH9 -> -0.375 | AK9: 950 | AL9: =ROUND(SUM(AH9:AI9)/2,-1) -> 1300 | AM9: =(AL9-AK9)/AK9 -> 0.36842105 | AN9: 2400 | AO9: 2000 | AP9: =(AO9-AN9)/AN9 -> -0.16666667 | AQ9: 1000 | AR9: =ROUND(SUM(AN9:AO9)/2,-1) -> 2200 | AS9: =(AR9-AQ9)/AQ9 -> 1.2
A10: 5 | B10: 양파 | C10: 1㎏-잎없는것 | D10: 2480 | E10: 2480 | F10: =(E10-D10)/D10 -> 0 | G10: 3800 | H10: =ROUND(SUM(D10:E10)/2,-1) -> 2480 | I10: =(H10-G10)/G10 -> -0.34736842 | J10: 1840 | K10: 2000 | L10: =(K10-J10)/J10 -> 0.086956522 | M10: 3000 | N10: =ROUND(SUM(J10:K10)/2,-1) -> 1920 | O10: =(N10-M10)/M10 -> -0.36 | P10: 2800 | Q10: 2500 | R10: =(Q10-P10)/P10 -> -0.10714286 | S10: 3300 | T10: =ROUND(SUM(P10:Q10)/2,-1) -> 2650 | U10: =(T10-S10)/S10 -> -0.1969697 | V10: 3490 | W10: 3490 | X10: =(W10-V10)/V10 -> 0 | Y10: 3490 | Z10: =ROUND(SUM(V10:W10)/2,-1) -> 3490 | AA10: =(Z10-Y10)/Y10 -> 0 | AB10: 1980 | AC10: 1980 | AD10: =(AC10-AB10)/AB10 -> 0 | AE10: 2240 | AF10: =ROUND(SUM(AB10:AC10)/2,-1) -> 1980 | AG10: =(AF10-AE10)/AE10 -> -0.11607143 | AH10: 2800 | AI10: 3000 | AJ10: =(AI10-AH10)/AH10 -> 0.071428571 | AK10: 2600 | AL10: =ROUND(SUM(AH10:AI10)/2,-1) -> 2900 | AM10: =(AL10-AK10)/AK10 -> 0.11538462 | AN10: 3990 | AO10: 3300 | AP10: =(AO10-AN10)/AN10 -> -0.17293233 | AQ10: 2880 | AR10: =ROUND(SUM(AN10:AO10)/2,-1) -> 3650 | AS10: =(AR10-AQ10)/AQ10 -> 0.26736111
A11: 6 | B11: 대파 | C11: 1.0㎏(흙대파) | D11: 2480 | E11: 2480 | F11: =(E11-D11)/D11 -> 0 | G11: 3500 | H11: =ROUND(SUM(D11:E11)/2,-1) -> 2480 | I11: =(H11-G11)/G11 -> -0.29142857 | J11: 2000 | K11: 2000 | L11: =(K11-J11)/J11 -> 0 | M11: 2640 | N11: =ROUND(SUM(J11:K11)/2,-1) -> 2000 | O11: =(N11-M11)/M11 -> -0.24242424 | P11: 4800 | Q11: 3000 | R11: =(Q11-P11)/P11 -> -0.375 | S11: 0 | T11: =ROUND(SUM(P11:Q11)/2,-1) -> 3900 | U11: =(T11-S11)/S11 -> #DIV/0! | V11: 5000 | W11: 5000 | X11: =(W11-V11)/V11 -> 0 | Y11: 4000 | Z11: =ROUND(SUM(V11:W11)/2,-1) -> 5000 | AA11: =(Z11-Y11)/Y11 -> 0.25 | AB11: 5000 | AC11: 3000 | AD11: =(AC11-AB11)/AB11 -> -0.4 | AE11: 2750 | AF11: =ROUND(SUM(AB11:AC11)/2,-1) -> 4000 | AG11: =(AF11-AE11)/AE11 -> 0.45454545 | AH11: 5600 | AI11: 5600 | AJ11: =(AI11-AH11)/AH11 -> 0 | AK11: 3100 | AL11: =ROUND(SUM(AH11:AI11)/2,-1) -> 5600 | AM11: =(AL11-AK11)/AK11 -> 0.80645161 | AN11: 4990 | AO11: 4700 | AP11: =(AO11-AN11)/AN11 -> -0.058116232 | AQ11: 3560 | AR11: =ROUND(SUM(AN11:AO11)/2,-1) -> 4850 | AS11: =(AR11-AQ11)/AQ11 -> 0.36235955
A12: 7 | B12: 콩나물 | C12: 300g 봉지 | D12: 1500 | E12: 1500 | F12: =(E12-D12)/D12 -> 0 | G12: 1500 | H12: =ROUND(SUM(D12:E12)/2,-1) -> 1500 | I12: =(H12-G12)/G12 -> 0 | J12: 1550 | K12: 1550 | L12: =(K12-J12)/J12 -> 0 | M12: 850 | N12: =ROUND(SUM(J12:K12)/2,-1) -> 1550 | O12: =(N12-M12)/M12 -> 0.82352941 | P12: 1500 | Q12: 1500 | R12: =(Q12-P12)/P12 -> 0 | S12: 1500 | T12: =ROUND(SUM(P12:Q12)/2,-1) -> 1500 | U12: =(T12-S12)/S12 -> 0 | V12: 1500 | W12: 1500 | X12: =(W12-V12)/V12 -> 0 | Y12: 1500 | Z12: =ROUND(SUM(V12:W12)/2,-1) -> 1500 | AA12: =(Z12-Y12)/Y12 -> 0 | AB12: 1500 | AC12: 1500 | AD12: =(AC12-AB12)/AB12 -> 0 | AE12: 1500 | AF12: =ROUND(SUM(AB12:AC12)/2,-1) -> 1500 | AG12: =(AF12-AE12)/AE12 -> 0 | AH12: 1380 | AI12: 1380 | AJ12: =(AI12-AH12)/AH12 -> 0 | AK12: 1380 | AL12: =ROUND(SUM(AH12:AI12)/2,-1) -> 1380 | AM12: =(AL12-AK12)/AK12 -> 0 | AN12: 1220 | AO12: 1220 | AP12: =(AO12-AN12)/AN12 -> 0 | AQ12: 1490 | AR12: =ROUND(SUM(AN12:AO12)/2,-1) -> 1220 | AS12: =(AR12-AQ12)/AQ12 -> -0.18120805
A13: 8 | B13: 오이 | C13: 1개 | D13: 1350 | E13: 1350 | F13: =(E13-D13)/D13 -> 0 | G13: 610 | H13: =ROUND(SUM(D13:E13)/2,-1) -> 1350 | I13: =(H13-G13)/G13 -> 1.2131148 | J13: 1750 | K13: 1250 | L13: =(K13-J13)/J13 -> -0.28571429 | M13: 990 | N13: =ROUND(SUM(J13:K13)/2,-1) -> 1500 | O13: =(N13-M13)/M13 -> 0.51515152 | P13: 1750 | Q13: 1700 | R13: =(Q13-P13)/P13 -> -0.028571429 | S13: 1350 | T13: =ROUND(SUM(P13:Q13)/2,-1) -> 1730 | U13: =(T13-S13)/S13 -> 0.28148148 | V13: 2000 | W13: 2000 | X13: =(W13-V13)/V13 -> 0 | Y13: 1250 | Z13: =ROUND(SUM(V13:W13)/2,-1) -> 2000 | AA13: =(Z13-Y13)/Y13 -> 0.6 | AB13: 1500 | AC13: 1500 | AD13: =(AC13-AB13)/AB13 -> 0 | AE13: 870 | AF13: =ROUND(SUM(AB13:AC13)/2,-1) -> 1500 | AG13: =(AF13-AE13)/AE13 -> 0.72413793 | AH13: 1700 | AI13: 1500 | AJ13: =(AI13-AH13)/AH13 -> -0.11764706 | AK13: 700 | AL13: =ROUND(SUM(AH13:AI13)/2,-1) -> 1600 | AM13: =(AL13-AK13)/AK13 -> 1.2857143 | AN13: 1200 | AO13: 1990 | AP13: =(AO13-AN13)/AN13 -> 0.65833333 | AQ13: 1410 | AR13: =ROUND(SUM(AN13:AO13)/2,-1) -> 1600 | AS13: =(AR13-AQ13)/AQ13 -> 0.13475177
A14: 9 | B14: 토마토 | C14: 100g | D14: 390 | E14: 390 | F14: =(E14-D14)/D14 -> 0 | G14: 960 | H14: =ROUND(SUM(D14:E14)/2,-1) -> 390 | I14: =(H14-G14)/G14 -> -0.59375 | J14: 640 | K14: 700 | L14: =(K14-J14)/J14 -> 0.09375 | M14: 680 | N14: =ROUND(SUM(J14:K14)/2,-1) -> 670 | O14: =(N14-M14)/M14 -> -0.014705882 | P14: 700 | Q14: 700 | R14: =(Q14-P14)/P14 -> 0 | S14: 600 | T14: =ROUND(SUM(P14:Q14)/2,-1) -> 700 | U14: =(T14-S14)/S14 -> 0.16666667 | V14: 990 | W14: 800 | X14: =(W14-V14)/V14 -> -0.19191919 | Y14: 750 | Z14: =ROUND(SUM(V14:W14)/2,-1) -> 900 | AA14: =(Z14-Y14)/Y14 -> 0.2 | AB14: 990 | AC14: 900 | AD14: =(AC14-AB14)/AB14 -> -0.090909091 | AE14: 900 | AF14: =ROUND(SUM(AB14:AC14)/2,-1) -> 950 | AG14: =(AF14-AE14)/AE14 -> 0.055555556 | AH14: 835 | AI14: 975 | AJ14: =(AI14-AH14)/AH14 -> 0.16766467 | AK14: 600 | AL14: =ROUND(SUM(AH14:AI14)/2,-1) -> 910 | AM14: =(AL14-AK14)/AK14 -> 0.51666667 | AN14: 1100 | AO14: 1000 | AP14: =(AO14-AN14)/AN14 -> -0.090909091 | AQ14: 740 | AR14: =ROUND(SUM(AN14:AO14)/2,-1) -> 1050 | AS14: =(AR14-AQ14)/AQ14 -> 0.41891892
A15: 10 | B15: 사과 | C15: 2개(상품) | D15: 5200 | E15: 5200 | F15: =(E15-D15)/D15 -> 0 | G15: 13600 | H15: =ROUND(SUM(D15:E15)/2,-1) -> 5200 | I15: =(H15-G15)/G15 -> -0.61764706 | J15: 7400 | K15: 4000 | L15: =(K15-J15)/J15 -> -0.45945946 | M15: 7820 | N15: =ROUND(SUM(J15:K15)/2,-1) -> 5700 | O15: =(N15-M15)/M15 -> -0.27109974 | P15: 11000 | Q15: 6400 | R15: =(Q15-P15)/P15 -> -0.41818182 | S15: 13500 | T15: =ROUND(SUM(P15:Q15)/2,-1) -> 8700 | U15: =(T15-S15)/S15 -> -0.35555556 | V15: 13900 | W15: 9200 | X15: =(W15-V15)/V15 -> -0.3381295 | Y15: 12900 | Z15: =ROUND(SUM(V15:W15)/2,-1) -> 11550 | AA15: =(Z15-Y15)/Y15 -> -0.10465116 | AB15: 11000 | AC15: 11000 | AD15: =(AC15-AB15)/AB15 -> 0 | AE15: 10600 | AF15: =ROUND(SUM(AB15:AC15)/2,-1) -> 11000 | AG15: =(AF15-AE15)/AE15 -> 0.037735849 | AH15: 8000 | AI15: 8600 | AJ15: =(AI15-AH15)/AH15 -> 0.075 | AK15: 10000 | AL15: =ROUND(SUM(AH15:AI15)/2,-1) -> 8300 | AM15: =(AL15-AK15)/AK15 -> -0.17 | AN15: 7500 | AO15: 6000 | AP15: =(AO15-AN15)/AN15 -> -0.2 | AQ15: 8200 | AR15: =ROUND(SUM(AN15:AO15)/2,-1) -> 6750 | AS15: =(AR15-AQ15)/AQ15 -> -0.17682927
A16: 11 | B16: 배 | C16: 2개(상품) | D16: 7600 | E16: 7600 | F16: =(E16-D16)/D16 -> 0 | G16: 16900 | H16: =ROUND(SUM(D16:E16)/2,-1) -> 7600 | I16: =(H16-G16)/G16 -> -0.55029586 | J16: 7800 | L16: =(K16-J16)/J16 -> -1 | M16: 13300 | N16: =ROUND(SUM(J16:K16)/2,-1) -> 3900 | O16: =(N16-M16)/M16 -> -0.70676692 | P16: 12000 | Q16: 12000 | R16: =(Q16-P16)/P16 -> 0 | S16: 16000 | T16: =ROUND(SUM(P16:Q16)/2,-1) -> 12000 | U16: =(T16-S16)/S16 -> -0.25 | V16: 14900 | W16: 14900 | X16: =(W16-V16)/V16 -> 0 | Y16: 9850 | Z16: =ROUND(SUM(V16:W16)/2,-1) -> 14900 | AA16: =(Z16-Y16)/Y16 -> 0.51269036 | AB16: 11500 | AC16: 12000 | AD16: =(AC16-AB16)/AB16 -> 0.043478261 | AE16: 13800 | AF16: =ROUND(SUM(AB16:AC16)/2,-1) -> 11750 | AG16: =(AF16-AE16)/AE16 -> -0.14855072 | AH16: 11000 | AI16: 12000 | AJ16: =(AI16-AH16)/AH16 -> 0.090909091 | AK16: 15500 | AL16: =ROUND(SUM(AH16:AI16)/2,-1) -> 11500 | AM16: =(AL16-AK16)/AK16 -> -0.25806452 | AN16: 9320 | AO16: 8660 | AP16: =(AO16-AN16)/AN16 -> -0.070815451 | AQ16: 15300 | AR16: =ROUND(SUM(AN16:AO16)/2,-1) -> 8990 | AS16: =(AR16-AQ16)/AQ16 -> -0.4124183
A17: 12 | B17: 감귤류 | C17: 10kg | D17: 23600 | E17: 25000 | F17: =(E17-D17)/D17 -> 0.059322034 | G17: 0 | H17: =ROUND(SUM(D17:E17)/2,-1) -> 24300 | I17: =(H17-G17)/G17 -> #DIV/0! | J17: 15000 | K17: 30000 | L17: =(K17-J17)/J17 -> 1 | M17: 0 | N17: =ROUND(SUM(J17:K17)/2,-1) -> 22500 | O17: =(N17-M17)/M17 -> #DIV/0! | Q17: 22000 | R17: =(Q17-P17)/P17 -> #DIV/0! | S17: 0 | T17: =ROUND(SUM(P17:Q17)/2,-1) -> 11000 | U17: =(T17-S17)/S17 -> #DIV/0! | V17: 23800 | W17: 40000 | X17: =(W17-V17)/V17 -> 0.68067227 | Y17: 0 | Z17: =ROUND(SUM(V17:W17)/2,-1) -> 31900 | AA17: =(Z17-Y17)/Y17 -> #DIV/0! | AB17: 33600 | AC17: 33600 | AD17: =(AC17-AB17)/AB17 -> 0 | AE17: 0 | AF17: =ROUND(SUM(AB17:AC17)/2,-1) -> 33600 | AG17: =(AF17-AE17)/AE17 -> #DIV/0! | AH17: 33000 | AI17: 65000 | AJ17: =(AI17-AH17)/AH17 -> 0.96969697 | AK17: 0 | AL17: =ROUND(SUM(AH17:AI17)/2,-1) -> 49000 | AM17: =(AL17-AK17)/AK17 -> #DIV/0! | AN17: 30000 | AO17: 29000 | AP17: =(AO17-AN17)/AN17 -> -0.033333333 | AQ17: 0 | AR17: =ROUND(SUM(AN17:AO17)/2,-1) -> 29500 | AS17: =(AR17-AQ17)/AQ17 -> #DIV/0!
A18: 13 | B18: 쇠고기 | C18: 한우등심 1등급 100g | D18: 11800 | E18: 11800 | F18: =(E18-D18)/D18 -> 0 | G18: 9000 | H18: =ROUND(SUM(D18:E18)/2,-1) -> 11800 | I18: =(H18-G18)/G18 -> 0.31111111 | J18: 11500 | K18: 11500 | L18: =(K18-J18)/J18 -> 0 | M18: 11300 | N18: =ROUND(SUM(J18:K18)/2,-1) -> 11500 | O18: =(N18-M18)/M18 -> 0.017699115 | P18: 12000 | R18: =(Q18-P18)/P18 -> -1 | S18: 0 | T18: =ROUND(SUM(P18:Q18)/2,-1) -> 6000 | U18: =(T18-S18)/S18 -> #DIV/0! | V18: 11000 | W18: 11000 | X18: =(W18-V18)/V18 -> 0 | Y18: 0 | Z18: =ROUND(SUM(V18:W18)/2,-1) -> 11000 | AA18: =(Z18-Y18)/Y18 -> #DIV/0! | AB18: 11000 | AC18: 11000 | AD18: =(AC18-AB18)/AB18 -> 0 | AE18: 5000 | AF18: =ROUND(SUM(AB18:AC18)/2,-1) -> 11000 | AG18: =(AF18-AE18)/AE18 -> 1.2 | AH18: 8000 | AI18: 6000 | AJ18: =(AI18-AH18)/AH18 -> -0.25 | AK18: 7750 | AL18: =ROUND(SUM(AH18:AI18)/2,-1) -> 7000 | AM18: =(AL18-AK18)/AK18 -> -0.096774194 | AN18: 19980 | AO18: 23000 | AP18: =(AO18-AN18)/AN18 -> 0.15115115 | AQ18: 15500 | AR18: =ROUND(SUM(AN18:AO18)/2,-1) -> 21490 | AS18: =(AR18-AQ18)/AQ18 -> 0.38645161
A19: 14 | B19: 돼지고기 | C19: 삼겹살 100g | D19: 2500 | E19: 2500 | F19: =(E19-D19)/D19 -> 0 | G19: 2350 | H19: =ROUND(SUM(D19:E19)/2,-1) -> 2500 | I19: =(H19-G19)/G19 -> 0.063829787 | J19: 1800 | K19: 2380 | L19: =(K19-J19)/J19 -> 0.32222222 | M19: 2120 | N19: =ROUND(SUM(J19:K19)/2,-1) -> 2090 | O19: =(N19-M19)/M19 -> -0.014150943 | P19: 2650 | Q19: 2650 | R19: =(Q19-P19)/P19 -> 0 | S19: 0 | T19: =ROUND(SUM(P19:Q19)/2,-1) -> 2650 | U19: =(T19-S19)/S19 -> #DIV/0! | V19: 2300 | W19: 2500 | X19: =(W19-V19)/V19 -> 0.086956522 | Y19: 2200 | Z19: =ROUND(SUM(V19:W19)/2,-1) -> 2400 | AA19: =(Z19-Y19)/Y19 -> 0.090909091 | AB19: 2650 | AC19: 2650 | AD19: =(AC19-AB19)/AB19 -> 0 | AE19: 2730 | AF19: =ROUND(SUM(AB19:AC19)/2,-1) -> 2650 | AG19: =(AF19-AE19)/AE19 -> -0.029304029 | AH19: 2000 | AI19: 2000 | AJ19: =(AI19-AH19)/AH19 -> 0 | AK19: 2130 | AL19: =ROUND(SUM(AH19:AI19)/2,-1) -> 2000 | AM19: =(AL19-AK19)/AK19 -> -0.061032864 | AN19: 2890 | AO19: 2400 | AP19: =(AO19-AN19)/AN19 -> -0.16955017 | AQ19: 3050 | AR19: =ROUND(SUM(AN19:AO19)/2,-1) -> 2650 | AS19: =(AR19-AQ19)/AQ19 -> -0.13114754
A20: 15 | B20: 닭고기 | C20: 육계 1.0㎏ | D20: 5400 | E20: 5400 | F20: =(E20-D20)/D20 -> 0 | G20: 5400 | H20: =ROUND(SUM(D20:E20)/2,-1) -> 5400 | I20: =(H20-G20)/G20 -> 0 | J20: 5900 | K20: 5900 | L20: =(K20-J20)/J20 -> 0 | M20: 5900 | N20: =ROUND(SUM(J20:K20)/2,-1) -> 5900 | O20: =(N20-M20)/M20 -> 0 | P20: 5900 | R20: =(Q20-P20)/P20 -> -1 | S20: 0 | T20: =ROUND(SUM(P20:Q20)/2,-1) -> 2950 | U20: =(T20-S20)/S20 -> #DIV/0! | V20: 6500 | W20: 6500 | X20: =(W20-V20)/V20 -> 0 | Y20: 6500 | Z20: =ROUND(SUM(V20:W20)/2,-1) -> 6500 | AA20: =(Z20-Y20)/Y20 -> 0 | AB20: 7900 | AC20: 7900 | AD20: =(AC20-AB20)/AB20 -> 0 | AE20: 7900 | AF20: =ROUND(SUM(AB20:AC20)/2,-1) -> 7900 | AG20: =(AF20-AE20)/AE20 -> 0 | AH20: 7200 | AI20: 7200 | AJ20: =(AI20-AH20)/AH20 -> 0 | AK20: 7080 | AL20: =ROUND(SUM(AH20:AI20)/2,-1) -> 7200 | AM20: =(AL20-AK20)/AK20 -> 0.016949153 | AN20: 11000 | AO20: 11000 | AP20: =(AO20-AN20)/AN20 -> 0 | AQ20: 10000 | AR20: =ROUND(SUM(AN20:AO20)/2,-1) -> 11000 | AS20: =(AR20-AQ20)/AQ20 -> 0.1
A21: 16 | B21: 달걀 | C21: 신선란 또는 대란60g정도 한판 | D21: 6500 | E21: 6500 | F21: =(E21-D21)/D21 -> 0 | G21: 6400 | H21: =ROUND(SUM(D21:E21)/2,-1) -> 6500 | I21: =(H21-G21)/G21 -> 0.015625 | J21: 7280 | K21: 7280 | L21: =(K21-J21)/J21 -> 0 | M21: 7280 | N21: =ROUND(SUM(J21:K21)/2,-1) -> 7280 | O21: =(N21-M21)/M21 -> 0 | P21: 7800 | Q21: 7800 | R21: =(Q21-P21)/P21 -> 0 | S21: 7800 | T21: =ROUND(SUM(P21:Q21)/2,-1) -> 7800 | U21: =(T21-S21)/S21 -> 0 | V21: 6950 | W21: 6950 | X21: =(W21-V21)/V21 -> 0 | Y21: 7200 | Z21: =ROUND(SUM(V21:W21)/2,-1) -> 6950 | AA21: =(Z21-Y21)/Y21 -> -0.034722222 | AB21: 7500 | AC21: 7500 | AD21: =(AC21-AB21)/AB21 -> 0 | AE21: 7500 | AF21: =ROUND(SUM(AB21:AC21)/2,-1) -> 7500 | AG21: =(AF21-AE21)/AE21 -> 0 | AH21: 7480 | AI21: 7480 | AJ21: =(AI21-AH21)/AH21 -> 0 | AK21: 7080 | AL21: =ROUND(SUM(AH21:AI21)/2,-1) -> 7480 | AM21: =(AL21-AK21)/AK21 -> 0.056497175 | AN21: 6990 | AO21: 6990 | AP21: =(AO21-AN21)/AN21 -> 0 | AQ21: 6740 | AR21: =ROUND(SUM(AN21:AO21)/2,-1) -> 6990 | AS21: =(AR21-AQ21)/AQ21 -> 0.037091988
A22: 17 | B22: 갈치 | C22: 1마리 | F22: =(E22-D22)/D22 -> #DIV/0! | G22: 0 | H22: =ROUND(SUM(D22:E22)/2,-1) -> 0 | I22: =(H22-G22)/G22 -> #DIV/0! | J22: 15900 | K22: 15900 | L22: =(K22-J22)/J22 -> 0 | M22: 12900 | N22: =ROUND(SUM(J22:K22)/2,-1) -> 15900 | O22: =(N22-M22)/M22 -> 0.23255814 | P22: 11500 | Q22: 11500 | R22: =(Q22-P22)/P22 -> 0 | S22: 11500 | T22: =ROUND(SUM(P22:Q22)/2,-1) -> 11500 | U22: =(T22-S22)/S22 -> 0 | V22: 13000 | W22: 13000 | X22: =(W22-V22)/V22 -> 0 | Y22: 12000 | Z22: =ROUND(SUM(V22:W22)/2,-1) -> 13000 | AA22: =(Z22-Y22)/Y22 -> 0.083333333 | AB22: 15800 | AC22: 15800 | AD22: =(AC22-AB22)/AB22 -> 0 | AE22: 15000 | AF22: =ROUND(SUM(AB22:AC22)/2,-1) -> 15800 | AG22: =(AF22-AE22)/AE22 -> 0.053333333 | AH22: 16800 | AI22: 16800 | AJ22: =(AI22-AH22)/AH22 -> 0 | AK22: 16800 | AL22: =ROUND(SUM(AH22:AI22)/2,-1) -> 16800 | AM22: =(AL22-AK22)/AK22 -> 0 | AN22: 6640 | AO22: 12720 | AP22: =(AO22-AN22)/AN22 -> 0.91566265 | AQ22: 7300 | AR22: =ROUND(SUM(AN22:AO22)/2,-1) -> 9680 | AS22: =(AR22-AQ22)/AQ22 -> 0.3260274
A23: 18 | B23: 명태 | C23: 1마리 | F23: =(E23-D23)/D23 -> #DIV/0! | G23: 0 | H23: =ROUND(SUM(D23:E23)/2,-1) -> 0 | I23: =(H23-G23)/G23 -> #DIV/0! | J23: 3900 | K23: 4900 | L23: =(K23-J23)/J23 -> 0.25641026 | M23: 3900 | N23: =ROUND(SUM(J23:K23)/2,-1) -> 4400 | O23: =(N23-M23)/M23 -> 0.12820513 | P23: 5700 | Q23: 5700 | R23: =(Q23-P23)/P23 -> 0 | S23: 5700 | T23: =ROUND(SUM(P23:Q23)/2,-1) -> 5700 | U23: =(T23-S23)/S23 -> 0 | V23: 6000 | W23: 5500 | X23: =(W23-V23)/V23 -> -0.083333333 | Y23: 6000 | Z23: =ROUND(SUM(V23:W23)/2,-1) -> 5750 | AA23: =(Z23-Y23)/Y23 -> -0.041666667 | AB23: 3400 | AC23: 3400 | AD23: =(AC23-AB23)/AB23 -> 0 | AE23: 3400 | AF23: =ROUND(SUM(AB23:AC23)/2,-1) -> 3400 | AG23: =(AF23-AE23)/AE23 -> 0 | AH23: 2980 | AI23: 3800 | AJ23: =(AI23-AH23)/AH23 -> 0.27516779 | AK23: 3390 | AL23: =ROUND(SUM(AH23:AI23)/2,-1) -> 3390 | AM23: =(AL23-AK23)/AK23 -> 0 | AN23: 4990 | AO23: 4500 | AP23: =(AO23-AN23)/AN23 -> -0.098196393 | AQ23: 2500 | AR23: =ROUND(SUM(AN23:AO23)/2,-1) -> 4750 | AS23: =(AR23-AQ23)/AQ23 -> 0.9
A24: 19 | B24: 조기 | C24: 10마리 | F24: =(E24-D24)/D24 -> #DIV/0! | G24: 0 | H24: =ROUND(SUM(D24:E24)/2,-1) -> 0 | I24: =(H24-G24)/G24 -> #DIV/0! | J24: 12900 | K24: 15900 | L24: =(K24-J24)/J24 -> 0.23255814 | M24: 21000 | N24: =ROUND(SUM(J24:K24)/2,-1) -> 14400 | O24: =(N24-M24)/M24 -> -0.31428571 | R24: =(Q24-P24)/P24 -> #DIV/0! | S24: 0 | T24: =ROUND(SUM(P24:Q24)/2,-1) -> 0 | U24: =(T24-S24)/S24 -> #DIV/0! | V24: 18000 | W24: 18000 | X24: =(W24-V24)/V24 -> 0 | Y24: 0 | Z24: =ROUND(SUM(V24:W24)/2,-1) -> 18000 | AA24: =(Z24-Y24)/Y24 -> #DIV/0! | AB24: 9900 | AC24: 9900 | AD24: =(AC24-AB24)/AB24 -> 0 | AE24: 13700 | AF24: =ROUND(SUM(AB24:AC24)/2,-1) -> 9900 | AG24: =(AF24-AE24)/AE24 -> -0.27737226 | AJ24: =(AI24-AH24)/AH24 -> #DIV/0! | AK24: 0 | AL24: =ROUND(SUM(AH24:AI24)/2,-1) -> 0 | AM24: =(AL24-AK24)/AK24 -> #DIV/0! | AN24: 34900 | AO24: 34900 | AP24: =(AO24-AN24)/AN24 -> 0 | AQ24: 0 | AR24: =ROUND(SUM(AN24:AO24)/2,-1) -> 34900 | AS24: =(AR24-AQ24)/AQ24 -> #DIV/0!
A25: 20 | B25: 고등어 | C25: 1마리 | F25: =(E25-D25)/D25 -> #DIV/0! | G25: 0 | H25: =ROUND(SUM(D25:E25)/2,-1) -> 0 | I25: =(H25-G25)/G25 -> #DIV/0! | J25: 4000 | K25: 4000 | L25: =(K25-J25)/J25 -> 0 | M25: 3400 | N25: =ROUND(SUM(J25:K25)/2,-1) -> 4000 | O25: =(N25-M25)/M25 -> 0.17647059 | P25: 2850 | Q25: 2850 | R25: =(Q25-P25)/P25 -> 0 | S25: 2850 | T25: =ROUND(SUM(P25:Q25)/2,-1) -> 2850 | U25: =(T25-S25)/S25 -> 0 | V25: 5500 | W25: 5500 | X25: =(W25-V25)/V25 -> 0 | Y25: 5500 | Z25: =ROUND(SUM(V25:W25)/2,-1) -> 5500 | AA25: =(Z25-Y25)/Y25 -> 0 | AB25: 4000 | AC25: 4000 | AD25: =(AC25-AB25)/AB25 -> 0 | AE25: 4250 | AF25: =ROUND(SUM(AB25:AC25)/2,-1) -> 4000 | AG25: =(AF25-AE25)/AE25 -> -0.058823529 | AH25: 5800 | AI25: 3600 | AJ25: =(AI25-AH25)/AH25 -> -0.37931034 | AK25: 3850 | AL25: =ROUND(SUM(AH25:AI25)/2,-1) -> 4700 | AM25: =(AL25-AK25)/AK25 -> 0.22077922 | AN25: 4000 | AO25: 4000 | AP25: =(AO25-AN25)/AN25 -> 0 | AQ25: 4500 | AR25: =ROUND(SUM(AN25:AO25)/2,-1) -> 4000 | AS25: =(AR25-AQ25)/AQ25 -> -0.11111111
A26: 21 | B26: 오징어 | C26: 2마리 | F26: =(E26-D26)/D26 -> #DIV/0! | G26: 0 | H26: =ROUND(SUM(D26:E26)/2,-1) -> 0 | I26: =(H26-G26)/G26 -> #DIV/0! | J26: 9900 | K26: 9900 | L26: =(K26-J26)/J26 -> 0 | M26: 16900 | N26: =ROUND(SUM(J26:K26)/2,-1) -> 9900 | O26: =(N26-M26)/M26 -> -0.41420118 | P26: 9900 | Q26: 16000 | R26: =(Q26-P26)/P26 -> 0.61616162 | S26: 9900 | T26: =ROUND(SUM(P26:Q26)/2,-1) -> 12950 | U26: =(T26-S26)/S26 -> 0.30808081 | V26: 16000 | W26: 18500 | X26: =(W26-V26)/V26 -> 0.15625 | Y26: 17000 | Z26: =ROUND(SUM(V26:W26)/2,-1) -> 17250 | AA26: =(Z26-Y26)/Y26 -> 0.014705882 | AB26: 10000 | AC26: 10000 | AD26: =(AC26-AB26)/AB26 -> 0 | AE26: 10000 | AF26: =ROUND(SUM(AB26:AC26)/2,-1) -> 10000 | AG26: =(AF26-AE26)/AE26 -> 0 | AH26: 13800 | AI26: 12500 | AJ26: =(AI26-AH26)/AH26 -> -0.094202899 | AK26: 12800 | AL26: =ROUND(SUM(AH26:AI26)/2,-1) -> 13150 | AM26: =(AL26-AK26)/AK26 -> 0.02734375 | AN26: 6600 | AO26: 5300 | AP26: =(AO26-AN26)/AN26 -> -0.1969697 | AQ26: 9000 | AR26: =ROUND(SUM(AN26:AO26)/2,-1) -> 5950 | AS26: =(AR26-AQ26)/AQ26 -> -0.33888889
A27: 22 | B27: 김 | C27: 1속 | D27: 16000 | E27: 16000 | F27: =(E27-D27)/D27 -> 0 | G27: 13400 | H27: =ROUND(SUM(D27:E27)/2,-1) -> 16000 | I27: =(H27-G27)/G27 -> 0.19402985 | J27: 19500 | K27: 19500 | L27: =(K27-J27)/J27 -> 0 | M27: 19500 | N27: =ROUND(SUM(J27:K27)/2,-1) -> 19500 | O27: =(N27-M27)/M27 -> 0 | P27: 9900 | Q27: 9900 | R27: =(Q27-P27)/P27 -> 0 | S27: 9900 | T27: =ROUND(SUM(P27:Q27)/2,-1) -> 9900 | U27: =(T27-S27)/S27 -> 0 | V27: 17500 | W27: 17500 | X27: =(W27-V27)/V27 -> 0 | Y27: 16500 | Z27: =ROUND(SUM(V27:W27)/2,-1) -> 17500 | AA27: =(Z27-Y27)/Y27 -> 0.060606061 | AB27: 14600 | AC27: 18000 | AD27: =(AC27-AB27)/AB27 -> 0.23287671 | AE27: 14600 | AF27: =ROUND(SUM(AB27:AC27)/2,-1) -> 16300 | AG27: =(AF27-AE27)/AE27 -> 0.11643836 | AH27: 16000 | AI27: 16000 | AJ27: =(AI27-AH27)/AH27 -> 0 | AK27: 14500 | AL27: =ROUND(SUM(AH27:AI27)/2,-1) -> 16000 | AM27: =(AL27-AK27)/AK27 -> 0.10344828 | AN27: 29800 | AO27: 29800 | AP27: =(AO27-AN27)/AN27 -> 0 | AQ27: 26000 | AR27: =ROUND(SUM(AN27:AO27)/2,-1) -> 29800 | AS27: =(AR27-AQ27)/AQ27 -> 0.14615385
A28: 23 | B28: 밀가루 | C28: 백설표 중력분1등2.5㎏ | D28: 3650 | E28: 3650 | F28: =(E28-D28)/D28 -> 0 | G28: 3600 | H28: =ROUND(SUM(D28:E28)/2,-1) -> 3650 | I28: =(H28-G28)/G28 -> 0.013888889 | J28: 3980 | K28: 3980 | L28: =(K28-J28)/J28 -> 0 | M28: 3980 | N28: =ROUND(SUM(J28:K28)/2,-1) -> 3980 | O28: =(N28-M28)/M28 -> 0 | P28: 5400 | Q28: 5400 | R28: =(Q28-P28)/P28 -> 0 | S28: 5400 | T28: =ROUND(SUM(P28:Q28)/2,-1) -> 5400 | U28: =(T28-S28)/S28 -> 0 | V28: 5500 | W28: 5500 | X28: =(W28-V28)/V28 -> 0 | Y28: 5500 | Z28: =ROUND(SUM(V28:W28)/2,-1) -> 5500 | AA28: =(Z28-Y28)/Y28 -> 0 | AB28: 4850 | AC28: 4850 | AD28: =(AC28-AB28)/AB28 -> 0 | AE28: 4850 | AF28: =ROUND(SUM(AB28:AC28)/2,-1) -> 4850 | AG28: =(AF28-AE28)/AE28 -> 0 | AH28: 4600 | AI28: 4600 | AJ28: =(AI28-AH28)/AH28 -> 0 | AK28: 4600 | AL28: =ROUND(SUM(AH28:AI28)/2,-1) -> 4600 | AM28: =(AL28-AK28)/AK28 -> 0 | AN28: 4420 | AO28: 4420 | AP28: =(AO28-AN28)/AN28 -> 0 | AQ28: 4420 | AR28: =ROUND(SUM(AN28:AO28)/2,-1) -> 4420 | AS28: =(AR28-AQ28)/AQ28 -> 0
A29: 24 | B29: 라면 | C29: 신라면 120g 5봉지1묶음 | D29: 3800 | E29: 3800 | F29: =(E29-D29)/D29 -> 0 | G29: 4200 | H29: =ROUND(SUM(D29:E29)/2,-1) -> 3800 | I29: =(H29-G29)/G29 -> -0.095238095 | J29: 3790 | K29: 3790 | L29: =(K29-J29)/J29 -> 0 | M29: 3980 | N29: =ROUND(SUM(J29:K29)/2,-1) -> 3790 | O29: =(N29-M29)/M29 -> -0.047738693 | P29: 4550 | Q29: 4550 | R29: =(Q29-P29)/P29 -> 0 | S29: 4550 | T29: =ROUND(SUM(P29:Q29)/2,-1) -> 4550 | U29: =(T29-S29)/S29 -> 0 | V29: 4500 | W29: 4500 | X29: =(W29-V29)/V29 -> 0 | Y29: 4500 | Z29: =ROUND(SUM(V29:W29)/2,-1) -> 4500 | AA29: =(Z29-Y29)/Y29 -> 0 | AB29: 3980 | AC29: 3980 | AD29: =(AC29-AB29)/AB29 -> 0 | AE29: 3980 | AF29: =ROUND(SUM(AB29:AC29)/2,-1) -> 3980 | AG29: =(AF29-AE29)/AE29 -> 0 | AH29: 3900 | AI29: 3900 | AJ29: =(AI29-AH29)/AH29 -> 0 | AK29: 3900 | AL29: =ROUND(SUM(AH29:AI29)/2,-1) -> 3900 | AM29: =(AL29-AK29)/AK29 -> 0 | AN29: 3900 | AO29: 3900 | AP29: =(AO29-AN29)/AN29 -> 0 | AQ29: 3900 | AR29: =ROUND(SUM(AN29:AO29)/2,-1) -> 3900 | AS29: =(AR29-AQ29)/AQ29 -> 0
A30: 25 | B30: 두부 | C30: 풀무원 1모 | D30: 1250 | E30: 1250 | F30: =(E30-D30)/D30 -> 0 | G30: 1000 | H30: =ROUND(SUM(D30:E30)/2,-1) -> 1250 | I30: =(H30-G30)/G30 -> 0.25 | J30: 1280 | K30: 1280 | L30: =(K30-J30)/J30 -> 0 | M30: 1380 | N30: =ROUND(SUM(J30:K30)/2,-1) -> 1280 | O30: =(N30-M30)/M30 -> -0.072463768 | P30: 1200 | Q30: 1200 | R30: =(Q30-P30)/P30 -> 0 | S30: 1200 | T30: =ROUND(SUM(P30:Q30)/2,-1) -> 1200 | U30: =(T30-S30)/S30 -> 0 | V30: 1200 | W30: 1200 | X30: =(W30-V30)/V30 -> 0 | Y30: 1150 | Z30: =ROUND(SUM(V30:W30)/2,-1) -> 1200 | AA30: =(Z30-Y30)/Y30 -> 0.043478261 | AB30: 1250 | AC30: 1250 | AD30: =(AC30-AB30)/AB30 -> 0 | AE30: 1250 | AF30: =ROUND(SUM(AB30:AC30)/2,-1) -> 1250 | AG30: =(AF30-AE30)/AE30 -> 0 | AH30: 1250 | AI30: 1250 | AJ30: =(AI30-AH30)/AH30 -> 0 | AK30: 1250 | AL30: =ROUND(SUM(AH30:AI30)/2,-1) -> 1250 | AM30: =(AL30-AK30)/AK30 -> 0 | AN30: 1590 | AO30: 1590 | AP30: =(AO30-AN30)/AN30 -> 0 | AQ30: 1590 | AR30: =ROUND(SUM(AN30:AO30)/2,-1) -> 1590 | AS30: =(AR30-AQ30)/AQ30 -> 0
A31: 26 | B31: 진간장 | C31: 샘표 860ml 1병 | D31: 5500 | E31: 5500 | F31: =(E31-D31)/D31 -> 0 | G31: 4280 | H31: =ROUND(SUM(D31:E31)/2,-1) -> 5500 | I31: =(H31-G31)/G31 -> 0.28504673 | J31: 4540 | K31: 4540 | L31: =(K31-J31)/J31 -> 0 | M31: 4200 | N31: =ROUND(SUM(J31:K31)/2,-1) -> 4540 | O31: =(N31-M31)/M31 -> 0.080952381 | P31: 4800 | Q31: 5150 | R31: =(Q31-P31)/P31 -> 0.072916667 | S31: 4800 | T31: =ROUND(SUM(P31:Q31)/2,-1) -> 4980 | U31: =(T31-S31)/S31 -> 0.0375 | V31: 5500 | W31: 5500 | X31: =(W31-V31)/V31 -> 0 | Y31: 5500 | Z31: =ROUND(SUM(V31:W31)/2,-1) -> 5500 | AA31: =(Z31-Y31)/Y31 -> 0 | AB31: 6000 | AC31: 6000 | AD31: =(AC31-AB31)/AB31 -> 0 | AE31: 6250 | AF31: =ROUND(SUM(AB31:AC31)/2,-1) -> 6000 | AG31: =(AF31-AE31)/AE31 -> -0.04 | AH31: 4750 | AI31: 4750 | AJ31: =(AI31-AH31)/AH31 -> 0 | AK31: 4410 | AL31: =ROUND(SUM(AH31:AI31)/2,-1) -> 4750 | AM31: =(AL31-AK31)/AK31 -> 0.077097506 | AN31: 4750 | AO31: 4750 | AP31: =(AO31-AN31)/AN31 -> 0 | AQ31: 4450 | AR31: =ROUND(SUM(AN31:AO31)/2,-1) -> 4750 | AS31: =(AR31-AQ31)/AQ31 -> 0.06741573
A32: 27 | B32: 설탕 | C32: 백설표 정백당 1㎏ | D32: 2400 | E32: 2400 | F32: =(E32-D32)/D32 -> 0 | G32: 2400 | H32: =ROUND(SUM(D32:E32)/2,-1) -> 2400 | I32: =(H32-G32)/G32 -> 0 | J32: 2580 | K32: 2580 | L32: =(K32-J32)/J32 -> 0 | M32: 2380 | N32: =ROUND(SUM(J32:K32)/2,-1) -> 2580 | O32: =(N32-M32)/M32 -> 0.084033613 | P32: 3100 | Q32: 3100 | R32: =(Q32-P32)/P32 -> 0 | S32: 3100 | T32: =ROUND(SUM(P32:Q32)/2,-1) -> 3100 | U32: =(T32-S32)/S32 -> 0 | V32: 3500 | W32: 3500 | X32: =(W32-V32)/V32 -> 0 | Y32: 3500 | Z32: =ROUND(SUM(V32:W32)/2,-1) -> 3500 | AA32: =(Z32-Y32)/Y32 -> 0 | AB32: 2850 | AC32: 2850 | AD32: =(AC32-AB32)/AB32 -> 0 | AE32: 2850 | AF32: =ROUND(SUM(AB32:AC32)/2,-1) -> 2850 | AG32: =(AF32-AE32)/AE32 -> 0 | AH32: 2380 | AI32: 2380 | AJ32: =(AI32-AH32)/AH32 -> 0 | AK32: 2380 | AL32: =ROUND(SUM(AH32:AI32)/2,-1) -> 2380 | AM32: =(AL32-AK32)/AK32 -> 0 | AN32: 2380 | AO32: 2380 | AP32: =(AO32-AN32)/AN32 -> 0 | AQ32: 2380 | AR32: =ROUND(SUM(AN32:AO32)/2,-1) -> 2380 | AS32: =(AR32-AQ32)/AQ32 -> 0
A33: 28 | B33: 식용유 | C33: 백설표 1.8ℓ 1병 | D33: 7900 | E33: 7900 | F33: =(E33-D33)/D33 -> 0 | G33: 9650 | H33: =ROUND(SUM(D33:E33)/2,-1) -> 7900 | I33: =(H33-G33)/G33 -> -0.18134715 | J33: 6980 | K33: 6980 | L33: =(K33-J33)/J33 -> 0 | M33: 9250 | N33: =ROUND(SUM(J33:K33)/2,-1) -> 6980 | O33: =(N33-M33)/M33 -> -0.24540541 | P33: 11000 | Q33: 11000 | R33: =(Q33-P33)/P33 -> 0 | S33: 11000 | T33: =ROUND(SUM(P33:Q33)/2,-1) -> 11000 | U33: =(T33-S33)/S33 -> 0 | V33: 9800 | W33: 9800 | X33: =(W33-V33)/V33 -> 0 | Y33: 7900 | Z33: =ROUND(SUM(V33:W33)/2,-1) -> 9800 | AA33: =(Z33-Y33)/Y33 -> 0.24050633 | AB33: 9900 | AC33: 9900 | AD33: =(AC33-AB33)/AB33 -> 0 | AE33: 9900 | AF33: =ROUND(SUM(AB33:AC33)/2,-1) -> 9900 | AG33: =(AF33-AE33)/AE33 -> 0 | AH33: 10800 | AI33: 10800 | AJ33: =(AI33-AH33)/AH33 -> 0 | AK33: 10800 | AL33: =ROUND(SUM(AH33:AI33)/2,-1) -> 10800 | AM33: =(AL33-AK33)/AK33 -> 0 | AN33: 10800 | AO33: 10800 | AP33: =(AO33-AN33)/AN33 -> 0 | AQ33: 10800 | AR33: =ROUND(SUM(AN33:AO33)/2,-1) -> 10800 | AS33: =(AR33-AQ33)/AQ33 -> 0
A34: 29 | B34: 참기름 | C34: 오뚜기 320㎖ 1병 | D34: 7500 | E34: 7500 | F34: =(E34-D34)/D34 -> 0 | G34: 7500 | H34: =ROUND(SUM(D34:E34)/2,-1) -> 7500 | I34: =(H34-G34)/G34 -> 0 | J34: 6480 | K34: 6480 | L34: =(K34-J34)/J34 -> 0 | M34: 7480 | N34: =ROUND(SUM(J34:K34)/2,-1) -> 6480 | O34: =(N34-M34)/M34 -> -0.13368984 | P34: 7950 | Q34: 7950 | R34: =(Q34-P34)/P34 -> 0 | S34: 7950 | T34: =ROUND(SUM(P34:Q34)/2,-1) -> 7950 | U34: =(T34-S34)/S34 -> 0 | V34: 8500 | W34: 8500 | X34: =(W34-V34)/V34 -> 0 | Y34: 8500 | Z34: =ROUND(SUM(V34:W34)/2,-1) -> 8500 | AA34: =(Z34-Y34)/Y34 -> 0 | AB34: 5900 | AC34: 5900 | AD34: =(AC34-AB34)/AB34 -> 0 | AE34: 5900 | AF34: =ROUND(SUM(AB34:AC34)/2,-1) -> 5900 | AG34: =(AF34-AE34)/AE34 -> 0 | AH34: 9780 | AI34: 9780 | AJ34: =(AI34-AH34)/AH34 -> 0 | AK34: 7580 | AL34: =ROUND(SUM(AH34:AI34)/2,-1) -> 9780 | AM34: =(AL34-AK34)/AK34 -> 0.29023747 | AN34: 9780 | AO34: 9780 | AP34: =(AO34-AN34)/AN34 -> 0 | AQ34: 8680 | AR34: =ROUND(SUM(AN34:AO34)/2,-1) -> 9780 | AS34: =(AR34-AQ34)/AQ34 -> 0.12672811
A35: 30 | B35: 믹스커피 | C35: 맥심모카골드 믹스커피(100p) | D35: 15200 | E35: 15200 | F35: =(E35-D35)/D35 -> 0 | G35: 15200 | H35: =ROUND(SUM(D35:E35)/2,-1) -> 15200 | I35: =(H35-G35)/G35 -> 0 | J35: 16350 | K35: 16350 | L35: =(K35-J35)/J35 -> 0 | M35: 16380 | N35: =ROUND(SUM(J35:K35)/2,-1) -> 16350 | O35: =(N35-M35)/M35 -> -0.0018315018 | P35: 19500 | Q35: 19500 | R35: =(Q35-P35)/P35 -> 0 | S35: 19500 | T35: =ROUND(SUM(P35:Q35)/2,-1) -> 19500 | U35: =(T35-S35)/S35 -> 0 | V35: 19000 | W35: 19000 | X35: =(W35-V35)/V35 -> 0 | Y35: 19000 | Z35: =ROUND(SUM(V35:W35)/2,-1) -> 19000 | AA35: =(Z35-Y35)/Y35 -> 0 | AB35: 17700 | AC35: 17700 | AD35: =(AC35-AB35)/AB35 -> 0 | AE35: 18830 | AF35: =ROUND(SUM(AB35:AC35)/2,-1) -> 17700 | AG35: =(AF35-AE35)/AE35 -> -0.060010621 | AH35: 16330 | AI35: 16330 | AJ35: =(AI35-AH35)/AH35 -> 0 | AK35: 16330 | AL35: =ROUND(SUM(AH35:AI35)/2,-1) -> 16330 | AM35: =(AL35-AK35)/AK35 -> 0 | AN35: 16480 | AO35: 18050 | AP35: =(AO35-AN35)/AN35 -> 0.09526699 | AQ35: 16480 | AR35: =ROUND(SUM(AN35:AO35)/2,-1) -> 17270 | AS35: =(AR35-AQ35)/AQ35 -> 0.047936893
A36: 31 | B36: 우유 | C36: 서울우유 200㎖ 종이팩 | D36: 1200 | E36: 1200 | F36: =(E36-D36)/D36 -> 0 | G36: 1200 | H36: =ROUND(SUM(D36:E36)/2,-1) -> 1200 | I36: =(H36-G36)/G36 -> 0 | J36: 800 | K36: 800 | L36: =(K36-J36)/J36 -> 0 | M36: 750 | N36: =ROUND(SUM(J36:K36)/2,-1) -> 800 | O36: =(N36-M36)/M36 -> 0.066666667 | P36: 1200 | Q36: 1200 | R36: =(Q36-P36)/P36 -> 0 | S36: 1200 | T36: =ROUND(SUM(P36:Q36)/2,-1) -> 1200 | U36: =(T36-S36)/S36 -> 0 | V36: 1200 | W36: 1200 | X36: =(W36-V36)/V36 -> 0 | Y36: 1200 | Z36: =ROUND(SUM(V36:W36)/2,-1) -> 1200 | AA36: =(Z36-Y36)/Y36 -> 0 | AB36: 1200 | AC36: 1200 | AD36: =(AC36-AB36)/AB36 -> 0 | AE36: 1200 | AF36: =ROUND(SUM(AB36:AC36)/2,-1) -> 1200 | AG36: =(AF36-AE36)/AE36 -> 0 | AH36: 1080 | AI36: 1080 | AJ36: =(AI36-AH36)/AH36 -> 0 | AK36: 1080 | AL36: =ROUND(SUM(AH36:AI36)/2,-1) -> 1080 | AM36: =(AL36-AK36)/AK36 -> 0 | AN36: 1060 | AO36: 1060 | AP36: =(AO36-AN36)/AN36 -> 0 | AQ36: 1060 | AR36: =ROUND(SUM(AN36:AO36)/2,-1) -> 1060 | AS36: =(AR36-AQ36)/AQ36 -> 0
A37: 32 | B37: 소주 | C37: 참이슬 360㎖ 1병 | D37: 1350 | E37: 1350 | F37: =(E37-D37)/D37 -> 0 | G37: 1350 | H37: =ROUND(SUM(D37:E37)/2,-1) -> 1350 | I37: =(H37-G37)/G37 -> 0 | J37: 1490 | K37: 1490 | L37: =(K37-J37)/J37 -> 0 | M37: 1490 | N37: =ROUND(SUM(J37:K37)/2,-1) -> 1490 | O37: =(N37-M37)/M37 -> 0 | P37: 1500 | Q37: 1500 | R37: =(Q37-P37)/P37 -> 0 | S37: 1500 | T37: =ROUND(SUM(P37:Q37)/2,-1) -> 1500 | U37: =(T37-S37)/S37 -> 0 | V37: 1700 | W37: 1700 | X37: =(W37-V37)/V37 -> 0 | Y37: 1700 | Z37: =ROUND(SUM(V37:W37)/2,-1) -> 1700 | AA37: =(Z37-Y37)/Y37 -> 0 | AB37: 1700 | AC37: 1700 | AD37: =(AC37-AB37)/AB37 -> 0 | AE37: 1700 | AF37: =ROUND(SUM(AB37:AC37)/2,-1) -> 1700 | AG37: =(AF37-AE37)/AE37 -> 0 | AH37: 1480 | AI37: 1480 | AJ37: =(AI37-AH37)/AH37 -> 0 | AK37: 1480 | AL37: =ROUND(SUM(AH37:AI37)/2,-1) -> 1480 | AM37: =(AL37-AK37)/AK37 -> 0 | AN37: 1340 | AO37: 1340 | AP37: =(AO37-AN37)/AN37 -> 0 | AQ37: 1340 | AR37: =ROUND(SUM(AN37:AO37)/2,-1) -> 1340 | AS37: =(AR37-AQ37)/AQ37 -> 0
A38: 33 | B38: 맥주 | C38: 테라 500㎖ 1병 | D38: 1700 | E38: 1700 | F38: =(E38-D38)/D38 -> 0 | G38: 1700 | H38: =ROUND(SUM(D38:E38)/2,-1) -> 1700 | I38: =(H38-G38)/G38 -> 0 | J38: 1680 | K38: 1680 | L38: =(K38-J38)/J38 -> 0 | M38: 1690 | N38: =ROUND(SUM(J38:K38)/2,-1) -> 1680 | O38: =(N38-M38)/M38 -> -0.0059171598 | P38: 1850 | Q38: 1850 | R38: =(Q38-P38)/P38 -> 0 | S38: 1850 | T38: =ROUND(SUM(P38:Q38)/2,-1) -> 1850 | U38: =(T38-S38)/S38 -> 0 | V38: 1900 | W38: 1900 | X38: =(W38-V38)/V38 -> 0 | Y38: 1900 | Z38: =ROUND(SUM(V38:W38)/2,-1) -> 1900 | AA38: =(Z38-Y38)/Y38 -> 0 | AB38: 1900 | AC38: 1900 | AD38: =(AC38-AB38)/AB38 -> 0 | AE38: 1900 | AF38: =ROUND(SUM(AB38:AC38)/2,-1) -> 1900 | AG38: =(AF38-AE38)/AE38 -> 0 | AH38: 1670 | AI38: 1670 | AJ38: =(AI38-AH38)/AH38 -> 0 | AK38: 1670 | AL38: =ROUND(SUM(AH38:AI38)/2,-1) -> 1670 | AM38: =(AL38-AK38)/AK38 -> 0 | AN38: 1680 | AO38: 1650 | AP38: =(AO38-AN38)/AN38 -> -0.017857143 | AQ38: 1680 | AR38: =ROUND(SUM(AN38:AO38)/2,-1) -> 1670 | AS38: =(AR38-AQ38)/AQ38 -> -0.005952381
... A40: 35 | B40: 사이다 | C40: 칠성 PET병500㎖ | D40: 1750 | E40: 1750 | F40: =(E40-D40)/D40 -> 0 | G40: 850 | H40: =ROUND(SUM(D40:E40)/2,-1) -> 1750 | I40: =(H40-G40)/G40 -> 1.0588235 | J40: 1600 | K40: 1600 | L40: =(K40-J40)/J40 -> 0 | M40: 1600 | N40: =ROUND(SUM(J40:K40)/2,-1) -> 1600 | O40: =(N40-M40)/M40 -> 0 | P40: 1700 | Q40: 1700 | R40: =(Q40-P40)/P40 -> 0 | S40: 1700 | T40: =ROUND(SUM(P40:Q40)/2,-1) -> 1700 | U40: =(T40-S40)/S40 -> 0 | V40: 1800 | W40: 1800 | X40: =(W40-V40)/V40 -> 0 | Y40: 1800 | Z40: =ROUND(SUM(V40:W40)/2,-1) -> 1800 | AA40: =(Z40-Y40)/Y40 -> 0 | AB40: 1650 | AC40: 1650 | AD40: =(AC40-AB40)/AB40 -> 0 | AE40: 1650 | AF40: =ROUND(SUM(AB40:AC40)/2,-1) -> 1650 | AG40: =(AF40-AE40)/AE40 -> 0 | AH40: 1900 | AI40: 1900 | AJ40: =(AI40-AH40)/AH40 -> 0 | AK40: 1600 | AL40: =ROUND(SUM(AH40:AI40)/2,-1) -> 1900 | AM40: =(AL40-AK40)/AK40 -> 0.1875 | AN40: 1880 | AO40: 1880 | AP40: =(AO40-AN40)/AN40 -> 0 | AQ40: 1770 | AR40: =ROUND(SUM(AN40:AO40)/2,-1) -> 1880 | AS40: =(AR40-AQ40)/AQ40 -> 0.062146893

Sheet 샘고을시장
A1: □ 주요생필품 물가조사표(샘고을시장)
I2: (단위:원)
A3: 연번 | B3: 품목 | C3: 조사규격 및 단위 | D3: 샘고을시장
D4: 금월 가격 | G4: 평균가격
D5: 2주 | E5: 4주 | F5: 전주대비 증감율 | G5: 전월 | H5: 금월 | I5: 전월대비 증감율
A6: 1 | B6: 쌀 | C6: 일반미 20㎏ | D6: 55000 | E6: 55000 | F6: =(E6-D6)/D6 -> 0 | G6: 55000 | H6: =ROUND(SUM(D6:E6)/2,-1) -> 55000 | I6: =(H6-G6)/G6 -> 0
A7: 2 | B7: 무 | C7: 1.0㎏ 1개 | D7: 3000 | E7: 3000 | F7: =(E7-D7)/D7 -> 0 | G7: 3000 | H7: =ROUND(SUM(D7:E7)/2,-1) -> 3000 | I7: =(H7-G7)/G7 -> 0
A8: 3 | B8: 배추 | C8: 2.0㎏ 1포기 | D8: 3000 | E8: 3300 | F8: =(E8-D8)/D8 -> 0.1 | G8: 10000 | H8: =ROUND(SUM(D8:E8)/2,-1) -> 3150 | I8: =(H8-G8)/G8 -> -0.685
A9: 4 | B9: 상추 | C9: 100g | D9: 750 | E9: 700 | F9: =(E9-D9)/D9 -> -0.066666667 | G9: 1000 | H9: =ROUND(SUM(D9:E9)/2,-1) -> 730 | I9: =(H9-G9)/G9 -> -0.27
A10: 5 | B10: 양파 | C10: 1㎏-잎없는것 | D10: 3800 | E10: 3800 | F10: =(E10-D10)/D10 -> 0 | G10: 3000 | H10: =ROUND(SUM(D10:E10)/2,-1) -> 3800 | I10: =(H10-G10)/G10 -> 0.26666667
A11: 6 | B11: 대파 | C11: 1.0㎏(흙대파) | D11: 3000 | E11: 2500 | F11: =(E11-D11)/D11 -> -0.16666667 | G11: 4000 | H11: =ROUND(SUM(D11:E11)/2,-1) -> 2750 | I11: =(H11-G11)/G11 -> -0.3125
A12: 7 | B12: 콩나물 | C12: 300g 봉지 | D12: 1500 | E12: 1500 | F12: =(E12-D12)/D12 -> 0 | G12: 1500 | H12: =ROUND(SUM(D12:E12)/2,-1) -> 1500 | I12: =(H12-G12)/G12 -> 0
A13: 8 | B13: 오이 | C13: 1개 | D13: 1000 | E13: 1000 | F13: =(E13-D13)/D13 -> 0 | G13: 1000 | H13: =ROUND(SUM(D13:E13)/2,-1) -> 1000 | I13: =(H13-G13)/G13 -> 0
A14: 9 | B14: 토마토 | C14: 100g | D14: 500 | E14: 500 | F14: =(E14-D14)/D14 -> 0 | G14: 500 | H14: =ROUND(SUM(D14:E14)/2,-1) -> 500 | I14: =(H14-G14)/G14 -> 0
A15: 10 | B15: 사과 | C15: 10개(상품) | D15: 10000 | E15: 10000 | F15: =(E15-D15)/D15 -> 0 | G15: 14000 | H15: =ROUND(SUM(D15:E15)/2,-1) -> 10000 | I15: =(H15-G15)/G15 -> -0.28571429
A16: 11 | B16: 배 | C16: 10개(상품) | D16: 12000 | E16: 12000 | F16: =(E16-D16)/D16 -> 0 | G16: 14000 | H16: =ROUND(SUM(D16:E16)/2,-1) -> 12000 | I16: =(H16-G16)/G16 -> -0.14285714
A17: 12 | B17: 감귤류 | C17: 10kg | F17: =(E17-D17)/D17 -> #DIV/0! | G17: 0 | H17: =ROUND(SUM(D17:E17)/2,-1) -> 0 | I17: =(H17-G17)/G17 -> #DIV/0!
A18: 13 | B18: 쇠고기 | C18: 한우등심 1등급 100g | D18: 11000 | E18: 11000 | F18: =(E18-D18)/D18 -> 0 | G18: 11000 | H18: =ROUND(SUM(D18:E18)/2,-1) -> 11000 | I18: =(H18-G18)/G18 -> 0
A19: 14 | B19: 돼지고기 | C19: 삼겹살 100g | D19: 2350 | E19: 2350 | F19: =(E19-D19)/D19 -> 0 | G19: 2350 | H19: =ROUND(SUM(D19:E19)/2,-1) -> 2350 | I19: =(H19-G19)/G19 -> 0
A20: 15 | B20: 닭고기 | C20: 육계 1.0㎏ | D20: 7000 | E20: 7000 | F20: =(E20-D20)/D20 -> 0 | G20: 8000 | H20: =ROUND(SUM(D20:E20)/2,-1) -> 7000 | I20: =(H20-G20)/G20 -> -0.125
A21: 16 | B21: 달걀 | C21: 신선란 또는 대란60g정도 한판 | D21: 7500 | E21: 7200 | F21: =(E21-D21)/D21 -> -0.04 | G21: 7000 | H21: =ROUND(SUM(D21:E21)/2,-1) -> 7350 | I21: =(H21-G21)/G21 -> 0.05
A22: 17 | B22: 갈치 | C22: 70cm정도 1마리 | D22: 15000 | E22: 15000 | F22: =(E22-D22)/D22 -> 0 | G22: 10000 | H22: =ROUND(SUM(D22:E22)/2,-1) -> 15000 | I22: =(H22-G22)/G22 -> 0.5
A23: 18 | B23: 명태 | C23: 50cm정도 1마리 | D23: 5000 | E23: 5000 | F23: =(E23-D23)/D23 -> 0 | G23: 5000 | H23: =ROUND(SUM(D23:E23)/2,-1) -> 5000 | I23: =(H23-G23)/G23 -> 0
A24: 19 | B24: 조기 | C24: 20cm정도 10마리 | D24: 10000 | E24: 10000 | F24: =(E24-D24)/D24 -> 0 | G24: 15000 | H24: =ROUND(SUM(D24:E24)/2,-1) -> 10000 | I24: =(H24-G24)/G24 -> -0.33333333
A25: 20 | B25: 고등어 | C25: 30㎝정도 500g 1마리 | D25: 4000 | E25: 3000 | F25: =(E25-D25)/D25 -> -0.25 | G25: 3300 | H25: =ROUND(SUM(D25:E25)/2,-1) -> 3500 | I25: =(H25-G25)/G25 -> 0.060606061
A26: 21 | B26: 오징어 | C26: 25cm정도 2마리 | D26: 10000 | E26: 10000 | F26: =(E26-D26)/D26 -> 0 | G26: 10000 | H26: =ROUND(SUM(D26:E26)/2,-1) -> 10000 | I26: =(H26-G26)/G26 -> 0
A27: 22 | B27: 김 | C27: 1속 | F27: =(E27-D27)/D27 -> #DIV/0! | G27: 0 | H27: =ROUND(SUM(D27:E27)/2,-1) -> 0 | I27: =(H27-G27)/G27 -> #DIV/0!
A28: 23 | B28: 밀가루 | C28: 백설표 중력분1등2.5㎏ | F28: =(E28-D28)/D28 -> #DIV/0! | G28: 0 | H28: =ROUND(SUM(D28:E28)/2,-1) -> 0 | I28: =(H28-G28)/G28 -> #DIV/0!
A29: 24 | B29: 라면 | C29: 신라면 120g 1봉지 | D29: 4200 | E29: 4200 | F29: =(E29-D29)/D29 -> 0 | G29: 4200 | H29: =ROUND(SUM(D29:E29)/2,-1) -> 4200 | I29: =(H29-G29)/G29 -> 0
A30: 25 | B30: 두부 | C30: 1모(국산) | D30: 1600 | E30: 1600 | F30: =(E30-D30)/D30 -> 0 | G30: 1600 | H30: =ROUND(SUM(D30:E30)/2,-1) -> 1600 | I30: =(H30-G30)/G30 -> 0
A31: 26 | B31: 진간장 | C31: 0.9ℓ 1병 | D31: 5000 | E31: 5000 | F31: =(E31-D31)/D31 -> 0 | G31: 6000 | H31: =ROUND(SUM(D31:E31)/2,-1) -> 5000 | I31: =(H31-G31)/G31 -> -0.16666667
A32: 27 | B32: 설탕 | C32: 백설표 정백당 1㎏ | D32: 2500 | E32: 2500 | F32: =(E32-D32)/D32 -> 0 | G32: 2500 | H32: =ROUND(SUM(D32:E32)/2,-1) -> 2500 | I32: =(H32-G32)/G32 -> 0
A33: 28 | B33: 식용유 | C33: 백설표 1.8ℓ 1병 | D33: 11000 | E33: 11000 | F33: =(E33-D33)/D33 -> 0 | G33: 10500 | H33: =ROUND(SUM(D33:E33)/2,-1) -> 11000 | I33: =(H33-G33)/G33 -> 0.047619048
B36: 소주 | C36: 시원소주 360㎖ 1병 | F36: =(E36-D36)/D36 -> #DIV/0! | G36: 1380 | H36: =ROUND(SUM(D36:E36)/2,-1) -> 0 | I36: =(H36-G36)/G36 -> -1
B37: 맥주 | C37: 하이트 500㎖ 1병 | F37: =(E37-D37)/D37 -> #DIV/0! | G37: 1550 | H37: =ROUND(SUM(D37:E37)/2,-1) -> 0 | I37: =(H37-G37)/G37 -> -1
B38: 콜라 | C38: 코카콜라 PET병 1.8ℓ | F38: =(E38-D38)/D38 -> #DIV/0! | G38: 3980 | H38: =ROUND(SUM(D38:E38)/2,-1) -> 0 | I38: =(H38-G38)/G38 -> -1
B39: 우유 | C39: 부산우유 200㎖ 종이팩 | F39: =(E39-D39)/D39 -> #DIV/0! | G39: 990 | H39: =ROUND(SUM(D39:E39)/2,-1) -> 0 | I39: =(H39-G39)/G39 -> -1
B40: 사이다 | C40: 칠성 PET병 1.5ℓ | F40: =(E40-D40)/D40 -> #DIV/0! | G40: 2980 | H40: =ROUND(SUM(D40:E40)/2,-1) -> 0 | I40: =(H40-G40)/G40 -> -1
B41: 커피크림 | C41: 동서 500g 리필용 | D41: 3300 | E41: 3300 | F41: =(E41-D41)/D41 -> 0 | G41: 3300 | H41: =ROUND(SUM(D41:E41)/2,-1) -> 3300 | I41: =(H41-G41)/G41 -> 0
B42: 가루비누 | C42: 세탁용세제(가루형,3kg) | D42: 8630 | E42: 8630 | F42: =(E42-D42)/D42 -> 0 | G42: 9400 | H42: =ROUND(SUM(D42:E42)/2,-1) -> 8630 | I42: =(H42-G42)/G42 -> -0.081914894
B43: 화장지 | C43: 크리넥스 30mX30롤 | D43: 23900 | E43: 23900 | F43: =(E43-D43)/D43 -> 0 | G43: 23900 | H43: =ROUND(SUM(D43:E43)/2,-1) -> 23900 | I43: =(H43-G43)/G43 -> 0
B44: 부엌용세제 | C44: 참그린1.2리터 1봉(리필용) | D44: 3900 | E44: 3900 | F44: =(E44-D44)/D44 -> 0 | G44: 3900 | H44: =ROUND(SUM(D44:E44)/2,-1) -> 3900 | I44: =(H44-G44)/G44 -> 0

Sheet 2월
A1: 대형마트별 주요생필품 가격조사표
A3: 연번 | B3: 품목 | C3: 조사규격 및 단위 | D3: 엘디마트 | F3: 원스탑쇼핑몰 | H3: 하나마트 | J3: 샘고을시장 | L3: 홈마트 | N3: 농부애마트 | P3: 하나로마트 | R3: 롯데마트 | T3: 비고
D4: 2주 | E4: 4주 | F4: 2주 | G4: 4주 | H4: 2주 | I4: 4주 | J4: 2주 | K4: 4주 | L4: 2주 | M4: 4주 | N4: 2주 | O4: 4주 | P4: 2주 | Q4: 4주 | R4: 2주 | S4: 4주
A5: 1 | B5: 쌀 | C5: 정미포장미 20㎏ | D5: 68600 | E5: 68600 | F5: 67900 | G5: 67900 | H5: 78000 | I5: 78000 | J5: 70000 | K5: 70000 | L5: 67500 | M5: 77500 | N5: 71900 | O5: 71900 | P5: 64500 | Q5: 65500 | R5: 66900 | S5: 72900
A6: 2 | B6: 무 | C6: 2.0㎏ 1개 | D6: 2500 | E6: 2300 | F6: 1980 | G6: 1980 | H6: 2200 | I6: 2500 | J6: 3000 | K6: 3000 | L6: 1500 | M6: 2300 | N6: 1500 | O6: 1700 | P6: 2100 | Q6: 1800 | R6: 2000 | S6: 2000
A7: 3 | B7: 배추 | C7: 2.0㎏ 1포기 | D7: 5000 | E7: 5000 | F7: 5000 | G7: 5000 | H7: 5000 | J7: 5000 | K7: 4000 | N7: 4000 | O7: 4000 | P7: 3000 | Q7: 3000 | R7: 4500 | S7: 4500 | Z7: 0
A8: 4 | B8: 상추 | C8: 100g | D8: 1980 | E8: 1800 | F8: 1500 | G8: 1500 | H8: 1700 | I8: 1850 | J8: 1500 | K8: 1300 | L8: 1100 | M8: 1800 | N8: 1500 | O8: 1800 | P8: 1250 | Q8: 1450 | R8: 2000 | S8: 1660
A9: 5 | B9: 양파 | C9: 1.0㎏-잎없는것 | D9: 2980 | E9: 2980 | F9: 1900 | G9: 1900 | H9: 2800 | I9: 2800 | J9: 3000 | K9: 3000 | L9: 3450 | M9: 2500 | N9: 2200 | O9: 2200 | P9: 2500 | Q9: 2130 | R9: 3300 | S9: 3300
A10: 6 | B10: 대파 | C10: 1.0㎏(흙대파) | D10: 3580 | E10: 3580 | F10: 1990 | G10: 2500 | H10: 3500 | I10: 3500 | J10: 3000 | K10: 3000 | L10: 4000 | M10: 2500 | N10: 2000 | O10: 2000 | P10: 2300 | Q10: 3000 | R10: 3600 | S10: 5000
A11: 7 | B11: 콩나물 | C11: 300g봉지 | D11: 2000 | E11: 2000 | F11: 1380 | G11: 1380 | H11: 1200 | I11: 1200 | J11: 1250 | K11: 1250 | L11: 1200 | M11: 1200 | N11: 1150 | O11: 1150 | P11: 1380 | Q11: 1380 | R11: 1750 | S11: 1750
A12: 8 | B12: 오이 | C12: 1개 | D12: 1490 | E12: 1500 | F12: 1490 | G12: 1500 | H12: 1400 | I12: 1400 | J12: 1500 | K12: 1200 | L12: 2000 | M12: 1800 | N12: 1500 | O12: 1250 | P12: 1550 | Q12: 1300 | R12: 2000 | S12: 1000
A13: 9 | B13: 토마토 | C13: 100g | D13: 1100 | E13: 1100 | F13: 1400 | G13: 1400 | I13: 800 | J13: 1000 | K13: 1000 | L13: 800 | M13: 800 | N13: 600 | O13: 400 | P13: 480 | Q13: 480 | R13: 650 | S13: 650
A14: 10 | B14: 사과 | C14: 300g정도 2개(상품) | D14: 13200 | E14: 13200 | F14: 8530 | G14: 10000 | H14: 8700 | I14: 12000 | J14: 12000 | K14: 12000 | L14: 10000 | M14: 12500 | N14: 10000 | O14: 10000 | P14: 13000 | Q14: 13000 | R14: 6500 | S14: 10000
A15: 11 | B15: 배 | C15: 600g 정도 2개(상품) | D15: 13200 | E15: 13200 | F15: 12800 | G15: 12800 | H15: 9000 | I15: 10000 | J15: 14000 | K15: 14000 | L15: 8000 | M15: 8000 | N15: 12000 | O15: 12800 | P15: 9200 | Q15: 12000 | R15: 7500
A16: 12 | B16: 감귤류 | C16: 5kg | D16: 25000 | F16: 19800 | H16: 25000 | J16: 28000 | L16: 24800 | N16: 23800 | P16: 22500 | R16: 30000
A17: 13 | B17: 쇠고기 | C17: 한우등심 1등급 100g | D17: 12800 | E17: 12800 | F17: 11900 | G17: 11900 | J17: 13500 | K17: 13500 | L17: 12000 | N17: 9000 | O17: 10800 | P17: 10000 | Q17: 11500 | R17: 15000
A18: 14 | B18: 돼지고기 | C18: 삼겹살 100g | D18: 2800 | E18: 2800 | F18: 2500 | G18: 2500 | H18: 2650 | I18: 2650 | J18: 2650 | K18: 2650 | L18: 2300 | M18: 2300 | N18: 3000 | O18: 2800 | P18: 2400 | Q18: 2400 | R18: 2890 | S18: 2550
A19: 15 | B19: 닭고기 | C19: 육계 1.0㎏ | D19: 6800 | E19: 6800 | F19: 6900 | G19: 6900 | H19: 6900 | I19: 6900 | J19: 7000 | K19: 7000 | L19: 7500 | M19: 7500 | N19: 7900 | O19: 7900 | P19: 7800 | Q19: 7800 | R19: 12000 | S19: 10000
A20: 16 | B20: 달걀 | C20: 신선란 또는 대란 한판 | D20: 6800 | E20: 6800 | F20: 7980 | G20: 7980 | H20: 8900 | I20: 8900 | J20: 8000 | K20: 8000 | L20: 7300 | M20: 7300 | N20: 7500 | O20: 7500 | P20: 7680 | Q20: 7680 | R20: 8000 | S20: 8000
A21: 17 | B21: 갈치 | C21: 70cm정도 1마리 | F21: 15900 | G21: 15900 | H21: 11500 | I21: 11500 | J21: 18000 | K21: 15000 | L21: 7000 | M21: 7000 | N21: 8000 | O21: 6000 | P21: 7000 | Q21: 4600 | R21: 15900 | S21: 12000
A22: 18 | B22: 명태 | C22: 50㎝정도 1마리 | F22: 4500 | G22: 4500 | H22: 5700 | I22: 5700 | J22: 5000 | K22: 5000 | L22: 3750 | M22: 3750 | N22: 3400 | O22: 4000 | P22: 4800 | Q22: 4800 | R22: 5000
A23: 19 | B23: 조기 | C23: 20㎝정도 10마리 | F23: 15000 | G23: 15000 | J23: 15000 | K23: 15000 | L23: 10000 | M23: 10000 | N23: 10000 | O23: 12000 | P23: 21000 | Q23: 21000 | R23: 17000 | S23: 19900
A24: 20 | B24: 고등어 | C24: 30㎝정도 500g 1마리 | F24: 3980 | G24: 3980 | H24: 2850 | I24: 2850 | J24: 4000 | K24: 4000 | L24: 7500 | M24: 7500 | N24: 4000 | O24: 4000 | P24: 5000 | Q24: 4500 | R24: 3800 | S24: 4000
A25: 21 | B25: 오징어 | C25: 25㎝정도 2마리 | F25: 9900 | G25: 9900 | H25: 9900 | I25: 9900 | J25: 10000 | K25: 10000 | L25: 12800 | M25: 12800 | N25: 10800 | O25: 10800 | P25: 13800 | Q25: 13800 | R25: 6600 | S25: 11000
A26: 22 | B26: 김 | C26: 1속 | D26: 24300 | E26: 24300 | F26: 15900 | G26: 15900 | H26: 16000 | I26: 16000 | J26: 30000 | K26: 30000 | L26: 18000 | M26: 18000 | N26: 18000 | O26: 18000 | P26: 26500 | Q26: 23500 | R26: 29800 | S26: 29800
A27: 23 | B27: 밀가루 | C27: 백설표 중력분1등2.5㎏ | D27: 4900 | E27: 4900 | F27: 3980 | G27: 3980 | H27: 6400 | I27: 6400 | J27: 7000 | K27: 7000 | L27: 5500 | M27: 5500 | N27: 3980 | O27: 3980 | P27: 4420 | Q27: 4420 | R27: 4420 | S27: 4420
A28: 24 | B28: 라면 | C28: 신라면 멀티포장(5개) | D28: 4200 | E28: 4200 | F28: 3980 | G28: 3980 | H28: 4600 | I28: 4600 | J28: 4400 | K28: 4400 | L28: 4300 | M28: 4300 | N28: 4350 | O28: 4350 | P28: 4150 | Q28: 4150 | R28: 4150 | S28: 4150
A29: 25 | B29: 두부 | C29: 두부 300g 1모 | D29: 1250 | E29: 1250 | F29: 1280 | G29: 1280 | H29: 1250 | I29: 1250 | J29: 1600 | K29: 1600 | L29: 1250 | M29: 1250 | N29: 1250 | O29: 1250 | P29: 1250 | Q29: 1250 | R29: 1590 | S29: 1590
A30: 26 | B30: 진간장 | C30: 0.9ℓ 1병 | D30: 6150 | E30: 6150 | F30: 4850 | G30: 4850 | H30: 5150 | I30: 5150 | J30: 5000 | K30: 5000 | L30: 6000 | M30: 6000 | N30: 6000 | O30: 6000 | P30: 5230 | Q30: 5230 | R30: 5220 | S30: 5220
A31: 27 | B31: 설탕 | C31: 백설표 정백당 1㎏ | D31: 2500 | E31: 2500 | F31: 2580 | G31: 2580 | H31: 3100 | I31: 3100 | J31: 2500 | K31: 2500 | L31: 3500 | M31: 3500 | N31: 2850 | O31: 2850 | P31: 2300 | Q31: 2300 | R31: 2380 | S31: 2380
A32: 28 | B32: 식용유 | C32: 백설표옥수수기름1.8ℓ | D32: 7900 | E32: 7900 | F32: 8650 | G32: 8650 | H32: 11000 | I32: 11000 | J32: 11000 | K32: 11000 | L32: 9800 | M32: 9800 | N32: 9900 | O32: 9900 | P32: 10800 | Q32: 10800 | R32: 10800 | S32: 10800
A33: 29 | B33: 참기름 | C33: 오뚜기 320㎖ 1병 | D33: 7500 | E33: 7500 | F33: 6480 | G33: 6480 | H33: 7950 | I33: 7950 | L33: 8500 | M33: 8500 | N33: 8200 | O33: 8200 | P33: 9780 | Q33: 6980 | R33: 9780 | S33: 9780
A34: 30 | B34: 믹스커피 | C34: 맥심 모카골드마일드 커피믹스 100T | D34: 19800 | E34: 19800 | F34: 20800 | G34: 20800 | H34: 25000 | I34: 25000 | L34: 22000 | M34: 22000 | N34: 26700 | O34: 23600 | P34: 19710 | Q34: 19710 | R34: 19670 | S34: 19670
A35: 31 | B35: 우유 | C35: 서울우유 200㎖ 종이팩 | D35: 1200 | E35: 1200 | F35: 950 | G35: 950 | H35: 1200 | I35: 1200 | L35: 1200 | M35: 1200 | N35: 1200 | O35: 1200 | P35: 1080 | Q35: 1080 | R35: 1060 | S35: 1060
A36: 32 | B36: 소주 | C36: 참이슬 360㎖ 1병 | D36: 1440 | E36: 1440 | F36: 1490 | G36: 1490 | H36: 1500 | I36: 1500 | L36: 1500 | M36: 1500 | N36: 1700 | O36: 1700 | P36: 1340 | Q36: 1340 | R36: 1340 | S36: 1340
A37: 33 | B37: 맥주 | C37: 테라 500㎖ 1병 | D37: 1800 | E37: 1800 | F37: 1680 | G37: 1680 | H37: 1850 | I37: 1850 | L37: 1900 | M37: 1900 | N37: 1950 | O37: 1950 | P37: 1720 | Q37: 2080 | R37: 1730 | S37: 1730
A38: 34 | B38: 콜라 | C38: 코카콜라 PET병 1.8ℓ | D38: 2200 | E38: 2200 | F38: 1680 | G38: 1680 | H38: 2400 | I38: 2400 | L38: 2400 | M38: 2400 | N38: 1750 | O38: 1750 | P38: 1750 | Q38: 1750 | R38: 2150 | S38: 2150
A39: 35 | B39: 사이다 | C39: 칠성 PET병 1.5ℓ | D39: 1750 | E39: 1750 | F39: 1600 | G39: 1600 | H39: 1800 | I39: 1800 | L39: 1900 | M39: 1900 | N39: 1800 | O39: 1800 | P39: 1900 | Q39: 1900 | R39: 1880 | S39: 1880
