Workbook

Sheet 표지
A1: 법인일반회계
A2: 2026년도 1차 추경예산서
A3: 사회복지법인 자애복지재단

Sheet 예산총칙
B2: 2026년도 | D2: 1차 추경예산 총칙
B4: 제 1 조 | C4: =B2 -> 2026년도 | D4: 본 예산은 이사회의 의결을 거쳐야 한다.
B5: 제 2 조 | C5: =B2 -> 2026년도 | D5: 본 예산 세입 세출 총액은 | E5: =[1]총괄세목!F2 -> 352658932 | F5: 원 으로 한다.
B6: 제 3 조 | C6: =B2 -> 2026년도 | D6: 본 예산 세입, 세출 명세는 세입 세출 예산서와 같다.
B7: 제 4 조 | C7: =B2 -> 2026년도 | D7: 예산의 항목간 전용은 이사회의 승인을 얻어 집행한다.
B8: 제 5 조 | C8: =B2 -> 2026년도 | D8: 예비비는 대표이사의 승인을 받아 지출한다.
B9: 제 6 조 | C9: =B2 -> 2026년도 | D9: 당해년도 예산의 집행은 회계연도 말일 이전으로 한다.
B10: 제 7 조 | C10: =B2 -> 2026년도 | D10: 회계연도 말일까지의 미지급은 차기년도에 이월집행한다.

Sheet 총괄목
A1: 관 | B1: 항 | C1: 목 | D1: =[1]총괄세목!E1 -> 당초예산액 | E1: =[1]총괄세목!F1 -> 추경예산액 | F1: 증 감 | G1: 관 | H1: 항 | I1: 목 | J1: =D1 -> 당초예산액 | K1: =E1 -> 추경예산액 | L1: 증 감
A2: 합 계 | D2: =D3+D9+D12+D15+D22+D26+D30+D33+D37 -> 344232372 | E2: =E3+E9+E12+E15+E22+E26+E30+E33+E37 -> 352658932 | F2: =F3+F9+F12+F15+F22+F26+F30+F33+F37 -> 8426560 | G2: 합 계 | J2: =J3+J23+J28+J33+J37+J40+J44+J47 -> 344232372 | K2: =K3+K23+K28+K33+K37+K40+K44+K47 -> 352658932 | L2: =L3+L23+L28+L33+L37+L40+L44+L47 -> 8426560
A3: 01 재산수입 | D3: =[1]총괄세목!E3 -> 0 | E3: =[1]총괄세목!F3 -> 0 | F3: =E3-D3 -> 0 | G3: 01 사무비 | J3: =[1]총괄세목!L3 -> 17540000 | K3: =[1]총괄세목!M3 -> 22187040 | L3: =K3-J3 -> 4647040
B4: 11 기본재산수입 | D4: =[1]총괄세목!E4 -> 0 | E4: =[1]총괄세목!F4 -> 0 | F4: =E4-D4 -> 0 | H4: 11 인건비 | J4: =[1]총괄세목!L4 -> 0 | K4: =[1]총괄세목!M4 -> 0 | L4: =K4-J4 -> 0
C5: 111 임대료수입 | D5: =[1]총괄세목!E5 -> 0 | E5: =[1]총괄세목!F5 -> 0 | F5: =E5-D5 -> 0 | I5: 111 급여 | J5: =[1]총괄세목!L5 -> 0 | K5: =[1]총괄세목!M5 -> 0 | L5: =K5-J5 -> 0
C6: 112 배당 및 이자수입 | D6: =[1]총괄세목!E6 -> 0 | E6: =[1]총괄세목!F6 -> 0 | F6: =E6-D6 -> 0 | I6: 112 상여금 | J6: =[1]총괄세목!L6 -> 0 | K6: =[1]총괄세목!M6 -> 0 | L6: =K6-J6 -> 0
C7: 113 재산매각수입 | D7: =[1]총괄세목!E7 -> 0 | E7: =[1]총괄세목!F7 -> 0 | F7: =E7-D7 -> 0 | I7: 113 일용잡급 | J7: =[1]총괄세목!L7 -> 0 | K7: =[1]총괄세목!M7 -> 0 | L7: =K7-J7 -> 0
C8: 114 기타수입 | D8: =[1]총괄세목!E8 -> 0 | E8: =[1]총괄세목!F8 -> 0 | F8: =E8-D8 -> 0 | I8: 114 제수당 | J8: =[1]총괄세목!L8 -> 0 | K8: =[1]총괄세목!M8 -> 0 | L8: =K8-J8 -> 0
A9: 02 사업수입 | D9: =[1]총괄세목!E9 -> 0 | E9: =[1]총괄세목!F9 -> 0 | F9: =E9-D9 -> 0 | I9: 115 퇴직금및퇴직적립금 | J9: =[1]총괄세목!L9 -> 0 | K9: =[1]총괄세목!M9 -> 0 | L9: =K9-J9 -> 0
B10: 21 수익사업수입 | D10: =[1]총괄세목!E10 -> 0 | E10: =[1]총괄세목!F10 -> 0 | F10: =E10-D10 -> 0 | I10: 116 사회보험부담비용 | J10: =[1]총괄세목!L10 -> 0 | K10: =[1]총괄세목!M10 -> 0 | L10: =K10-J10 -> 0
C11: 211 수익사업수입 | D11: =[1]총괄세목!E11 -> 0 | E11: =[1]총괄세목!F11 -> 0 | F11: =E11-D11 -> 0 | I11: 117 기타후생경비 | J11: =[1]총괄세목!L11 -> 0 | K11: =[1]총괄세목!M11 -> 0 | L11: =K11-J11 -> 0
A12: 03 과년도수입 | D12: =[1]총괄세목!E12 -> 0 | E12: =[1]총괄세목!F12 -> 0 | F12: =E12-D12 -> 0 | H12: 12 업무추진비 | J12: =[1]총괄세목!L12 -> 12200000 | K12: =[1]총괄세목!M12 -> 16400000 | L12: =K12-J12 -> 4200000
B13: 31 과년도수입 | D13: =[1]총괄세목!E13 -> 0 | E13: =[1]총괄세목!F13 -> 0 | F13: =E13-D13 -> 0 | I13: 121 기관운영비 | J13: =[1]총괄세목!L13 -> 1200000 | K13: =[1]총괄세목!M13 -> 5400000 | L13: =K13-J13 -> 4200000
C14: 311 과년도수입 | D14: =[1]총괄세목!E14 -> 0 | E14: =[1]총괄세목!F14 -> 0 | F14: =E14-D14 -> 0 | I14: 122 직책보조비 | J14: =[1]총괄세목!L14 -> 6000000 | K14: =[1]총괄세목!M14 -> 6000000 | L14: =K14-J14 -> 0
A15: 04 보조금수입 | D15: =[1]총괄세목!E15 -> 96000000 | E15: =[1]총괄세목!F15 -> 96000000 | F15: =E15-D15 -> 0 | I15: 123 회의비 | J15: =[1]총괄세목!L15 -> 5000000 | K15: =[1]총괄세목!M15 -> 5000000 | L15: =K15-J15 -> 0
B16: 41 경상보조금수입 | D16: =[1]총괄세목!E16 -> 0 | E16: =[1]총괄세목!F16 -> 0 | F16: =E16-D16 -> 0 | H16: 13 운영비 | J16: =[1]총괄세목!L16 -> 5340000 | K16: =[1]총괄세목!M16 -> 5787040 | L16: =K16-J16 -> 447040
C17: 411 경상보조금수입 | D17: =[1]총괄세목!E17 -> 0 | E17: =[1]총괄세목!F17 -> 0 | F17: =E17-D17 -> 0 | I17: 131 여비 | J17: =[1]총괄세목!L17 -> 600000 | K17: =[1]총괄세목!M17 -> 600000 | L17: =K17-J17 -> 0
B18: 42 자본보조금수입 | D18: =[1]총괄세목!E18 -> 0 | E18: =[1]총괄세목!F18 -> 0 | F18: =E18-D18 -> 0 | I18: 132 수용비및수수료 | J18: =[1]총괄세목!L18 -> 2240000 | K18: =[1]총괄세목!M18 -> 2687040 | L18: =K18-J18 -> 447040
C19: 413 기타보조금수입 | D19: =[1]총괄세목!E19 -> 0 | E19: =[1]총괄세목!F19 -> 0 | F19: =E19-D19 -> 0 | I19: 133 공공요금 | J19: =[1]총괄세목!L19 -> 1500000 | K19: =[1]총괄세목!M19 -> 1500000 | L19: =K19-J19 -> 0
B20: 43 기타보조금수입 | D20: =[1]총괄세목!E20 -> 96000000 | E20: =[1]총괄세목!F20 -> 96000000 | F20: =E20-D20 -> 0 | I20: 134 제세공과금 | J20: =[1]총괄세목!L20 -> 1000000 | K20: =[1]총괄세목!M20 -> 1000000 | L20: =K20-J20 -> 0
C21: 431 기타보조금수입 | D21: =[1]총괄세목!E21 -> 96000000 | E21: =[1]총괄세목!F21 -> 96000000 | F21: =E21-D21 -> 0 | I21: 135 차량비 | J21: =[1]총괄세목!L21 -> 0 | K21: =[1]총괄세목!M21 -> 0 | L21: =K21-J21 -> 0
A22: 05 후원금수입 | D22: =[1]총괄세목!E22 -> 38400000 | E22: =[1]총괄세목!F22 -> 38400000 | F22: =E22-D22 -> 0 | I22: 135 연료비 | J22: =[1]총괄세목!L22 -> 0 | K22: =[1]총괄세목!M22 -> 0 | L22: =K22-J22 -> 0
B23: 51 후원금수입 | D23: =[1]총괄세목!E23 -> 38400000 | E23: =[1]총괄세목!F23 -> 38400000 | F23: =E23-D23 -> 0 | G23: 02 재산조성비 | J23: =[1]총괄세목!L23 -> 6000000 | K23: =[1]총괄세목!M23 -> 6000000 | L23: =K23-J23 -> 0
C24: 511 지정후원금수입 | D24: =[1]총괄세목!E24+[1]총괄세목!E25 -> 0 | E24: =[1]총괄세목!F24+[1]총괄세목!F25 -> 0 | F24: =E24-D24 -> 0 | H24: 21 시설비 | J24: =[1]총괄세목!L24 -> 6000000 | K24: =[1]총괄세목!M24 -> 6000000 | L24: =K24-J24 -> 0
C25: 512 비지정후원금수입 | D25: =[1]총괄세목!E26 -> 38400000 | E25: =[1]총괄세목!F26 -> 38400000 | F25: =E25-D25 -> 0 | I25: 211 시설비 | J25: =[1]총괄세목!L25 -> 0 | K25: =[1]총괄세목!M25 -> 0 | L25: =K25-J25 -> 0
A26: 06 차입금 | D26: =[1]총괄세목!E27 -> 0 | E26: =[1]총괄세목!F27 -> 0 | F26: =E26-D26 -> 0 | I26: 212 자산취득비 | J26: =[1]총괄세목!L26 -> 0 | K26: =[1]총괄세목!M26 -> 0 | L26: =K26-J26 -> 0
B27: 61 차입금 | D27: =[1]총괄세목!E28 -> 0 | E27: =[1]총괄세목!F28 -> 0 | F27: =E27-D27 -> 0 | I27: 213 시설장비유지비 | J27: =[1]총괄세목!L27 -> 6000000 | K27: =[1]총괄세목!M27 -> 6000000 | L27: =K27-J27 -> 0
C28: 611 금융기관차입금 | D28: =[1]총괄세목!E29 -> 0 | E28: =[1]총괄세목!F29 -> 0 | F28: =E28-D28 -> 0 | G28: 03 사업비 | J28: =[1]총괄세목!L28 -> 0 | K28: =[1]총괄세목!M28 -> 0 | L28: =K28-J28 -> 0
C29: 612 기타차입금 | D29: =[1]총괄세목!E30 -> 0 | E29: =[1]총괄세목!F30 -> 0 | F29: =E29-D29 -> 0 | H29: 31 일반사업비 | J29: =[1]총괄세목!L29 -> 0 | K29: =[1]총괄세목!M29 -> 0 | L29: =K29-J29 -> 0
A30: 07 전입금 | D30: =[1]총괄세목!E31 -> 0 | E30: =[1]총괄세목!F31 -> 0 | F30: =E30-D30 -> 0 | I30: 311 일반사업비 | J30: =[1]총괄세목!L30 -> 0 | K30: =[1]총괄세목!M30 -> 0 | L30: =K30-J30 -> 0
B31: 61 전입금 | D31: =[1]총괄세목!E32 -> 0 | E31: =[1]총괄세목!F32 -> 0 | F31: =E31-D31 -> 0 | H31: 32 수익사업비 | J31: =[1]총괄세목!L31 -> 0 | K31: =[1]총괄세목!M31 -> 0 | L31: =K31-J31 -> 0
C32: 611 다른회계전입금 | D32: =[1]총괄세목!E33 -> 0 | E32: =[1]총괄세목!F33 -> 0 | F32: =E32-D32 -> 0 | I32: 321 수익사업비 | J32: =[1]총괄세목!L32 -> 0 | K32: =[1]총괄세목!M32 -> 0 | L32: =K32-J32 -> 0
A33: 08 이월금 | D33: =[1]총괄세목!E34 -> 204732372 | E33: =[1]총괄세목!F34 -> 215154922 | F33: =E33-D33 -> 10422550 | G33: 04 전출금 | J33: =[1]총괄세목!L33 -> 116094710 | K33: =[1]총괄세목!M33 -> 114749180 | L33: =K33-J33 -> -1345530
B34: 81 이월금 | D34: =[1]총괄세목!E35 -> 204732372 | E34: =[1]총괄세목!F35 -> 215154922 | F34: =E34-D34 -> 10422550 | H34: 41 전출금 | J34: =[1]총괄세목!L34 -> 116094710 | K34: =[1]총괄세목!M34 -> 114749180 | L34: =K34-J34 -> -1345530
C35: 711 전년도이월금 | D35: =[1]총괄세목!E36 -> 184795708 | E35: =[1]총괄세목!F36 -> 192523022 | F35: =E35-D35 -> 7727314 | I35: 411시설전출금 | J35: =[1]총괄세목!L35+[1]총괄세목!L36+[1]총괄세목!L37 -> 76103000 | K35: =[1]총괄세목!M35+[1]총괄세목!M36+[1]총괄세목!M37 -> 74633390 | L35: =K35-J35 -> -1469610
C36: 712 전년도이월금(후원금) | D36: =[1]총괄세목!E37 -> 19936664 | E36: =[1]총괄세목!F37 -> 22631900 | F36: =E36-D36 -> 2695236 | I36: 412시설전출금(후원금) | J36: =[1]총괄세목!L38+[1]총괄세목!L39+[1]총괄세목!L40 -> 39991710 | K36: =[1]총괄세목!M38+[1]총괄세목!M39+[1]총괄세목!M40 -> 40115790 | L36: =K36-J36 -> 124080
A37: 09 잡수입 | D37: =[1]총괄세목!E38 -> 5100000 | E37: =[1]총괄세목!F38 -> 3104010 | F37: =E37-D37 -> -1995990 | G37: =[1]총괄세목!H41 -> 05 과년도지출 | J37: =[1]총괄세목!L41 -> 0 | K37: =[1]총괄세목!M41 -> 0 | L37: =K37-J37 -> 0
B38: 91 잡수입 | D38: =[1]총괄세목!E39 -> 5100000 | E38: =[1]총괄세목!F39 -> 3104010 | F38: =E38-D38 -> -1995990 | H38: 51 과년도지출 | J38: =[1]총괄세목!L42 -> 0 | K38: =[1]총괄세목!M42 -> 0 | L38: =K38-J38 -> 0
C39: 911 불용품매각대 | D39: =[1]총괄세목!E40 -> 0 | E39: =[1]총괄세목!F40 -> 4010 | F39: =E39-D39 -> 4010 | I39: 511 과년도지출 | J39: =[1]총괄세목!L43 -> 0 | K39: =[1]총괄세목!M43 -> 0 | L39: =K39-J39 -> 0
C40: 912 기타예금이자수입 | D40: =[1]총괄세목!E41 -> 5100000 | E40: =[1]총괄세목!F41 -> 3100000 | F40: =E40-D40 -> -2000000 | G40: 06 상환금 | J40: =[1]총괄세목!L44 -> 0 | K40: =[1]총괄세목!M44 -> 0 | L40: =K40-J40 -> 0
C41: 913 기타잡수입 | D41: =[1]총괄세목!E42 -> 0 | E41: =[1]총괄세목!F42 -> 0 | F41: =E41-D41 -> 0 | H41: 61 부채상환금 | J41: =[1]총괄세목!L45 -> 0 | K41: =[1]총괄세목!M45 -> 0 | L41: =K41-J41 -> 0
I42: 611 원금상환금 | J42: =[1]총괄세목!L46 -> 0 | K42: =[1]총괄세목!M46 -> 0 | L42: =K42-J42 -> 0
I43: 612 이자지불금 | J43: =[1]총괄세목!L47 -> 0 | K43: =[1]총괄세목!M47 -> 0 | L43: =K43-J43 -> 0
G44: 07 잡지출 | J44: =[1]총괄세목!L48 -> 0 | K44: =[1]총괄세목!M48 -> 0 | L44: =K44-J44 -> 0
H45: 71 잡지출 | J45: =[1]총괄세목!L49 -> 0 | K45: =[1]총괄세목!M49 -> 0 | L45: =K45-J45 -> 0
I46: 711 잡지출 | J46: =[1]총괄세목!L50 -> 0 | K46: =[1]총괄세목!M50 -> 0 | L46: =K46-J46 -> 0
G47: 08 예비비 및 기타 | J47: =[1]총괄세목!L51 -> 204597662 | K47: =[1]총괄세목!M51 -> 209722712 | L47: =K47-J47 -> 5125050
H48: 81 예비비 및 기타 | J48: =[1]총괄세목!L52 -> 204597662 | K48: =[1]총괄세목!M52 -> 209722712 | L48: =K48-J48 -> 5125050
I49: 811 예비비 | J49: =[1]총괄세목!L53 -> 204597662 | K49: =[1]총괄세목!M53 -> 177961142 | L49: =K49-J49 -> -26636520
I50: 812 반환금 | J50: 0 | K50: 31761570 | L50: =K50-J50 -> 31761570
