Workbook

Sheet 표지
A4: 2021년도
A5: 정읍시북부노인복지관 민간위탁 세입세출 예산서

Sheet 세입세출명세서
A1: 2021년 예산서 세입세출 총괄
A3: 관 | B3: 항 | C3: 목 | D3: 2016 | E3: 2017 | F3: 1차추경 | G3: 2016 | H3: 2017 | I3: 2018 | J3: 본예산 | K3: 1차 | L3: 2019 | M3: 2020 | N3: 1차 | O3: 2차 | P3: 2020년3차 | Q3: 2021년 | R3: 증감 | S3: 관 | T3: 항 | U3: 목 | V3: 2016 | W3: 2017 | X3: 1차추경 | Y3: 2016 | Z3: 2017 | AA3: 2018 | AB3: 본예산 | AC3: 1차 | AD3: 2019 | AE3: 2020 | AF3: 1차 | AG3: 2차 | AH3: 2020년3차 | AI3: 2021년 | AJ3: 증감
A5: 총 계 | D5: =D6+#REF!+D26+D29+D31+D36+D39 -> #REF! | E5: =E6+#REF!+E26+E29+E31+E36+E39 -> #REF! | F5: =F6+#REF!+F26+F29+F31+F36+F39 -> #REF! | G5: =G6+#REF!+G26+G29+G31+G36+G39 -> #REF! | H5: =H6+H26+H29+H31+H36+H39 -> 558482000 | I5: =I6+I26+I29+I31+I36+I39 -> 623850000 | J5: =J6+J26+J29+J31+J36+J39 -> 621258000 | K5: =K6+K26+K29+K31+K36+K39 -> 697434000 | L5: =L6+L26+L29+L31+L36+L39 -> 2478704000 | M5: =M6+M26+M29+M31+M36+M39 -> 3115068000 | N5: =N6+N26+N29+N31+N36+N39 -> 3163015000 | O5: =O6+O26+O29+O31+O36+O39 -> 3157791000 | ... Q5: =Q6+Q26+Q29+Q31+Q36+Q39 -> 3197042000 | R5: =Q5-P5 -> 46215000 | S5: 총 계 | V5: =V6+V24+V29+V59+V62 -> #REF! | W5: =W6+W24+W29+W59+W62 -> #REF! | X5: =X6+X24+X29+X59+X62 -> #REF! | Y5: =Y6+Y24+Y29+Y59+Y62 -> 557206000 | Z5: =Z6+Z24+Z29+Z59+Z62 -> #REF! | AA5: =AA6+AA24+AA29+AA59+AA62 -> 1529043000 | AB5: =AB6+AB24+AB29+AB59+AB62 -> 1941858000 | AC5: =AC6+AC24+AC29+AC59+AC62 -> 697434000 | ... AI5: =AI6+AI24+AI29+AI59+AI62 -> 3197042000 | AJ5: =AI5-AH5 -> 46215000
A6: 보조금수입 | B6: 보조금수입 | C6: 소계 | D6: =SUM(D7:D8) -> #REF! | E6: =SUM(E7:E8) -> 353320000 | F6: =SUM(F7:F8) -> 353320000 | G6: =SUM(G7:G8) -> 343950000 | H6: =SUM(H7:H8) -> 353320000 | I6: =SUM(I7:I8) -> 461320000 | J6: =SUM(J7:J8) -> 461320000 | K6: =SUM(K7:K8) -> 528520000 | L6: =SUM(L7:L20) -> 2252823000 | M6: =SUM(M7:M20) -> 2882583000 | N6: =SUM(N7:N20) -> 2893190000 | O6: =SUM(O7:O20) -> 2899740000 | P6: =SUM(P7:P20) -> 2899740000 | Q6: =SUM(Q7:Q20) -> 2914540000 | R6: =Q6-O6 -> 14800000 | S6: 사무비 | T6: (%) | U6: 계 | V6: =V7+V13+V17 -> #REF! | W6: =W7+W13+W17 -> #REF! | X6: =X7+X13+X17 -> #REF! | Y6: =Y7+Y13+Y17 -> 443750000 | Z6: =Z7+Z13+Z17 -> 459818000 | AA6: =AA7+AA13+AA17 -> 504747000 | AB6: =AB7+AB13+AB17 -> 525468000 | AC6: =AC7+AC13+AC17 -> 527890000 | ... AI6: =AI7+AI13+AI17 -> 577397000 | AJ6: =AI6-AH6 -> 45824000
B7: =Q6/Q5*100 -> 91.163644 | C7: 운영비보조금 | D7: =#REF! -> #REF! | E7: =세입명세서!E8 -> 340000000 | F7: =세입명세서!F8 -> 340000000 | G7: 330750000 | H7: =세입명세서!H8 -> 340000000 | I7: =세입명세서!I8 -> 448000000 | J7: =세입명세서!J8 -> 448000000 | K7: 515200000 | L7: =세입명세서!L8 -> 515200000 | M7: =세입명세서!M8 -> 530656000 | N7: 530656000 | O7: =세입명세서!O8 -> 530656000 | P7: =세입명세서!P8 -> 530656000 | Q7: =세입명세서!Q8 -> 546575000 | R7: =Q7-O7 -> 15919000 | S7: =AI6/AI5*100 -> 18.060351 | T7: 인건비 | U7: 소계 | V7: =SUM(V8:V12) -> #REF! | W7: =SUM(W8:W12) -> #REF! | X7: =SUM(X8:X12) -> #REF! | Y7: =SUM(Y8:Y12) -> 327445000 | Z7: =SUM(Z8:Z12) -> 350342000 | AA7: =SUM(AA8:AA12) -> 386354000 | AB7: =SUM(AB8:AB12) -> 408807000 | AC7: =SUM(AC8:AC12) -> 399731000 | ... AI7: =SUM(AI8:AI12) -> 435297000 | AJ7: =AI7-AH7 -> 16010000
C8: 종사자특별수당보조금 | D8: =#REF! -> #REF! | E8: =세입명세서!E9 -> 13320000 | F8: =세입명세서!F9 -> 13320000 | G8: 13200000 | H8: =세입명세서!H9 -> 13320000 | I8: =세입명세서!I9 -> 13320000 | J8: =세입명세서!J9 -> 13320000 | K8: 13320000 | L8: =세입명세서!L9 -> 13320000 | M8: =세입명세서!M9 -> 13320000 | N8: 13320000 | O8: =세입명세서!O9 -> 13320000 | P8: =세입명세서!P9 -> 13320000 | Q8: =세입명세서!Q9 -> 13320000 | R8: =Q8-O8 -> 0 | T8: =AI7/AI5*100 -> 13.615617 | U8: 급여 | V8: =#REF! -> #REF! | W8: =세출명세서!E7 -> 229395000 | X8: =세출명세서!F7 -> 229395000 | Y8: 218997000 | Z8: =세출명세서!H7 -> 230087000 | AA8: =세출명세서!I7 -> 262591000 | AB8: =세출명세서!J7 -> 275853000 | AC8: 267392000 | AD8: =세출명세서!L7 -> 267392000 | AE8: =세출명세서!M7 -> 282641000 | AF8: 282436000 | AG8: =세출명세서!O7 -> 280156000 | AH8: =세출명세서!P7 -> 279703000 | AI8: =세출명세서!Q7 -> 293574000 | AJ8: =AI8-AH8 -> 13871000
C9: 노인연계프로그램보조금 | L9: =세입명세서!L11 -> 25000000 | M9: =세입명세서!M11 -> 25000000 | N9: 25000000 | O9: =세입명세서!O11 -> 25000000 | P9: =세입명세서!P11 -> 25000000 | Q9: =세입명세서!Q11 -> 25000000 | R9: =Q9-O9 -> 0 | U9: 일용잡급 | V9: =#REF! -> #REF! | W9: =세출명세서!#REF! -> #REF! | X9: =세출명세서!#REF! -> #REF! | Y9: 13055000 | Z9: 12495000 | AA9: =세출명세서!I21 -> 10200000 | AB9: =세출명세서!J21 -> 10900000 | AC9: 11800000 | AD9: =세출명세서!L21 -> 11800000 | AE9: =세출명세서!M21 -> 13200000 | AF9: 13200000 | AG9: =세출명세서!O21 -> 13200000 | AH9: =세출명세서!P21 -> 13200000 | AI9: =세출명세서!Q21 -> 13200000 | AJ9: =AI9-AH9 -> 0
C10: 무료중식사업보조금 | L10: =세입명세서!L12 -> 39000000 | M10: =세입명세서!M12 -> 39000000 | N10: 39000000 | O10: =세입명세서!O12 -> 39000000 | P10: =세입명세서!P12 -> 39000000 | Q10: =세입명세서!Q12 -> 39325000 | R10: =Q10-O10 -> 325000 | U10: 제수당 | V10: =#REF! -> #REF! | W10: =세출명세서!E23 -> 49755000 | X10: =세출명세서!F23 -> 49497000 | Y10: 46019000 | Z10: 48790000 | AA10: =세출명세서!I23 -> 58956000 | AB10: =세출명세서!J23 -> 63906000 | AC10: 63247000 | AD10: =세출명세서!L23 -> 63247000 | AE10: =세출명세서!M23 -> 70633000 | AF10: 64007000 | AG10: =세출명세서!O23 -> 63059000 | AH10: =세출명세서!P23 -> 62618000 | AI10: =세출명세서!Q23 -> 63312000 | AJ10: =AI10-AH10 -> 694000
C11: 밑반찬배달사업보조금 | L11: =세입명세서!L13 -> 10320000 | M11: =세입명세서!M13 -> 10320000 | N11: 15000000 | O11: =세입명세서!O13 -> 15000000 | P11: =세입명세서!P13 -> 15000000 | Q11: =세입명세서!Q13 -> 15093000 | R11: =Q11-O11 -> 93000 | U11: 퇴직금 및 퇴직적립금 | V11: =#REF! -> #REF! | W11: =세출명세서!E33 -> 26639000 | X11: =세출명세서!F33 -> 26612000 | Y11: 25494000 | Z11: 32816000 | AA11: =세출명세서!I33 -> 27367000 | AB11: =세출명세서!J33 -> 28936000 | AC11: 28001000 | AD11: =세출명세서!L33 -> 28001000 | AE11: =세출명세서!M33 -> 28938000 | AF11: 29579000 | AG11: =세출명세서!O33 -> 29311000 | AH11: =세출명세서!P33 -> 29509000 | AI11: =세출명세서!Q33 -> 30573000 | AJ11: =AI11-AH11 -> 1064000
C12: 노인사회활동지원사업 보조금 | L12: =세입명세서!L14 -> 1279600000 | M12: =세입명세서!M14 -> 2036000000 | N12: 2037900000 | O12: =세입명세서!O14 -> 2037900000 | P12: =세입명세서!P14 -> 2037900000 | Q12: =세입명세서!Q14 -> 2037300000 | R12: =Q12-O12 -> -600000 | U12: 사회보험부담금 | V12: =#REF! -> #REF! | W12: =세출명세서!E38 -> 25005000 | X12: =세출명세서!F38 -> 25005000 | Y12: 23880000 | Z12: 26154000 | AA12: =세출명세서!I38 -> 27240000 | AB12: =세출명세서!J38 -> 29212000 | AC12: 29291000 | AD12: =세출명세서!L38 -> 31440000 | AE12: =세출명세서!M38 -> 35055000 | AF12: 34257000 | AG12: =세출명세서!O38 -> 34257000 | AH12: =세출명세서!P38 -> 34257000 | AI12: =세출명세서!Q38 -> 34638000 | AJ12: =AI12-AH12 -> 381000
C13: 노인사회활동지원사업 전담관리보조금 | L13: =세입명세서!L16 -> 68055000 | M13: =세입명세서!M16 -> 120250000 | N13: 120250000 | O13: =세입명세서!O16 -> 120250000 | P13: =세입명세서!P16 -> 120250000 | Q13: =세입명세서!Q16 -> 122005000 | R13: =Q13-O13 -> 1755000 | T13: 업무추진비 | U13: 소계 | V13: =SUM(V15:V15) -> #REF! | W13: =SUM(W15:W15) -> 12600000 | X13: =SUM(X15:X15) -> 12600000 | Y13: =SUM(Y14:Y15) -> 11750000 | Z13: =SUM(Z14:Z15) -> 12900000 | AA13: =SUM(AA14:AA15) -> 9240000 | AB13: =SUM(AB14:AB16) -> 10600000 | AC13: =SUM(AC14:AC16) -> 10600000 | AD13: =SUM(AD14:AD16) -> 10600000 | AE13: =SUM(AE14:AE16) -> 10640000 | AF13: =SUM(AF14:AF16) -> 10640000 | AG13: =SUM(AG14:AG16) -> 10640000 | AH13: =SUM(AH14:AH16) -> 10640000 | AI13: =SUM(AI14:AI16) -> 10640000 | AJ13: =AI13-AH13 -> 0
C14: 맞춤형운동처방사업보조금 | L14: =세입명세서!L17 -> 24710000 | M14: =세입명세서!M17 -> 25641000 | N14: 27535000 | O14: =세입명세서!O17 -> 27535000 | P14: =세입명세서!P17 -> 27535000 | Q14: =세입명세서!Q17 -> 28060000 | R14: =Q14-O14 -> 525000 | U14: 기관운영비 | Y14: =세출명세서!F44 -> 0 | Z14: =세출명세서!H44 -> 300000 | AA14: =세출명세서!I44 -> 1440000 | AB14: =세출명세서!J44 -> 1200000 | AC14: =세출명세서!J44 -> 1200000 | AD14: =세출명세서!L44 -> 1200000 | AE14: =세출명세서!M44 -> 1200000 | AF14: 1200000 | AG14: =세출명세서!O44 -> 1200000 | AH14: =세출명세서!P44 -> 1200000 | AI14: =세출명세서!Q44 -> 1200000 | AJ14: =AI14-AH14 -> 0
C15: 정읍시북부노인대학보조금 | L15: =세입명세서!L18 -> 15000000 | M15: =세입명세서!M18 -> 15000000 | N15: 15432000 | O15: =세입명세서!O18 -> 15432000 | P15: =세입명세서!P18 -> 15432000 | Q15: =세입명세서!Q18 -> 15432000 | R15: =Q15-O15 -> 0 | T15: =AI13/AI5*100 -> 0.33280764 | U15: 직책보조비 | V15: =#REF! -> #REF! | W15: =세출명세서!E45 -> 12600000 | X15: =세출명세서!F45 -> 12600000 | Y15: 11750000 | Z15: =세출명세서!H45 -> 12600000 | AA15: =세출명세서!I45 -> 7800000 | AB15: =세출명세서!J45 -> 7800000 | AC15: =세출명세서!J45 -> 7800000 | AD15: =세출명세서!L45 -> 7800000 | AE15: =세출명세서!M45 -> 7800000 | AF15: 7800000 | AG15: =세출명세서!O45 -> 7800000 | AH15: =세출명세서!P45 -> 7800000 | AI15: =세출명세서!Q45 -> 7800000 | AJ15: =AI15-AH15 -> 0
C16: 지역주도형청년일자리보조금 | L16: =세입명세서!L19 -> 41088000 | M16: =세입명세서!M19 -> 22966000 | N16: 23067000 | O16: =세입명세서!O19 -> 23067000 | P16: =세입명세서!P19 -> 23067000 | Q16: =세입명세서!Q19 -> 0 | R16: =Q16-O16 -> -23067000 | U16: 회의비 | AA16: 0 | AB16: =세출명세서!J48 -> 1600000 | AC16: =세출명세서!J48 -> 1600000 | AD16: =세출명세서!L48 -> 1600000 | AE16: =세출명세서!M48 -> 1640000 | AF16: 1640000 | AG16: =세출명세서!O48 -> 1640000 | AH16: =세출명세서!P48 -> 1640000 | AI16: =세출명세서!Q48 -> 1640000 | AJ16: =AI16-AH16 -> 0
C17: 응급안전알리미보조금 | L17: =세입명세서!L20 -> 86490000 | M17: =세입명세서!M20 -> 39540000 | N17: 39540000 | O17: =세입명세서!O20 -> 39540000 | P17: =세입명세서!P20 -> 39540000 | Q17: =세입명세서!Q20 -> 36930000 | R17: =Q17-O17 -> -2610000 | T17: 운영비 | U17: 소계 | V17: =SUM(V18:V22) -> #REF! | W17: =SUM(W18:W22) -> 99029000 | X17: =SUM(X18:X22) -> 99161000 | Y17: =SUM(Y18:Y23) -> 104555000 | Z17: =SUM(Z18:Z23) -> 96576000 | AA17: =SUM(AA18:AA23) -> 109153000 | AB17: =SUM(AB18:AB23) -> 106061000 | AC17: =SUM(AC18:AC23) -> 117559000 | AD17: =SUM(AD18:AD23) -> 120269000 | AE17: =SUM(AE18:AE23) -> 119144000 | AF17: =SUM(AF18:AF23) -> 121886000 | ... AI17: =SUM(AI18:AI23) -> 131460000 | AJ17: =AI17-AH17 -> 29814000
C18: 정향누리사업보조금 | P18: 0 | Q18: =세입명세서!Q21 -> 35000000 | R18: =Q18-O18 -> 35000000 | T18: =AI17/AI5*100 -> 4.111926 | U18: 여비 | V18: =#REF! -> #REF! | W18: =세출명세서!E55 -> 600000 | X18: =세출명세서!F55 -> 600000 | Y18: =세출명세서!F55 -> 600000 | Z18: =세출명세서!H55 -> 600000 | AA18: =세출명세서!I55 -> 1800000 | AB18: =세출명세서!J55 -> 1800000 | AC18: 2400000 | AD18: =세출명세서!L55 -> 2400000 | AE18: =세출명세서!M55 -> 2400000 | AF18: 2400000 | AG18: =세출명세서!O55 -> 1200000 | AH18: =세출명세서!P55 -> 1200000 | AI18: =세출명세서!Q55 -> 2400000 | AJ18: =AI18-AH18 -> 1200000
C19: 기능보강사업보조금 | L19: =세입명세서!L22 -> 130000000 | M19: =세입명세서!M22 -> 0 | N19: 0 | O19: =세입명세서!O22 -> 0 | P19: =세입명세서!P22 -> 0 | Q19: =세입명세서!Q22 -> 0 | R19: =Q19-O19 -> 0 | U19: 수용비및수수료 | V19: =#REF! -> #REF! | W19: =세출명세서!E56 -> 16236000 | X19: =세출명세서!F56 -> 16368000 | Y19: 18372000 | Z19: 18568000 | AA19: =세출명세서!I56 -> 23440000 | AB19: =세출명세서!J56 -> 18868000 | AC19: 23366000 | AD19: =세출명세서!L56 -> 24446000 | AE19: =세출명세서!M56 -> 25746000 | AF19: 28478000 | AG19: =세출명세서!O56 -> 28478000 | AH19: =세출명세서!P56 -> 29178000 | AI19: =세출명세서!Q56 -> 33482000 | AJ19: =AI19-AH19 -> 4304000
C20: 기타보조금계 | L20: =SUM(L21:L25) -> 5040000 | M20: =SUM(M21:M25) -> 4890000 | N20: =SUM(N21:N25) -> 6490000 | O20: =SUM(O21:O25) -> 13040000 | P20: =SUM(P21:P25) -> 13040000 | Q20: =SUM(Q21:Q25) -> 500000 | R20: =Q20-O20 -> -12540000 | U20: 공공요금 | V20: =#REF! -> #REF! | W20: =세출명세서!E71 -> 48535000 | X20: =세출명세서!F71 -> 48535000 | Y20: 48535000 | Z20: =세출명세서!H71 -> 46135000 | AA20: =세출명세서!I71 -> 47550000 | AB20: =세출명세서!J71 -> 47550000 | AC20: 49350000 | AD20: =세출명세서!L71 -> 49350000 | AE20: =세출명세서!M71 -> 49585000 | AF20: 49585000 | AG20: =세출명세서!O71 -> 47135000 | AH20: =세출명세서!P71 -> 38735000 | AI20: =세출명세서!Q71 -> 52785000 | AJ20: =AI20-AH20 -> 14050000
C21: 기타보조금 | L21: =세입명세서!L24 -> 500000 | M21: =세입명세서!M24 -> 350000 | N21: 350000 | O21: =세입명세서!O24 -> 500000 | P21: =세입명세서!P24 -> 500000 | Q21: =세입명세서!Q24 -> 500000 | R21: =Q21-O21 -> 0 | U21: 제세공과금 | V21: =#REF! -> #REF! | W21: =세출명세서!E78 -> 16058000 | X21: =세출명세서!F78 -> 16058000 | Y21: 19848000 | Z21: 13273000 | AA21: =세출명세서!I78 -> 14363000 | AB21: =세출명세서!J78 -> 14643000 | AC21: =세출명세서!J78 -> 14643000 | AD21: =세출명세서!L78 -> 16273000 | AE21: =세출명세서!M78 -> 14893000 | AF21: 14903000 | AG21: =세출명세서!O78 -> 14903000 | AH21: =세출명세서!P78 -> 15633000 | AI21: =세출명세서!Q78 -> 15593000 | AJ21: =AI21-AH21 -> -40000
C22: 문화예술교육지원사업 | L22: =세입명세서!L25 -> 4540000 | M22: =세입명세서!M25 -> 4540000 | N22: 4540000 | O22: =세입명세서!O25 -> 4540000 | P22: =세입명세서!P25 -> 4540000 | Q22: =세입명세서!Q25 -> 0 | R22: =Q22-O22 -> -4540000 | U22: 차량비 | V22: =#REF! -> #REF! | W22: =세출명세서!E99 -> 17600000 | X22: =세출명세서!F99 -> 17600000 | Y22: 17200000 | Z22: =세출명세서!H99 -> 17600000 | AA22: =세출명세서!I99 -> 21200000 | AB22: =세출명세서!J99 -> 23200000 | AC22: 26600000 | AD22: =세출명세서!L99 -> 26600000 | AE22: =세출명세서!M99 -> 24920000 | AF22: 24920000 | AG22: =세출명세서!O99 -> 15300000 | AH22: =세출명세서!P99 -> 15300000 | AI22: =세출명세서!Q99 -> 25600000 | AJ22: =AI22-AH22 -> 10300000
C23: 선배시민자원봉사단사업(서지말기자단) | L23: =세입명세서!L26 -> 0 | M23: =세입명세서!M26 -> 0 | N23: 1600000 | O23: =세입명세서!O26 -> 1600000 | P23: =세입명세서!P26 -> 1600000 | Q23: =세입명세서!Q26 -> 0 | R23: =Q23-O23 -> -1600000 | U23: 기타운영비 | Y23: =세출명세서!F106 -> 0 | Z23: =세출명세서!H106 -> 400000 | AA23: =세출명세서!I106 -> 800000 | AB23: =세출명세서!J106 -> 0 | AC23: 1200000 | AD23: =세출명세서!L106 -> 1200000 | AE23: =세출명세서!M106 -> 1600000 | AF23: 1600000 | AG23: =세출명세서!O106 -> 1600000 | AH23: =세출명세서!P106 -> 1600000 | AI23: =세출명세서!Q106 -> 1600000 | AJ23: =AI23-AH23 -> 0
C24: 선배시민자원봉사단사업(시골마을행복나눔봉사단) | M24: =세입명세서!M27 -> 0 | N24: 0 | O24: =세입명세서!O27 -> 3200000 | P24: =세입명세서!P27 -> 3200000 | Q24: =세입명세서!Q27 -> 0 | R24: =Q24-O24 -> -3200000 | S24: 재산 조성비 | U24: 계 | V24: =V25 -> #REF! | W24: =W25 -> 1526000 | X24: =X25 -> #REF! | Y24: =Y25 -> 13992000 | Z24: =Z25 -> #REF! | AA24: =AA25 -> 11370000 | AB24: =AB25 -> 2720000 | AC24: =AC25 -> 34020000 | ... AI24: =AI25 -> 6490000 | AJ24: =AI24-AH24 -> -34593000
C25: 선배시민자원봉사단사업(찾아가는영양교육) | M25: =세입명세서!M28 -> 0 | N25: 0 | O25: =세입명세서!O28 -> 3200000 | P25: =세입명세서!P28 -> 3200000 | Q25: =세입명세서!Q28 -> 0 | R25: =Q25-O25 -> -3200000 | T25: 시설비 | U25: 소계 | V25: =SUM(V26:V28) -> #REF! | W25: =SUM(W26:W28) -> 1526000 | X25: =SUM(X26:X28) -> #REF! | Y25: =SUM(Y26:Y28) -> 13992000 | Z25: =SUM(Z26:Z28) -> #REF! | AA25: =SUM(AA26:AA28) -> 11370000 | AB25: =SUM(AB26:AB28) -> 2720000 | AC25: =SUM(AC26:AC28) -> 34020000 | ... AI25: =SUM(AI26:AI28) -> 6490000 | AJ25: =AI25-AH25 -> -34593000
A26: 후원금 수입 | B26: 후원금수입 | C26: 소계 | D26: =SUM(D27:D28) -> #REF! | E26: =SUM(E27:E28) -> 57600000 | F26: =SUM(F27:F28) -> 57600000 | G26: =SUM(G27:G28) -> 59980000 | H26: =SUM(H27:H28) -> 73000000 | I26: =SUM(I27:I28) -> 66400000 | J26: =SUM(J27:J28) -> 67200000 | K26: =SUM(K27:K28) -> 67200000 | ... Q26: =SUM(Q27:Q28) -> 80775000 | R26: =Q26-O26 -> 300000 | S26: =AI24/AI5*100 -> 0.20300015 | T26: =AI25/AI5*100 -> 0.20300015 | U26: 시설비 | V26: =#REF! -> #REF! | W26: =세출명세서!E109 -> 0 | X26: =세출명세서!F109 -> #REF! | Y26: 1100000 | Z26: 4000000 | AA26: =세출명세서!I109 -> 2000000 | AB26: =세출명세서!J109 -> 0 | AC26: 15800000 | AD26: =세출명세서!L109 -> 800000 | AE26: =세출명세서!M109 -> 6300000 | AF26: 5400000 | AG26: =세출명세서!O109 -> 10700000 | AH26: =세출명세서!P109 -> 10270000 | AI26: =세출명세서!Q109 -> 0 | AJ26: =AI26-AH26 -> -10270000
B27: =Q26/Q5*100 -> 2.5265542 | C27: 비지정후원금 | D27: =#REF! -> #REF! | E27: =세입명세서!E31 -> 57600000 | F27: =세입명세서!F31 -> 57600000 | G27: 59980000 | H27: 73000000 | I27: =세입명세서!I31 -> 66400000 | J27: =세입명세서!J31 -> 67200000 | K27: 67200000 | L27: =세입명세서!L31 -> 65100000 | M27: =세입명세서!M31 -> 71700000 | N27: 71700000 | O27: =세입명세서!O31 -> 46000000 | P27: =세입명세서!P31 -> 38400000 | Q27: =세입명세서!Q31 -> 72000000 | R27: =Q27-O27 -> 26000000 | U27: 자산취득비 | V27: =#REF! -> #REF! | W27: =세출명세서!E110 -> 0 | X27: =세출명세서!F110 -> #REF! | Y27: 495000 | Z27: =세출명세서!H110 -> #REF! | AA27: =세출명세서!I110 -> 3600000 | AB27: =세출명세서!J110 -> 300000 | AC27: 7600000 | AD27: =세출명세서!L110 -> 16050000 | AE27: =세출명세서!M110 -> 4700000 | AF27: 11263000 | AG27: =세출명세서!O110 -> 15463000 | AH27: =세출명세서!P110 -> 19463000 | AI27: =세출명세서!Q110 -> 700000 | AJ27: =AI27-AH27 -> -18763000
C28: 지정후원금 | L28: =세입명세서!L35+세입명세서!L36 -> 10775000 | M28: =세입명세서!M35+세입명세서!M36 -> 6175000 | N28: 6175000 | O28: =세입명세서!O35+세입명세서!O36 -> 34475000 | P28: =세입명세서!P35+세입명세서!P36 -> 34475000 | Q28: =세입명세서!Q35+세입명세서!Q36 -> 8775000 | R28: =Q28-O28 -> -25700000 | U28: 시설장비유지비 | V28: =#REF! -> #REF! | W28: =세출명세서!E111 -> 1526000 | X28: =세출명세서!F111 -> 2076000 | Y28: 12397000 | Z28: =세출명세서!H111 -> 3126000 | AA28: =세출명세서!I111 -> 5770000 | AB28: =세출명세서!J111 -> 2420000 | AC28: 10620000 | AD28: =세출명세서!L111 -> 9120000 | AE28: =세출명세서!M111 -> 7850000 | AF28: 16850000 | AG28: =세출명세서!O111 -> 12050000 | AH28: =세출명세서!P111 -> 11350000 | AI28: =세출명세서!Q111 -> 5790000 | AJ28: =AI28-AH28 -> -5560000
A29: 전입금 | B29: 전입금 | C29: 소계 | D29: =SUM(D30) -> #REF! | E29: =SUM(E30) -> 51000000 | F29: =SUM(F30) -> 51000000 | G29: =SUM(G30) -> 49613000 | H29: =SUM(H30) -> 51000000 | I29: =SUM(I30) -> 25000000 | J29: =SUM(J30) -> 25000000 | K29: =SUM(K30) -> 25000000 | ... Q29: =SUM(Q30) -> 25000000 | R29: =Q29-O29 -> 0 | S29: 사업비 | U29: 계 | V29: =V30 -> #REF! | W29: =W30 -> 97896000 | X29: =X30 -> 89422000 | Y29: =Y30 -> 98495000 | Z29: =Z30 -> 89377000 | AA29: =AA30 -> 1012073000 | AB29: =AB30 -> 1412465000 | AC29: =AC30 -> 133939000 | ... AI29: =AI30 -> 2604528000 | AJ29: =AI29-AH29 -> 45916000
B30: =Q29/Q5*100 -> 0.78197284 | C30: 법인전입금 | D30: =#REF! -> #REF! | E30: =세입명세서!E37 -> 51000000 | F30: =세입명세서!F37 -> 51000000 | G30: 49613000 | H30: =세입명세서!H37 -> 51000000 | I30: =세입명세서!I37 -> 25000000 | J30: =세입명세서!J37 -> 25000000 | K30: =세입명세서!J37 -> 25000000 | L30: =세입명세서!L37 -> 25000000 | M30: =세입명세서!M37 -> 25000000 | N30: 25000000 | O30: =세입명세서!O37 -> 25000000 | P30: =세입명세서!P37 -> 25000000 | Q30: =세입명세서!Q37 -> 25000000 | R30: =Q30-O30 -> 0 | S30: =AI29/AI5*100 -> 81.466806 | T30: 사업비 | U30: 소계 | V30: =SUM(V31:V56) -> #REF! | W30: =SUM(W31:W56) -> 97896000 | X30: =SUM(X31:X56) -> 89422000 | Y30: =SUM(Y31:Y56) -> 98495000 | Z30: =SUM(Z31:Z56) -> 89377000 | AA30: =세출명세서!I119 -> 1012073000 | AB30: =세출명세서!J119 -> 1412465000 | AC30: =SUM(AC31:AC56) -> 133939000 | AD30: =SUM(AD31:AD56) -> 1918028400 | AE30: =SUM(AE31:AE56) -> 2529796000 | AF30: =SUM(AF31:AF56) -> 2549377000 | AG30: =SUM(AG31:AG58) -> 2544053000 | AH30: =SUM(AH31:AH58) -> 2558612000 | AI30: =SUM(AI31:AI58) -> 2604528000 | AJ30: =AI30-AH30 -> 45916000
A31: 사업수입 | B31: 사업수입 | C31: 소계 | D31: =SUM(D32:D33) -> #REF! | E31: =SUM(E32:E33) -> 80776000 | F31: =SUM(F32:F33) -> 47080000 | G31: =SUM(G32:G33) -> 83255000 | H31: =SUM(H32:H33) -> 46144000 | I31: =SUM(I32:I33) -> 47558000 | J31: =SUM(J32:J33) -> 47558000 | K31: =SUM(K32:K33) -> 47558000 | L31: =SUM(L32:L35) -> 91958000 | M31: =SUM(M32:M35) -> 92450000 | N31: =SUM(N32:N35) -> 85662000 | O31: =SUM(O32:O35) -> 73909000 | P31: =SUM(P32:P35) -> 63471000 | Q31: =SUM(Q32:Q35) -> 99157000 | R31: =Q31-O31 -> 25248000 | T31: =AI30/AI5*100 -> 81.466806 | U31: 평생교육지원사업비 | V31: =#REF! -> #REF! | W31: =세출명세서!E120 -> 27040000 | X31: =세출명세서!F120 -> 27340000 | Y31: 26694000 | Z31: 24604000 | AA31: =세출명세서!I120 -> 27672000 | AB31: =세출명세서!J120 -> 28756000 | AC31: 40516000 | AD31: =세출명세서!L120 -> 45056000 | AE31: =세출명세서!M120 -> 56688000 | AF31: 56688000 | AG31: =세출명세서!O120 -> 29788000 | AH31: =세출명세서!P120 -> 23230000 | AI31: =세출명세서!Q120 -> 63360000 | AJ31: =AI31-AH31 -> 40130000
B32: =Q31/Q5*100 -> 3.1015232 | C32: 경로식당이용료수입 | D32: =#REF! -> #REF! | E32: =세입명세서!E42 -> 70112000 | F32: =세입명세서!F42 -> 36416000 | G32: 72591000 | H32: 35480000 | I32: =세입명세서!I42 -> 36550000 | J32: =세입명세서!J42 -> 36550000 | K32: =세입명세서!J42 -> 36550000 | L32: =세입명세서!L42 -> 36550000 | M32: =세입명세서!M42 -> 42042000 | N32: 38350000 | O32: =세입명세서!O42 -> 27684000 | P32: =세입명세서!P42 -> 22288000 | Q32: =세입명세서!Q42 -> 51325000 | R32: =Q32-O32 -> 23641000 | U32: 고용지원사업비 | AD32: =세출명세서!L154 -> 1300711000 | AE32: =세출명세서!M154 -> 2051000000 | AF32: 2057374000 | AG32: =세출명세서!O154 -> 2057374000 | AH32: =세출명세서!P154 -> 2057374000 | AI32: =세출명세서!Q154 -> 2052300000 | AJ32: =AI32-AH32 -> -5074000
C33: 목욕탕이용료수입 | D33: =#REF! -> #REF! | E33: =세입명세서!E45 -> 10664000 | F33: =세입명세서!F45 -> 10664000 | G33: =세입명세서!F45 -> 10664000 | H33: =세입명세서!H45 -> 10664000 | I33: =세입명세서!I45 -> 11008000 | J33: =세입명세서!J45 -> 11008000 | K33: =세입명세서!J45 -> 11008000 | L33: =세입명세서!L45 -> 11008000 | M33: =세입명세서!M45 -> 11008000 | N33: 7912000 | O33: =세입명세서!O45 -> 6825000 | P33: =세입명세서!P45 -> 1783000 | Q33: =세입명세서!Q45 -> 8432000 | R33: =Q33-O33 -> 1607000 | U33: 기능회복지원사업비 | Z33: 0 | AA33: =세출명세서!I159 -> 2000000 | AB33: =세출명세서!J159 -> 500000 | AC33: 6000000 | AD33: =세출명세서!L159 -> 6000000 | AE33: =세출명세서!M159 -> 8300000 | AF33: 9500000 | AG33: =세출명세서!O159 -> 4000000 | AH33: =세출명세서!P159 -> 13100000 | AI33: =세출명세서!Q159 -> 1000000 | AJ33: =AI33-AH33 -> -12100000
C34: 서지말솜씨방 수입 | L34: =세입명세서!L47 -> 20000000 | M34: =세입명세서!M47 -> 15000000 | N34: 15000000 | O34: =세입명세서!O47 -> 15000000 | P34: =세입명세서!P47 -> 15000000 | Q34: =세입명세서!Q47 -> 15000000 | R34: =Q34-O34 -> 0 | U34: 급식지원사업비 | V34: =#REF! -> #REF! | W34: =세출명세서!E161 -> 46296000 | X34: =세출명세서!F161 -> 35922000 | Y34: 48601000 | Z34: 33613000 | AA34: =세출명세서!I161 -> 39609000 | AB34: =세출명세서!J161 -> 36869000 | AC34: 42243000 | AD34: =세출명세서!L161 -> 91563000 | AE34: =세출명세서!M161 -> 91876000 | AF34: 97556000 | AG34: =세출명세서!O161 -> 88332000 | AH34: =세출명세서!P161 -> 88175000 | AI34: =세출명세서!Q161 -> 97686000 | AJ34: =AI34-AH34 -> 9511000
C35: 노인대학수입 | L35: =세입명세서!L48 -> 24400000 | M35: =세입명세서!M48 -> 24400000 | N35: 24400000 | O35: =세입명세서!O48 -> 24400000 | P35: =세입명세서!P48 -> 24400000 | Q35: =세입명세서!Q48 -> 24400000 | R35: =Q35-O35 -> 0 | U35: 개인위생관리사업비 | V35: =#REF! -> #REF! | W35: =세출명세서!E173 -> 1400000 | X35: =세출명세서!F173 -> 1400000 | Y35: 1400000 | Z35: =세출명세서!H173 -> 1400000 | AA35: =세출명세서!I173 -> 1400000 | AB35: =세출명세서!J173 -> 1200000 | AC35: =세출명세서!J173 -> 1200000 | AD35: =세출명세서!L173 -> 1200000 | AE35: =세출명세서!M173 -> 1200000 | AF35: 1200000 | AG35: =세출명세서!O173 -> 1200000 | AH35: =세출명세서!P173 -> 1200000 | AI35: =세출명세서!Q173 -> 1200000 | AJ35: =AI35-AH35 -> 0
A36: 이월금 | B36: 이월금 | C36: 소계 | D36: =SUM(D37:D38) -> #REF! | E36: =SUM(E37:E38) -> 8000000 | F36: =SUM(F37:F38) -> 28878000 | G36: =SUM(G37:G38) -> 3960000 | H36: =SUM(H37:H38) -> 28878000 | I36: =SUM(I37:I38) -> 18392000 | J36: =SUM(J37:J38) -> 15000000 | K36: =SUM(K37:K38) -> 23976000 | ... Q36: =SUM(Q37:Q38) -> 30000000 | R36: =Q36-O36 -> -44188000 | U36: 정서생활지원사업비 | Z36: 0 | AA36: =세출명세서!I175 -> 500000 | AB36: =세출명세서!J175 -> 500000 | AC36: =세출명세서!J175 -> 500000 | AD36: =세출명세서!L175 -> 500000 | AE36: =세출명세서!M175 -> 500000 | AF36: 1200000 | AG36: =세출명세서!O175 -> 1200000 | AH36: =세출명세서!P175 -> 1200000 | AI36: =세출명세서!Q175 -> 7500000 | AJ36: =AI36-AH36 -> 6300000
B37: =Q36/Q5*100 -> 0.9383674 | C37: 전년도이월금 | D37: =#REF! -> #REF! | E37: =세입명세서!E53 -> 8000000 | F37: =세입명세서!F53 -> 10124000 | G37: 2247000 | H37: =세입명세서!H53 -> 10124000 | I37: =세입명세서!I53 -> 6107000 | J37: =세입명세서!J53 -> 5000000 | K37: 7824000 | L37: =세입명세서!L53 -> 9292000 | M37: =세입명세서!M53 -> 10000000 | N37: 47887000 | O37: =세입명세서!O53 -> 47887000 | P37: =세입명세서!P53 -> 47887000 | Q37: =세입명세서!Q53 -> 20000000 | R37: =Q37-O37 -> -27887000 | U37: 사회참여지원사업비 | V37: =#REF! -> #REF! | W37: =세출명세서!E179 -> 160000 | X37: =세출명세서!F179 -> 160000 | Y37: 80000 | Z37: =세출명세서!H179 -> 160000 | AA37: =세출명세서!I179 -> 180000 | AB37: =세출명세서!J179 -> 300000 | AC37: 600000 | AD37: =세출명세서!L179 -> 600000 | AE37: =세출명세서!M179 -> 600000 | AF37: 600000 | AG37: =세출명세서!O179 -> 600000 | AH37: =세출명세서!P179 -> 600000 | AI37: =세출명세서!Q179 -> 900000 | AJ37: =AI37-AH37 -> 300000
C38: 전년도이월금(후원금) | D38: =#REF! -> #REF! | E38: =세입명세서!E54 -> 0 | F38: =세입명세서!F54 -> 18754000 | G38: 1713000 | H38: =세입명세서!H54 -> 18754000 | I38: =세입명세서!I54 -> 12285000 | J38: =세입명세서!J54 -> 10000000 | K38: 16152000 | L38: =세입명세서!L54 -> 16152000 | M38: =세입명세서!M54 -> 20000000 | N38: 26301000 | O38: =세입명세서!O54 -> 26301000 | P38: =세입명세서!P54 -> 26301000 | Q38: =세입명세서!Q54 -> 10000000 | R38: =Q38-O38 -> -16301000 | U38: 노인연계프로그램 | AD38: =세출명세서!L183 -> 25000000 | AE38: =세출명세서!M183 -> 25000000 | AF38: 25000000 | AG38: =세출명세서!O183 -> 25000000 | AH38: =세출명세서!P183 -> 25000000 | AI38: =세출명세서!Q183 -> 25000000 | AJ38: =AI38-AH38 -> 0
A39: 잡수입 | B39: 잡수입 | C39: 소계 | D39: =SUM(D40:D41) -> #REF! | E39: =SUM(E40:E41) -> 4220000 | F39: =SUM(F40:F41) -> 8220000 | G39: =SUM(G40:G41) -> 7448000 | H39: =SUM(H40:H41) -> 6140000 | I39: =SUM(I40:I41) -> 5180000 | J39: =SUM(J40:J41) -> 5180000 | K39: =SUM(K40:K41) -> 5180000 | ... Q39: =SUM(Q40:Q41) -> 47570000 | R39: =Q39-O39 -> 43091000 | U39: 지역자원개발사업비 | V39: =#REF! -> #REF! | W39: =세출명세서!E194 -> 2100000 | X39: =세출명세서!F194 -> 2100000 | Y39: 2850000 | Z39: =세출명세서!H194 -> 2100000 | AA39: =세출명세서!I194 -> 3580000 | AB39: =세출명세서!J194 -> 2580000 | AC39: =세출명세서!J194 -> 2580000 | AD39: =세출명세서!L194 -> 3080000 | AE39: =세출명세서!M194 -> 2670000 | AF39: 3170000 | AG39: =세출명세서!O194 -> 3170000 | AH39: =세출명세서!P194 -> 3170000 | AI39: =세출명세서!Q194 -> 3170000 | AJ39: =AI39-AH39 -> 0
B40: =Q39/Q5*100 -> 1.4879379 | C40: 기타예금이자수입 | D40: =#REF! -> #REF! | E40: =세입명세서!E57 -> 40000 | F40: =세입명세서!F57 -> 40000 | G40: 40000 | H40: 200000 | I40: =세입명세서!I57 -> 40000 | J40: =세입명세서!J57 -> 40000 | K40: =세입명세서!J57 -> 40000 | L40: =세입명세서!L57 -> 200000 | M40: =세입명세서!M57 -> 200000 | N40: 200000 | O40: =세입명세서!O57 -> 529000 | P40: =세입명세서!P57 -> 529000 | Q40: =세입명세서!Q57 -> 0 | R40: =Q40-O40 -> -529000 | U40: 지역복지연계사업비 | V40: =#REF! -> #REF! | W40: =세출명세서!E199 -> 13500000 | X40: =세출명세서!F199 -> 14500000 | Y40: 13470000 | Z40: 19000000 | AA40: =세출명세서!I199 -> 19435000 | AB40: =세출명세서!J199 -> 12000000 | AC40: 28300000 | AD40: =세출명세서!L199 -> 25300000 | AE40: =세출명세서!M199 -> 22700000 | AF40: 23000000 | AG40: =세출명세서!O199 -> 55300000 | AH40: =세출명세서!P199 -> 55650000 | AI40: =세출명세서!Q199 -> 24000000 | AJ40: =AI40-AH40 -> -31650000
C41: 기타잡수입 | D41: =#REF! -> #REF! | E41: =세입명세서!E58 -> 4180000 | F41: =세입명세서!F58 -> 8180000 | G41: 7408000 | H41: 5940000 | I41: =세입명세서!I58 -> 5140000 | J41: =세입명세서!J58 -> 5140000 | K41: =세입명세서!J58 -> 5140000 | L41: =세입명세서!L58 -> 7404000 | M41: =세입명세서!M58 -> 6960000 | N41: 6900000 | O41: =세입명세서!O58 -> 3950000 | P41: =세입명세서!P58 -> 15024000 | Q41: =세입명세서!Q58 -> 47570000 | R41: =Q41-O41 -> 43620000 | U41: 운영관리사업비 | V41: =#REF! -> #REF! | W41: =세출명세서!E202 -> 2060000 | X41: =세출명세서!F202 -> 2660000 | Y41: 2060000 | Z41: =세출명세서!H202 -> 3160000 | AA41: =세출명세서!I202 -> 6820000 | AB41: =세출명세서!J202 -> 4220000 | AC41: 6600000 | AD41: =세출명세서!L202 -> 9600000 | AE41: =세출명세서!M202 -> 9650000 | AF41: 9850000 | AG41: =세출명세서!O202 -> 7400000 | AH41: =세출명세서!P202 -> 7400000 | AI41: =세출명세서!Q202 -> 8400000 | AJ41: =AI41-AH41 -> 1000000
U42: 홍보사업비 | V42: =#REF! -> #REF! | W42: =세출명세서!E209 -> 4920000 | X42: =세출명세서!F209 -> 4920000 | Y42: 2920000 | Z42: =세출명세서!H209 -> 4920000 | AA42: =세출명세서!I209 -> 5264000 | AB42: =세출명세서!J209 -> 4840000 | AC42: 5300000 | AD42: =세출명세서!L209 -> 5300000 | AE42: =세출명세서!M209 -> 5540000 | AF42: 6040000 | AG42: =세출명세서!O209 -> 4490000 | AH42: =세출명세서!P209 -> 5240000 | AI42: =세출명세서!Q209 -> 6540000 | AJ42: =AI42-AH42 -> 1300000
...

Sheet 세입명세서
A1: 2021년 세입예산 산출내역서
A2: (세입) | U2: (단위 : 천원)
A3: 관 | B3: 항 | C3: 목 | D3: 2016년도 | E3: 2017년도 | F3: 1차추경 | G3: 2016년 | H3: 2017년 | I3: 2018년 | J3: 본예산 | K3: 1차추경 | L3: 2019년 | M3: 2020년 | N3: 1차 | O3: 2차 | P3: 2020년3차 | Q3: 2021년 | R3: 증감 | S3: 세 입 예 산 산 출 내 역
A4: 총 계 | D4: =D5+D29+D37+D40+D51+D55 -> 548206000 | E4: =E5+E29+E37+E40+E51+E55 -> 554916000 | F4: =F5+F29+F37+F40+F51+F55 -> 546098000 | G4: =G5+G29+G37+G40+G51+G55 -> 548206000 | H4: =H5+H29+H37+H40+H51+H55 -> 558482000 | I4: =I5+I29+I37+I40+I51+I55 -> 623850000 | J4: =J5+J29+J37+J40+J51+J55 -> 621258000 | K4: =K5+K29+K37+K40+K51+K55 -> 734793000 | ... Q4: =Q5+Q29+Q37+Q40+Q51+Q55 -> 3197042000 | R4: =Q4-P4 -> 46215000
A5: 보조금수입 | D5: =D6 -> 343950000 | E5: =E6 -> 353320000 | F5: =F6 -> 353320000 | G5: =G6 -> 343950000 | H5: =H6 -> 353320000 | I5: =I6 -> 461320000 | J5: =J6 -> 461320000 | K5: =K6 -> 559895000 | ... Q5: =Q6 -> 2914540000 | R5: =Q5-P5 -> 14800000
B6: 보조금수입 | D6: =D7 -> 343950000 | E6: =E7 -> 353320000 | F6: =F7 -> 353320000 | G6: =G7 -> 343950000 | H6: =H7 -> 353320000 | I6: =I7 -> 461320000 | J6: =J7 -> 461320000 | K6: =K7 -> 559895000 | L6: =L7+L23 -> 2252823000 | M6: =M7+M23 -> 2882583000 | N6: =N7+N23 -> 2893190000 | O6: =O7+O23 -> 2899740000 | P6: =P7+P23 -> 2899740000 | Q6: =Q7+Q23 -> 2914540000 | R6: =Q6-P6 -> 14800000
C7: 시군구보조금 소계 | D7: =SUM(D8:D10) -> 343950000 | E7: =SUM(E8:E10) -> 353320000 | F7: =SUM(F8:F10) -> 353320000 | G7: =SUM(G8:G10) -> 343950000 | H7: =SUM(H8:H10) -> 353320000 | I7: =SUM(I8:I10) -> 461320000 | J7: =SUM(J8:J10) -> 461320000 | K7: =SUM(K8:K10) -> 559895000 | L7: =SUM(L8:L22) -> 2247783000 | M7: =SUM(M8:M22) -> 2877693000 | N7: =SUM(N8:N22) -> 2886700000 | O7: =SUM(O8:O22) -> 2886700000 | P7: =SUM(P8:P22) -> 2886700000 | Q7: =SUM(Q8:Q22) -> 2914040000 | R7: =Q7-P7 -> 27340000
C8: 운영비보조금 | D8: 330750000 | E8: 340000000 | F8: 340000000 | G8: 330750000 | H8: 340000000 | I8: 448000000 | J8: 448000000 | K8: =T8 -> 546575000 | L8: 515200000 | M8: 530656000 | N8: 530656000 | O8: 530656000 | P8: 530656000 | Q8: =U8 -> 546575000 | R8: =Q8-P8 -> 15919000 | S8: 복지관운영 경상보조금수입 530,656,000원×3% | T8: 546575000 | U8: 546575000
C9: 종사자특별수당보조금 | D9: 13200000 | E9: 13320000 | F9: 13320000 | G9: 13200000 | H9: 13320000 | I9: 13320000 | J9: 13320000 | K9: 13320000 | L9: 13320000 | M9: 13320000 | N9: 13320000 | O9: 13320000 | P9: 13320000 | Q9: =U9 -> 13320000 | R9: =Q9-P9 -> 0 | S9: 5명×150,000원 ×12월 | T9: 9000000 | U9: =SUM(T9:T10) -> 13320000
S10: 3명×120,000원×12월 | T10: 4320000
C11: 노인연계프로그램보조금 | I11: 25000000 | J11: 25000000 | K11: 25000000 | L11: 25000000 | M11: 25000000 | N11: 25000000 | O11: 25000000 | P11: 25000000 | Q11: =U11 -> 25000000 | R11: =Q11-P11 -> 0 | S11: 노인연계프로그램보조금 | T11: 25000000 | U11: =T11 -> 25000000
C12: 무료중식사업보조금 | I12: 39000000 | J12: 39000000 | K12: 39000000 | L12: 39000000 | M12: 39000000 | N12: 39000000 | O12: 39000000 | P12: 39000000 | Q12: =U12 -> 39325000 | R12: =Q12-P12 -> 325000 | S12: 무료중식사업보조금 2,500원×242일×65일 | T12: =2500*242*65 -> 39325000 | U12: =SUM(T12) -> 39325000
C13: 밑반찬배달사업보조금 | I13: 10320000 | J13: 10320000 | K13: 10320000 | L13: 10320000 | M13: 10320000 | N13: 15000000 | O13: 15000000 | P13: 15000000 | Q13: =U13 -> 15093000 | R13: =Q13-P13 -> 93000 | S13: 밑반찬배달사업보조금 1,350원×52주×5일×43명 | T13: 15093000 | U13: =SUM(T13) -> 15093000
C14: 노인사회활동지원사업 보조금 | I14: 864400000 | J14: 1275600000 | K14: 1279600000 | L14: 1279600000 | M14: 2036000000 | N14: 2037900000 | O14: 2037900000 | P14: 2037900000 | Q14: =U14 -> 2037300000 | R14: =Q14-P14 -> -600000 | S14: 공익형보조금 | T14: 1984500000 | U14: =SUM(T14:T15) -> 2037300000
N15: 0 | O15: 0 | P15: 0 | Q15: =U15 -> 0 | S15: 시장형보조금 | T15: 52800000
C16: 노인사회활동지원사업 전담관리보조금 | I16: 40924000 | J16: 68055000 | K16: 68055000 | L16: 68055000 | M16: 120250000 | N16: 120250000 | O16: 120250000 | P16: 120250000 | Q16: =U16 -> 122005000 | R16: =Q16-P16 -> 1755000 | S16: 1,877,000원×13개월×5명 | T16: =1877000*13*5 -> 122005000 | U16: =SUM(T16) -> 122005000
C17: 맞춤형운동처방사업보조금 | I17: 22234000 | J17: 24710000 | K17: 24710000 | L17: 24710000 | M17: 25641000 | N17: 27535000 | O17: 27535000 | P17: 27535000 | Q17: =U17 -> 28060000 | R17: =Q17-P17 -> 525000 | S17: 운동처방사보조금 | T17: 28060000 | U17: =T17 -> 28060000
C18: 정읍시북부노인대학보조금 | I18: 13000000 | J18: 15000000 | L18: 15000000 | M18: 15000000 | N18: 15432000 | O18: 15432000 | P18: 15432000 | Q18: =U18 -> 15432000 | R18: =Q18-P18 -> 0 | S18: 노인대학보조금 | T18: 15432000 | U18: =T18 -> 15432000
C19: 지역주도형청년일자리보조금 | I19: 0 | J19: 0 | K19: 41088400 | L19: 41088000 | M19: 22966000 | N19: 23067000 | O19: 23067000 | P19: 23067000 | Q19: =U19 -> 0 | R19: =Q19-P19 -> -23067000 | U19: =T19 -> 0
C20: 응급안전알리미사업보조금 | J20: 0 | K20: 0 | L20: 86490000 | M20: 39540000 | N20: 39540000 | O20: 39540000 | P20: 39540000 | Q20: =U20 -> 36930000 | R20: =Q20-P20 -> -2610000 | S20: 응급안전알리미사업보조금 | T20: 36930000 | U20: =T20 -> 36930000
C21: 경로당정향누리사업보조금 | P21: 0 | Q21: =U21 -> 35000000 | R21: =Q21-P21 -> 35000000 | S21: 정향누리사업보조금 | T21: 35000000 | U21: =T21 -> 35000000
C22: 기능보강사업보조금 | K22: 0 | L22: 130000000 | M22: 0 | N22: 0 | O22: 0 | P22: 0 | Q22: =U22 -> 0 | R22: =Q22-P22 -> 0
C23: 기타보조금계 | I23: =SUM(I24:I28) -> 5220000 | J23: =SUM(J24:J28) -> 500000 | K23: =SUM(K24:K28) -> 5040000 | L23: =SUM(L24:L28) -> 5040000 | M23: =SUM(M24:M28) -> 4890000 | N23: =SUM(N24:N28) -> 6490000 | O23: =SUM(O24:O28) -> 13040000 | P23: =SUM(P24:P28) -> 13040000 | Q23: =SUM(Q24:Q28) -> 500000 | R23: =Q23-P23 -> -12540000
C24: 직원동아리활동지원금 | I24: 680000 | J24: 500000 | K24: 500000 | L24: 500000 | M24: 350000 | N24: 350000 | O24: =T24 -> 500000 | P24: 500000 | Q24: =U24 -> 500000 | R24: =Q24-P24 -> 0 | S24: 직원동아리단체활동지원금 | T24: 500000 | U24: =T24 -> 500000
C25: 문화예술교육지원사업 | I25: 4540000 | J25: 0 | K25: 4540000 | L25: 4540000 | M25: 4540000 | N25: 4540000 | O25: 4540000 | P25: 4540000 | Q25: =U25 -> 0 | R25: =Q25-P25 -> -4540000 | U25: =T25 -> 0
C26: 선배시민자원봉사단사업 (서지말기자단) | L26: 0 | M26: 0 | N26: 1600000 | O26: 1600000 | P26: 1600000 | Q26: =U26 -> 0 | R26: =Q26-P26 -> -1600000 | U26: =T26 -> 0
C27: 선배시민자원봉사단사업 (시골마을행복나눔봉사단) | L27: 0 | M27: 0 | N27: 0 | O27: 3200000 | P27: 3200000 | Q27: =U27 -> 0 | R27: =Q27-P27 -> -3200000 | U27: =T27 -> 0
C28: 선배시민자원봉사단사업 (찾아가는영양교육) | L28: 0 | M28: 0 | N28: 0 | O28: 3200000 | P28: 3200000 | Q28: =U28 -> 0 | R28: =Q28-P28 -> -3200000 | U28: =T28 -> 0
A29: 후원금수입 | D29: =D30 -> 59980000 | E29: =E30 -> 57600000 | F29: =F30 -> 57600000 | G29: =G30 -> 59980000 | H29: =H30 -> 73000000 | I29: =I30 -> 66400000 | J29: =J30 -> 67200000 | K29: =K30 -> 67200000 | ... Q29: =Q30 -> 80775000 | R29: =Q29-P29 -> 7900000
B30: 후원금수입 | D30: =SUM(D31:D34) -> 59980000 | E30: =SUM(E31:E34) -> 57600000 | F30: 57600000 | G30: =SUM(G31) -> 59980000 | H30: =SUM(H31) -> 73000000 | I30: =I31 -> 66400000 | J30: =J31 -> 67200000 | K30: =K31 -> 67200000 | L30: =SUM(L31:L36) -> 75875000 | M30: =SUM(M31:M36) -> 77875000 | N30: =SUM(N31:N36) -> 77875000 | O30: =SUM(O31:O36) -> 80475000 | P30: =SUM(P31:P36) -> 72875000 | Q30: =SUM(Q31:Q36) -> 80775000 | R30: =Q30-P30 -> 7900000
C31: 비지정후원금 | D31: 59980000 | E31: 57600000 | F31: 57600000 | G31: 59980000 | H31: 73000000 | I31: 66400000 | J31: 67200000 | K31: 67200000 | L31: 65100000 | M31: 71700000 | N31: 71700000 | O31: 46000000 | P31: 38400000 | Q31: =SUM(U31:U34) -> 72000000 | R31: =Q31-P31 -> 33600000 | S31: CMS 2,500,000원×12월 | T31: 30000000 | U31: =SUM(T31:T34) -> 72000000
S32: 일시금 500,000원×12월 | T32: 6000000
S33: 5월 어버이날행사 일시금 1,000,000원×1회 | T33: 1000000
S34: 10월행사 일시금 35,000,000원×1회 | T34: 35000000
C35: 지정후원금 | I35: 1370000 | J35: 0 | K35: 0 | L35: 10000000 | M35: 5400000 | N35: 5400000 | O35: 34475000 | P35: 34475000 | Q35: =SUM(U35:U36) -> 8775000 | R35: =Q35-P35 -> -25700000 | S35: 지역문화해설가양성사업 지원금 | T35: 8000000 | U35: =SUM(T35:T36) -> 8775000
K36: 0 | L36: 775000 | M36: 775000 | N36: 775000 | S36: 공기청정기렌탈료후원금 | T36: 775000
A37: 전입금 | D37: =D38 -> 49613000 | E37: =E38 -> 51000000 | F37: =F38 -> 51000000 | G37: =G38 -> 49613000 | H37: =H38 -> 51000000 | I37: =I38 -> 25000000 | J37: =J38 -> 25000000 | K37: =K38 -> 25000000 | ... Q37: =Q38 -> 25000000 | R37: =Q37-P37 -> 0
B38: 전입금 | D38: =D39 -> 49613000 | E38: =E39 -> 51000000 | F38: =F39 -> 51000000 | G38: =G39 -> 49613000 | H38: =H39 -> 51000000 | I38: =I39 -> 25000000 | J38: =J39 -> 25000000 | K38: =K39 -> 25000000 | ... Q38: =Q39 -> 25000000 | R38: =Q38-P38 -> 0
C39: 법인전입금 | D39: 49613000 | E39: 51000000 | F39: 51000000 | G39: 49613000 | H39: 51000000 | I39: 25000000 | J39: 25000000 | K39: =T39 -> 25000000 | L39: 25000000 | M39: 25000000 | N39: 25000000 | O39: 25000000 | P39: 25000000 | Q39: =U39 -> 25000000 | R39: =Q39-P39 -> 0 | S39: 법인전입금수입 25,000,000원 | T39: 25000000 | U39: =T39 -> 25000000
A40: 사업수입 | D40: =D41 -> 83255000 | E40: =E41 -> 80776000 | F40: =F41 -> 47080000 | G40: =G41 -> 83255000 | H40: =H41 -> 46144000 | I40: =I41 -> 47558000 | J40: =J41 -> 47558000 | K40: =K41 -> 47558000 | ... Q40: =Q41 -> 99157000 | R40: =Q40-P40 -> 35686000
...

Sheet 세출명세서
A1: 2021년 세출예산 산출내역서
V2: (단위:천원)
A3: 관 | B3: 항 | C3: 목 | D3: 2016년 | E3: 2017년 | F3: 1차추경 | G3: 2016년 | H3: 2017년 | I3: 2018년 | J3: 본예산 | K3: 1차추경 | L3: 2019년 | M3: 2020년 | N3: 1차 | O3: 2차 | P3: 2020년3차 | Q3: 2021년 | R3: 증감 | S3: 산 출 내 역
A4: 총 계 | D4: =D5+D107+D118+D277+D280 -> 544151000 | E4: =E5+E107+E118+E277+E280 -> 542833000 | F4: =F5+F107+F118+F277+F280 -> #REF! | G4: =G5+G107+G118+G277+G280 -> 544151000 | H4: =H5+H107+H118+H277+H280 -> #REF! | I4: =I5+I107+I118+I277+I280 -> 1529043000 | J4: =J5+J107+J118+J277+J280 -> 1941858000 | K4: =K5+K107+K118+K277+K280 -> 2023145000 | ... Q4: =Q5+Q107+Q118+Q277+Q280 -> 3197042000 | R4: =Q4-P4 -> 46215000
A5: 사무비 | D5: =D6+D43+D54 -> 430695000 | E5: =E6+E43+E54 -> 442423000 | F5: =F6+F43+F54 -> 442270000 | G5: =G6+G43+G54 -> 430695000 | H5: =H6+H43+H54 -> 459818000 | I5: =I6+I43+I54 -> 504747000 | J5: =J6+J43+J54 -> 525468000 | K5: =K6+K43+K54 -> 527890000 | ... Q5: =Q6+Q43+Q54 -> 577397000 | R5: =Q5-P5 -> 45824000
B6: 인건비 | D6: =SUM(D7:D42) -> 314390000 | E6: =SUM(E7:E42) -> 330794000 | F6: =SUM(F7:F42) -> 330509000 | G6: =SUM(G7:G42) -> 314390000 | H6: =SUM(H7:H42) -> 350342000 | I6: =SUM(I7:I42) -> 386354000 | J6: =SUM(J7:J42) -> 408807000 | K6: =SUM(K7:K42) -> 399731000 | ... Q6: =SUM(Q7:Q42) -> 435297000 | R6: =Q6-P6 -> 16010000 | S6: 직 | T6: 호봉
C7: 급여 | D7: 218997000 | E7: 229395000 | F7: 229395000 | G7: 218997000 | H7: 230087000 | I7: 262591000 | J7: 275853000 | K7: 267392000 | L7: 267392000 | M7: 282641000 | N7: 282436000 | O7: 280156000 | P7: 279703000 | Q7: =ROUNDUP(SUM(V7:V20),-3) -> 293574000 | R7: =Q7-P7 -> 13871000 | S7: 관장 | T7: 20 | U7: 4,592,900원×12개월 | V7: =4592900*12 -> 55114800
S8: 과장 | T8: 20 | U8: 3,808,900원×11개월 | V8: =3808900*11 -> 41897900
T9: 21 | U9: 3,863,200원×1개월 | V9: =3863200*1 -> 3863200
S10: 과장 | T10: 16 | U10: 3,556,000원×12개월 | V10: =3556000*12 -> 42672000
S11: 선임사회복지사 | T11: 8 | U11: 2,580,100원×1개월 | V11: =2580100*1 -> 2580100
T12: 9 | U12: 2,681,500원×11개월 | V12: =2681500*11 -> 29496500
S13: 사회복지사 | T13: 11 | U13: 2,634,000원×9개월 | V13: =2634000*9 -> 23706000
T14: 12 | U14: 2,702,500원×3개월 | V14: =2702500*3 -> 8107500
S15: 영양사 | T15: 9 | U15: 2,221,900원×8개월 | V15: =2221900*8 -> 17775200
T16: 10 | U16: 2,317,000원×4개월 | V16: =2317000*4 -> 9268000
S17: 운전기사 | T17: 9 | U17: 2,410,600원×3개월 | V17: =2410600*3 -> 7231800
T18: 10 | U18: 2,490,200원×9개월 | V18: =2490200*9 -> 22411800
S19: 조리사 | T19: 10 | U19: 2,397,500원×4개월 | V19: =2397500*4 -> 9590000
T20: 11 | U20: 2,482,400원×8개월 | V20: =2482400*8 -> 19859200
C21: 일용잡급 | H21: 12495000 | I21: 10200000 | J21: 10900000 | K21: 11800000 | L21: 11800000 | M21: 13200000 | N21: 13200000 | O21: 13200000 | P21: 13200000 | Q21: =SUM(V21:V22) -> 13200000 | R21: =Q21-P21 -> 0 | S21: 조리보조원 | T21: 시급제 | U21: 10,000원×4시간×25일×12개월 | V21: =10000*4*25*12 -> 12000000
S22: 차량운전일용직 | U22: 100,000원×12회 | V22: =100000*12 -> 1200000
C23: 제수당 | D23: 46019000 | E23: 49755000 | F23: 49497000 | G23: 46019000 | H23: 48790000 | I23: 58956000 | J23: 63906000 | K23: 63247000 | L23: 63247000 | M23: 70633000 | N23: 64007000 | O23: 63059000 | P23: 62618000 | Q23: =ROUND(SUM(V23:V32),-3) -> 63312000 | R23: =Q23-P23 -> 694000 | S23: 효도휴가비 | U23: 14,680,500원×2회 | V23: =14680500*2 -> 29361000
T24: 전담관리자 | U24: 495,700원×5명×2회 | V24: =495700*5*2 -> 4957000
T25: 운동처방사 | U25: 1,126,200원×1명×1회 | V25: =1126200*1*1 -> 1126200
T26: 응급안전알리미 | U26: 1,094,000원×1명×2회 | V26: =1094000*2 -> 2188000
T27: 시간제조리보조원 | U27: 300,000원×1명×2회 | V27: =300000*2 -> 600000
S28: 종사자특별수당 | U28: 5명×150,000원 ×12월 | V28: =5*150000*12 -> 9000000
U29: 3명×120,000원×12월 | V29: =120000*3*12 -> 4320000
S30: 기타수당 | T30: 전담관리자 | U30: 1명×100,000원×12월 | V30: =1*100000*12 -> 1200000
S31: 위험수당 | T31: 시설관리 | U31: 200,000원×12개월 | V31: =200000*12 -> 2400000
S32: 가족수당 | T32: 직원 | U32: 680,000원×12개월 | V32: =680000*12 -> 8160000
C33: 퇴직금 및 퇴직적립금 | D33: 25494000 | E33: 26639000 | F33: 26612000 | G33: 25494000 | H33: 32816000 | I33: 27367000 | J33: 28936000 | K33: 28001000 | L33: 28001000 | M33: 28938000 | N33: 29579000 | O33: 29311000 | P33: 29509000 | Q33: =SUM(V33:V37) -> 30573000 | R33: =Q33-P33 -> 1064000 | S33: 퇴직연금 | U33: 2,398,500원×12개월 | V33: =2398500*12 -> 28782000
T34: 전담관리자 | U34: (8,330원×12개월)+413,000원 | V34: =ROUNDUP((8330*12)+413000,-3) -> 513000
T35: 운동처방사 | U35: 94,000원×1명×1회 | V35: =94000*1*1 -> 94000
T36: 응급안전알리미 | U36: 92,000원×1명×2회 | V36: =92000*2 -> 184000
T37: 조리보조원 | U37: 10,000원×4시간×25일×1개월 | V37: =10000*4*25*1 -> 1000000
C38: 사회보험 부담금 | D38: 23880000 | E38: 25005000 | F38: 25005000 | G38: 23880000 | H38: 26154000 | I38: 27240000 | J38: 29212000 | K38: 29291000 | L38: 31440000 | M38: 35055000 | N38: 34257000 | O38: 34257000 | P38: 34257000 | Q38: =SUM(V38:V42) -> 34638000 | R38: =Q38-P38 -> 381000 | S38: 건강보험 | U38: 963,000원×12개월 | V38: =963000*12 -> 11556000
S39: 장기요양보험료 | U39: 99,000원×12개월 | V39: =99000*12 -> 1188000
S40: 국민연금 | U40: 1,295,500원×12개월 | V40: =1295500*12 -> 15546000
...
