Workbook

Sheet 세입세출총괄표
A1: 2022년 예산서 세입세출 총괄표
AA2: (단위:천원)
A3: 관 | B3: 항 | C3: 목 | D3: 2016 | E3: 2017 | F3: 1차추경 | G3: 2016 | H3: 2020년 | I3: 2020년 3차 | J3: 2020년 3차 | K3: 2020년 3차 | L3: 2021년 | M3: 2021년1차 | N3: 2021년 예산(A) | O3: 2022년 예산(B) | P3: 증감(B)-(A) | R3: 관 | S3: 항 | T3: 목 | U3: 2020년 | V3: 2020년 3차 | W3: 2020년 3차 | X3: 2020년 3차 | Y3: 2021년 | Z3: 2021년1차 | AA3: 2021년 예산(A) | AB3: 2022년 예산(B) | AC3: 증감(B)-(A)
P4: 금액 | Q4: 비율(%) | AC4: 금액 | AD4: 비율(%)
A5: 총 계 | D5: =D6+#REF!+D24+D27+D29+D34+D37 -> #REF! | E5: =E6+#REF!+E24+E27+E29+E34+E37 -> #REF! | F5: =F6+#REF!+F24+F27+F29+F34+F37 -> #REF! | G5: =G6+#REF!+G24+G27+G29+G34+G37 -> #REF! | H5: =H6+H24+H27+H29+H34+H37 -> 730726000 | I5: =I6+I24+I27+I29+I34+I37 -> 748428000 | J5: =J6+J24+J27+J29+J34+J37 -> 708099000 | K5: =K6+K24+K27+K29+K34+K37 -> 690061000 | L5: =L6+L24+L27+L29+L34+L37 -> 751452000 | M5: =M6+M24+M27+M29+M34+M37 -> 767582000 | N5: =N6+N24+N27+N29+N34+N37 -> 3266576000 | O5: =O6+O24+O27+O29+O34+O37 -> 3223709000 | P5: =O5-N5 -> -42867000 | Q5: =P5/N5 -> -0.013122915 | R5: 총 계 | U5: =U6+U24+U29+U57+U60 -> #REF! | V5: =V6+V24+V29+V57+V60 -> #REF! | W5: =W6+W24+W29+W57+W60 -> #REF! | X5: =X6+X24+X29+X57+X60 -> #REF! | Y5: =Y6+Y24+Y29+Y57+Y60 -> #REF! | Z5: =Z6+Z24+Z29+Z57+Z60 -> #REF! | AA5: =AA6+AA24+AA29+AA57+AA60 -> 3266576000 | AB5: =AB6+AB24+AB29+AB57+AB60 -> 3223709000 | AC5: =AB5-AA5 -> -42867000 | AD5: =AC5/AA5 -> -0.013122915
A6: 보조금수입 | B6: 보조금수입 | C6: 소계 | D6: =SUM(D7:D9) -> #REF! | E6: =SUM(E7:E9) -> 353320000 | F6: =SUM(F7:F9) -> 353320000 | G6: =SUM(G7:G9) -> 343950000 | H6: =SUM(H7:H9) -> 543976000 | I6: =SUM(I7:I9) -> 543976000 | J6: =SUM(J7:J9) -> 543976000 | K6: =SUM(K7:K9) -> 543976000 | ... M6: =SUM(M7:M9) -> 587223000 | N6: =N7+N8+N9+N10+N11+N12+N13+N14+N15+N16+N17+N18+N19 -> 2974270000 | O6: =O7+O8+O9+O10+O11+O12+O13+O14+O15+O16+O17+O18+O19 -> 2984209000 | P6: =O6-N6 -> 9939000 | Q6: =P6/N6 -> 0.0033416603 | R6: 사무비 | S6: (%) | T6: 계 | U6: =U7+U13+U17 -> 560251000 | V6: =V7+V13+V17 -> 556005000 | W6: =W7+W13+W17 -> 539239000 | X6: =X7+X13+X17 -> 531573000 | Y6: =Y7+Y13+Y17 -> 577397000 | Z6: =Z7+Z13+Z17 -> 572249000 | AA6: =AA7+AA13+AA17 -> 577766000 | AB6: =AB7+AB13+AB17 -> 589869000 | AC6: =AB6-AA6 -> 12103000 | AD6: =AC6/AA6 -> 0.020947927
B7: =N6/N5*100 -> 91.051609 | C7: 운영비보조금 | D7: =#REF! -> #REF! | E7: ='[1]세입명세서(운영비)'!E8 -> 340000000 | F7: ='[1]세입명세서(운영비)'!F8 -> 340000000 | G7: 330750000 | H7: =세입명세서!M9 -> 530656000 | I7: =세입명세서!N9 -> 530656000 | J7: =세입명세서!O9 -> 530656000 | K7: =세입명세서!P9 -> 530656000 | L7: =세입명세서!Q9 -> 546575000 | M7: =세입명세서!R9 -> 573903000 | N7: =세입명세서!S9 -> 546575000 | O7: =세입명세서!T9 -> 573903000 | P7: =O7-N7 -> 27328000 | Q7: =P7/N7 -> 0.049998628 | R7: =AA6/AA5*100 -> 17.687205 | S7: 인건비 | T7: 소계 | U7: =SUM(U8:U12) -> 430467000 | V7: =SUM(V8:V12) -> 423479000 | W7: =SUM(W8:W12) -> 419983000 | X7: =SUM(X8:X12) -> 419287000 | Y7: =SUM(Y8:Y12) -> 435297000 | Z7: =SUM(Z8:Z12) -> 434249000 | AA7: =SUM(AA8:AA12) -> 439359000 | AB7: =SUM(AB8:AB12) -> 447801000 | AC7: =AB7-AA7 -> 8442000 | AD7: =AC7/AA7 -> 0.019214355
N8: 0 | O8: =세입명세서!T10 -> 10000000 | P8: =세입명세서!U10 -> 10000000 | Q8: =세입명세서!V10 -> 0 | S8: =AA7/AA5*100 -> 13.450139 | T8: 급여 | U8: =세출명세서!M8 -> 282641000 | V8: =세출명세서!N8 -> 282436000 | W8: =세출명세서!O8 -> 280156000 | X8: =세출명세서!P8 -> 279703000 | Y8: =세출명세서!Q8 -> 293574000 | Z8: =세출명세서!R8 -> 292439000 | AA8: =세출명세서!S8 -> 297260000 | AB8: =세출명세서!T8 -> 304183000 | AC8: =AB8-AA8 -> 6923000 | AD8: =AC8/AA8 -> 0.023289376
C9: 종사자특별수당보조금 | D9: =#REF! -> #REF! | E9: ='[1]세입명세서(운영비)'!E9 -> 13320000 | F9: ='[1]세입명세서(운영비)'!F9 -> 13320000 | G9: 13200000 | H9: =세입명세서!M12 -> 13320000 | I9: =세입명세서!N12 -> 13320000 | J9: =세입명세서!O12 -> 13320000 | K9: =세입명세서!P12 -> 13320000 | L9: =세입명세서!Q12 -> 13320000 | M9: =세입명세서!R12 -> 13320000 | N9: =세입명세서!S12 -> 12720000 | O9: =세입명세서!T12 -> 12720000 | P9: =O9-N9 -> 0 | Q9: =P9/N9 -> 0 | T9: 일용잡급 | U9: =세출명세서!M24 -> 13200000 | V9: =세출명세서!N24 -> 13200000 | W9: =세출명세서!O24 -> 13200000 | X9: =세출명세서!P24 -> 13200000 | Y9: =세출명세서!Q24 -> 13200000 | Z9: =세출명세서!R24 -> 13200000 | AA9: =세출명세서!S24 -> 13200000 | AB9: =세출명세서!T24 -> 13200000 | AC9: =AB9-AA9 -> 0 | AD9: =AC9/AA9 -> 0
C10: 노인연계프로그램보조금 | N10: =세입명세서!S14 -> 25000000 | O10: =세입명세서!T14 -> 28463000 | P10: =O10-N10 -> 3463000 | Q10: =P10/N10 -> 0.13852 | T10: 제수당 | U10: =세출명세서!M26 -> 70633000 | V10: =세출명세서!N26 -> 64007000 | W10: =세출명세서!O26 -> 63059000 | X10: =세출명세서!P26 -> 62618000 | Y10: =세출명세서!Q26 -> 63312000 | Z10: =세출명세서!R26 -> 63159000 | AA10: =세출명세서!S26 -> 62633000 | AB10: =세출명세서!T26 -> 64999000 | AC10: =AB10-AA10 -> 2366000 | AD10: =AC10/AA10 -> 0.037775613
C11: 무료중식사업보조금 | N11: =세입명세서!S15 -> 40200000 | O11: =세입명세서!T15 -> 52259000 | P11: =O11-N11 -> 12059000 | Q11: =P11/N11 -> 0.29997512 | T11: 퇴직금 및 퇴직적립금 | U11: =세출명세서!M36 -> 28938000 | V11: =세출명세서!N36 -> 29579000 | W11: =세출명세서!O36 -> 29311000 | X11: =세출명세서!P36 -> 29509000 | Y11: =세출명세서!Q36 -> 30573000 | Z11: =세출명세서!R36 -> 30474000 | AA11: =세출명세서!S36 -> 30833000 | AB11: =세출명세서!T36 -> 30546000 | AC11: =AB11-AA11 -> -287000 | AD11: =AC11/AA11 -> -0.0093082087
C12: 밑반찬배달사업보조금 | N12: =세입명세서!S16 -> 15000000 | O12: =세입명세서!T16 -> 15093000 | P12: =O12-N12 -> 93000 | Q12: =P12/N12 -> 0.0062 | T12: 사회보험부담금 | U12: =세출명세서!M41 -> 35055000 | V12: =세출명세서!N41 -> 34257000 | W12: =세출명세서!O41 -> 34257000 | X12: =세출명세서!P41 -> 34257000 | Y12: =세출명세서!Q41 -> 34638000 | Z12: =세출명세서!R41 -> 34977000 | AA12: =세출명세서!S41 -> 35433000 | AB12: =세출명세서!T41 -> 34873000 | AC12: =AB12-AA12 -> -560000 | AD12: =AC12/AA12 -> -0.015804476
C13: 노인사회활동지원사업보조금 | N13: =세입명세서!S17 -> 2089200000 | O13: =세입명세서!T17 -> 2070360000 | P13: =O13-N13 -> -18840000 | Q13: =P13/N13 -> -0.0090178059 | S13: 업무추진비 | T13: 소계 | U13: =SUM(U14:U16) -> 10640000 | V13: =SUM(V14:V16) -> 10640000 | W13: =SUM(W14:W16) -> 10640000 | X13: =SUM(X14:X16) -> 10640000 | Y13: =SUM(Y14:Y16) -> 10640000 | Z13: =SUM(Z14:Z16) -> 10640000 | AA13: =SUM(AA14:AA16) -> 10140000 | AB13: =SUM(AB14:AB16) -> 10380000 | AC13: =AB13-AA13 -> 240000 | AD13: =AC13/AA13 -> 0.023668639
C14: 노인사회활동전담관리보조금 | N14: =세입명세서!S19 -> 125158000 | O14: =세입명세서!T19 -> 134750000 | P14: =O14-N14 -> 9592000 | Q14: =P14/N14 -> 0.076639128 | T14: 기관운영비 | U14: =세출명세서!M47 -> 1200000 | V14: =세출명세서!N47 -> 1200000 | W14: =세출명세서!O47 -> 1200000 | X14: =세출명세서!P47 -> 1200000 | Y14: =세출명세서!Q47 -> 1200000 | Z14: =세출명세서!R47 -> 1200000 | AA14: =세출명세서!S47 -> 1200000 | AB14: =세출명세서!T47 -> 1200000 | AC14: =AB14-AA14 -> 0 | AD14: =AC14/AA14 -> 0
C15: 운동처방사보조금 | N15: =세입명세서!S20 -> 28060000 | O15: =세입명세서!T20 -> 29562000 | P15: =O15-N15 -> 1502000 | Q15: =P15/N15 -> 0.053528154 | S15: =AA13/AA5*100 -> 0.31041678 | T15: 직책보조비 | U15: =세출명세서!M48 -> 7800000 | V15: =세출명세서!N48 -> 7800000 | W15: =세출명세서!O48 -> 7800000 | X15: =세출명세서!P48 -> 7800000 | Y15: =세출명세서!Q48 -> 7800000 | Z15: =세출명세서!R48 -> 7800000 | AA15: =세출명세서!S48 -> 7100000 | AB15: =세출명세서!T48 -> 7000000 | AC15: =AB15-AA15 -> -100000 | AD15: =AC15/AA15 -> -0.014084507
C16: 정읍시북부노인대학보조금 | N16: =세입명세서!S21 -> 0 | O16: =세입명세서!T21 -> 15432000 | P16: =O16-N16 -> 15432000 | Q16: 0 | T16: 회의비 | U16: =세출명세서!M51 -> 1640000 | V16: =세출명세서!N51 -> 1640000 | W16: =세출명세서!O51 -> 1640000 | X16: =세출명세서!P51 -> 1640000 | Y16: =세출명세서!Q51 -> 1640000 | Z16: =세출명세서!R51 -> 1640000 | AA16: =세출명세서!S51 -> 1840000 | AB16: =세출명세서!T51 -> 2180000 | AC16: =AB16-AA16 -> 340000 | AD16: =AC16/AA16 -> 0.18478261
C17: 응급안전알리미보조금 | N17: =세입명세서!S22 -> 37532000 | O17: =세입명세서!T22 -> 41167000 | P17: =O17-N17 -> 3635000 | Q17: =P17/N17 -> 0.096850687 | S17: 운영비 | T17: 소계 | U17: =SUM(U18:U23) -> 119144000 | V17: =SUM(V18:V23) -> 121886000 | W17: =SUM(W18:W23) -> 108616000 | X17: =SUM(X18:X23) -> 101646000 | Y17: =SUM(Y18:Y23) -> 131460000 | Z17: =SUM(Z18:Z23) -> 127360000 | AA17: =SUM(AA18:AA23) -> 128267000 | AB17: =SUM(AB18:AB23) -> 131688000 | AC17: =AB17-AA17 -> 3421000 | AD17: =AC17/AA17 -> 0.026670929
C18: 정향누리사업보조금 | N18: =세입명세서!S23 -> 32200000 | O18: =세입명세서!T23 -> 0 | P18: =O18-N18 -> -32200000 | Q18: =P18/N18 -> -1 | S18: =AA17/AA5*100 -> 3.9266498 | T18: 여비 | U18: =세출명세서!M60 -> 2400000 | V18: =세출명세서!N60 -> 2400000 | W18: =세출명세서!O60 -> 1200000 | X18: =세출명세서!P60 -> 1200000 | Y18: =세출명세서!Q60 -> 2400000 | Z18: =세출명세서!R60 -> 2400000 | AA18: =세출명세서!S60 -> 2400000 | AB18: =세출명세서!T60 -> 2400000 | AC18: =AB18-AA18 -> 0 | AD18: =AC18/AA18 -> 0
C19: 기타보조금계 | N19: =세입명세서!S24 -> 22625000 | O19: =세입명세서!T24 -> 500000 | P19: =O19-N19 -> -22125000 | Q19: =P19/N19 -> -0.97790055 | T19: 수용비및수수료 | U19: =세출명세서!M61 -> 25746000 | V19: =세출명세서!N61 -> 28478000 | W19: =세출명세서!O61 -> 28478000 | X19: =세출명세서!P61 -> 29178000 | Y19: =세출명세서!Q61 -> 33482000 | Z19: =세출명세서!R61 -> 33482000 | AA19: =세출명세서!S61 -> 33482000 | AB19: =세출명세서!T61 -> 36270000 | AC19: =AB19-AA19 -> 2788000 | AD19: =AC19/AA19 -> 0.083268622
C20: 기타보조금 | N20: =세입명세서!S25 -> 500000 | O20: =세입명세서!T25 -> 500000 | P20: =O20-N20 -> 0 | Q20: =P20/N20 -> 0 | T20: 공공요금 | U20: =세출명세서!M79 -> 49585000 | V20: =세출명세서!N79 -> 49585000 | W20: =세출명세서!O79 -> 47135000 | X20: =세출명세서!P79 -> 38735000 | Y20: =세출명세서!Q79 -> 52785000 | Z20: =세출명세서!R79 -> 50285000 | AA20: =세출명세서!S79 -> 50285000 | AB20: =세출명세서!T79 -> 52985000 | AC20: =AB20-AA20 -> 2700000 | AD20: =AC20/AA20 -> 0.053693945
C21: 선배시민자원봉사단사업(서지말봉사단) | N21: =세입명세서!S26 -> 1600000 | O21: =세입명세서!T26 -> 0 | P21: =O21-N21 -> -1600000 | Q21: =P21/N21 -> -1 | T21: 제세공과금 | U21: =세출명세서!M86 -> 14893000 | V21: =세출명세서!N86 -> 14903000 | W21: =세출명세서!O86 -> 14903000 | X21: =세출명세서!P86 -> 15633000 | Y21: =세출명세서!Q86 -> 15593000 | Z21: =세출명세서!R86 -> 15593000 | AA21: =세출명세서!S86 -> 15593000 | AB21: =세출명세서!T86 -> 14033000 | AC21: =AB21-AA21 -> -1560000 | AD21: =AC21/AA21 -> -0.10004489
C22: 선배시민자원봉사단(행복나눔봉사단) | N22: =세입명세서!S27 -> 6400000 | O22: =세입명세서!T27 -> 0 | P22: =O22-N22 -> -6400000 | Q22: =P22/N22 -> -1 | T22: 차량비 | U22: =세출명세서!M107 -> 24920000 | V22: =세출명세서!N107 -> 24920000 | W22: =세출명세서!O107 -> 15300000 | X22: =세출명세서!P107 -> 15300000 | Y22: =세출명세서!Q107 -> 25600000 | Z22: =세출명세서!R107 -> 24000000 | AA22: =세출명세서!S107 -> 25507000 | AB22: =세출명세서!T107 -> 24400000 | AC22: =AB22-AA22 -> -1107000 | AD22: =AC22/AA22 -> -0.043399851
C23: 농촌재능나눔사업(이동복지관) | N23: =세입명세서!S28 -> 14125000 | O23: =세입명세서!T28 -> 0 | P23: =O23-N23 -> -14125000 | Q23: =P23/N23 -> -1 | T23: 기타운영비 | U23: =세출명세서!M114 -> 1600000 | V23: =세출명세서!N114 -> 1600000 | W23: =세출명세서!O114 -> 1600000 | X23: =세출명세서!P114 -> 1600000 | Y23: =세출명세서!Q114 -> 1600000 | Z23: =세출명세서!R114 -> 1600000 | AA23: =세출명세서!S114 -> 1000000 | AB23: =세출명세서!T114 -> 1600000 | AC23: =AB23-AA23 -> 600000 | AD23: =AC23/AA23 -> 0.6
A24: 후원금 수입 | B24: 후원금수입 | C24: 소계 | D24: =SUM(D25:D26) -> #REF! | E24: =SUM(E25:E26) -> 57600000 | F24: =SUM(F25:F26) -> 57600000 | G24: =SUM(G25:G26) -> 59980000 | H24: =SUM(H25:H26) -> 71700000 | I24: =SUM(I25:I26) -> 71700000 | J24: =SUM(J25:J26) -> 46000000 | K24: =SUM(K25:K26) -> 38400000 | ... O24: =SUM(O25:O26) -> 79200000 | P24: =O24-N24 -> -6875000 | Q24: =P24/N24 -> -0.079872204 | R24: 재산 조성비 | T24: 계 | U24: =U25 -> 18850000 | V24: =V25 -> 33513000 | W24: =W25 -> 38213000 | X24: =X25 -> 41083000 | Y24: =Y25 -> 6490000 | Z24: =Z25 -> 8148000 | AA24: =AA25 -> 13048000 | AB24: =AB25 -> 7890000 | AC24: =AB24-AA24 -> -5158000 | AD24: =AC24/AA24 -> -0.39530963
B25: =N24/N5*100 -> 2.6350221 | C25: 비지정후원금 | D25: =#REF! -> #REF! | E25: ='[1]세입명세서(운영비)'!E13 -> 57600000 | F25: ='[1]세입명세서(운영비)'!F13 -> 57600000 | G25: 59980000 | H25: =세입명세서!M31 -> 71700000 | I25: =세입명세서!N31 -> 71700000 | J25: =세입명세서!O31 -> 46000000 | K25: =세입명세서!P31 -> 38400000 | L25: =세입명세서!Q31 -> 72000000 | M25: =세입명세서!R31 -> 72000000 | N25: =세입명세서!S31 -> 75800000 | O25: =세입명세서!T31 -> 79200000 | P25: =O25-N25 -> 3400000 | Q25: =P25/N25 -> 0.044854881 | S25: 시설비 | T25: 소계 | U25: =SUM(U26:U28) -> 18850000 | V25: =SUM(V26:V28) -> 33513000 | W25: =SUM(W26:W28) -> 38213000 | X25: =SUM(X26:X28) -> 41083000 | Y25: =SUM(Y26:Y28) -> 6490000 | Z25: =SUM(Z26:Z28) -> 8148000 | AA25: =SUM(AA26:AA28) -> 13048000 | AB25: =SUM(AB26:AB28) -> 7890000 | AC25: =AB25-AA25 -> -5158000 | AD25: =AC25/AA25 -> -0.39530963
C26: 지정후원금 | H26: 0 | I26: 0 | J26: 0 | K26: 0 | L26: 0 | M26: 0 | N26: =세입명세서!S35 -> 10275000 | O26: =세입명세서!T35 -> 0 | P26: =O26-N26 -> -10275000 | Q26: 0 | R26: =AA24/AA5*100 -> 0.39943966 | S26: =AA25/AA5*100 -> 0.39943966 | T26: 시설비 | U26: =세출명세서!M117 -> 6300000 | V26: =세출명세서!N117 -> 5400000 | W26: =세출명세서!O117 -> 8400000 | X26: =세출명세서!P117 -> 10270000 | Y26: =세출명세서!Q117 -> 0 | Z26: =세출명세서!R117 -> 518000 | AA26: =세출명세서!S117 -> 518000 | AB26: =세출명세서!T117 -> 0 | AC26: =AB26-AA26 -> -518000 | AD26: =AC26/AA26 -> -1
A27: 전입금 | B27: 전입금 | C27: 소계 | D27: =SUM(D28) -> #REF! | E27: =SUM(E28) -> 51000000 | F27: =SUM(F28) -> 51000000 | G27: =SUM(G28) -> 49613000 | H27: =SUM(H28) -> 25000000 | I27: =SUM(I28) -> 25000000 | J27: =SUM(J28) -> 25000000 | K27: =SUM(K28) -> 25000000 | ... O27: =SUM(O28) -> 25000000 | P27: =O27-N27 -> -7000 | Q27: =P27/N27 -> -0.00027992162 | T27: 자산취득비 | U27: =세출명세서!M118 -> 4700000 | V27: =세출명세서!N118 -> 11263000 | W27: =세출명세서!O118 -> 15463000 | X27: =세출명세서!P118 -> 19463000 | Y27: =세출명세서!Q118 -> 700000 | Z27: =세출명세서!R118 -> 1140000 | AA27: =세출명세서!S118 -> 4740000 | AB27: =세출명세서!T118 -> 2400000 | AC27: =AB27-AA27 -> -2340000 | AD27: =AC27/AA27 -> -0.49367089
B28: =N27/N5*100 -> 0.76554166 | C28: 법인전입금 | D28: =#REF! -> #REF! | E28: ='[1]세입명세서(운영비)'!E17 -> 51000000 | F28: ='[1]세입명세서(운영비)'!F17 -> 51000000 | G28: 49613000 | H28: =세입명세서!M38 -> 25000000 | I28: =세입명세서!N38 -> 25000000 | J28: =세입명세서!O38 -> 25000000 | K28: =세입명세서!P38 -> 25000000 | L28: =세입명세서!Q38 -> 25000000 | M28: =세입명세서!R38 -> 25000000 | N28: =세입명세서!S38 -> 25007000 | O28: =세입명세서!T38 -> 25000000 | P28: =O28-N28 -> -7000 | Q28: =P28/N28 -> -0.00027992162 | T28: 시설장비유지비 | U28: =세출명세서!M121 -> 7850000 | V28: =세출명세서!N121 -> 16850000 | W28: =세출명세서!O121 -> 14350000 | X28: =세출명세서!P121 -> 11350000 | Y28: =세출명세서!Q121 -> 5790000 | Z28: =세출명세서!R121 -> 6490000 | AA28: =세출명세서!S121 -> 7790000 | AB28: =세출명세서!T121 -> 5490000 | AC28: =AB28-AA28 -> -2300000 | AD28: =AC28/AA28 -> -0.29525032
A29: 사업수입 | B29: 사업수입 | C29: 소계 | D29: =SUM(D30:D31) -> #REF! | E29: =SUM(E30:E31) -> 80776000 | F29: =SUM(F30:F31) -> 47080000 | G29: =SUM(G30:G31) -> 83255000 | H29: =SUM(H30:H31) -> 53050000 | I29: =SUM(I30:I31) -> 46262000 | J29: =SUM(J30:J31) -> 34509000 | K29: =SUM(K30:K31) -> 24071000 | ... M29: =SUM(M30:M31) -> 46188000 | N29: =SUM(N30:N33) -> 61188000 | O29: =SUM(O30:O33) -> 87000000 | P29: =O29-N29 -> 25812000 | Q29: =P29/N29 -> 0.42184742 | R29: 사업비 | T29: 계 | U29: =U30 -> #REF! | V29: =V30 -> #REF! | W29: =W30 -> #REF! | X29: =X30 -> #REF! | Y29: =Y30 -> #REF! | Z29: =Z30 -> #REF! | AA29: =AA30 -> 2631207000 | AB29: =AB30 -> 2617699000 | AC29: =AB29-AA29 -> -13508000 | AD29: =AC29/AA29 -> -0.0051337656
B30: =N29/N5*100 -> 1.873154 | C30: 경로식당이용료수입 | D30: =#REF! -> #REF! | E30: ='[1]세입명세서(운영비)'!E22 -> 70112000 | F30: ='[1]세입명세서(운영비)'!F22 -> 36416000 | G30: 72591000 | H30: =세입명세서!M41 -> 42042000 | I30: =세입명세서!N41 -> 38350000 | J30: =세입명세서!O41 -> 27684000 | K30: =세입명세서!P41 -> 22288000 | L30: =세입명세서!Q41 -> 51325000 | M30: =세입명세서!R41 -> 43688000 | N30: =세입명세서!S41 -> 43688000 | O30: =세입명세서!T41 -> 50400000 | P30: =O30-N30 -> 6712000 | Q30: =P30/N30 -> 0.15363487 | R30: =AA29/AA5*100 -> 80.549389 | S30: 사업비 | T30: 소계 | U30: =SUM(U31:U46) -> #REF! | V30: =SUM(V31:V46) -> #REF! | W30: =SUM(W31:W46) -> #REF! | X30: =SUM(X31:X46) -> #REF! | Y30: =SUM(Y31:Y46) -> #REF! | Z30: =SUM(Z31:Z46) -> #REF! | AA30: =SUM(AA31:AA56) -> 2631207000 | AB30: =SUM(AB31:AB56) -> 2617699000 | AC30: =AB30-AA30 -> -13508000 | AD30: =AC30/AA30 -> -0.0051337656
C31: 목욕탕이용료수입 | D31: =#REF! -> #REF! | E31: ='[1]세입명세서(운영비)'!E25 -> 10664000 | F31: ='[1]세입명세서(운영비)'!F25 -> 10664000 | G31: ='[1]세입명세서(운영비)'!F25 -> 10664000 | H31: =세입명세서!M44 -> 11008000 | I31: =세입명세서!N44 -> 7912000 | J31: =세입명세서!O44 -> 6825000 | K31: =세입명세서!P44 -> 1783000 | L31: =세입명세서!Q44 -> 8432000 | M31: =세입명세서!R44 -> 2500000 | N31: =세입명세서!S44 -> 2500000 | O31: =세입명세서!T44 -> 2400000 | P31: =O31-N31 -> -100000 | Q31: =P31/N31 -> -0.04 | S31: =AA30/AA5*100 -> 80.549389 | T31: 평생교육지원사업비 | U31: =세출명세서!M129 -> 52148000 | V31: =세출명세서!N129 -> 52148000 | W31: =세출명세서!O129 -> 25248000 | X31: =세출명세서!P129 -> 18690000 | Y31: =세출명세서!Q129 -> 63360000 | Z31: =세출명세서!R129 -> 60038000 | AA31: =세출명세서!S129 -> 60038000 | AB31: =세출명세서!T129 -> 84655000 | AC31: =AB31-AA31 -> 24617000 | AD31: =AC31/AA31 -> 0.41002365
C32: 서지말솜씨방수입 | N32: =세입명세서!S46 -> 15000000 | O32: =세입명세서!T46 -> 27000000 | P32: =O32-N32 -> 12000000 | Q32: =P32/N32 -> 0.8 | T32: 고용지원사업비 | AA32: =세출명세서!S167 -> 2107007000 | AB32: =세출명세서!T167 -> 2097360000 | AD32: =AC32/AA32 -> 0
C33: 노인대학수입 | N33: =세입명세서!S47 -> 0 | O33: =세입명세서!T47 -> 7200000 | P33: =O33-N33 -> 7200000 | Q33: 0 | T33: 기능회복지원사업비 | U33: =세출명세서!M172 -> 8300000 | V33: =세출명세서!N172 -> 9500000 | W33: =세출명세서!O172 -> 4000000 | X33: =세출명세서!P172 -> 13100000 | Y33: =세출명세서!Q172 -> 1000000 | Z33: =세출명세서!R172 -> 1000000 | AA33: =세출명세서!S172 -> 1000000 | AB33: =세출명세서!T172 -> 200000 | AC33: =AB33-AA33 -> -800000 | AD33: =AC33/AA33 -> -0.8
A34: 이월금 | B34: 이월금 | C34: 소계 | D34: =SUM(D35:D36) -> #REF! | E34: =SUM(E35:E36) -> 8000000 | F34: =SUM(F35:F36) -> 28878000 | G34: =SUM(G35:G36) -> 3960000 | H34: =SUM(H35:H36) -> 30000000 | I34: =SUM(I35:I36) -> 54550000 | J34: =SUM(J35:J36) -> 54550000 | K34: =SUM(K35:K36) -> 54550000 | ... O34: =SUM(O35:O36) -> 42000000 | P34: =O34-N34 -> -33066000 | Q34: =P34/N34 -> -0.44049237 | T34: 급식지원사업비 | U34: =세출명세서!M174 -> 42556000 | V34: =세출명세서!N174 -> 43556000 | W34: =세출명세서!O174 -> 34332000 | X34: =세출명세서!P174 -> 34175000 | Y34: =세출명세서!Q174 -> 43268000 | Z34: =세출명세서!R174 -> 40636000 | AA34: =세출명세서!S174 -> 95836000 | AB34: =세출명세서!T174 -> 109100000 | AC34: =AB34-AA34 -> 13264000 | AD34: =AC34/AA34 -> 0.13840311
B35: =N34/N5*100 -> 2.2980026 | C35: 전년도이월금 | D35: =#REF! -> #REF! | E35: ='[1]세입명세서(운영비)'!E29 -> 8000000 | F35: ='[1]세입명세서(운영비)'!F29 -> 10124000 | G35: 2247000 | H35: =세입명세서!M50 -> 10000000 | I35: =세입명세서!N50 -> 28249000 | J35: =세입명세서!O50 -> 28249000 | K35: =세입명세서!P50 -> 28249000 | L35: =세입명세서!Q50 -> 20000000 | M35: =세입명세서!R50 -> 19939000 | N35: =세입명세서!S50 -> 62634000 | O35: =세입명세서!T50 -> 17000000 | P35: =O35-N35 -> -45634000 | Q35: =P35/N35 -> -0.72858192 | T35: 개인위생관리사업비 | U35: =세출명세서!M185 -> 1200000 | V35: =세출명세서!N185 -> 1200000 | W35: =세출명세서!O185 -> 1200000 | X35: =세출명세서!P185 -> 1200000 | Y35: =세출명세서!Q185 -> 1200000 | Z35: =세출명세서!R185 -> 1200000 | AA35: =세출명세서!S185 -> 450000 | AB35: =세출명세서!T185 -> 1600000 | AC35: =AB35-AA35 -> 1150000 | AD35: =AC35/AA35 -> 2.5555556
C36: 전년도이월금(후원금) | D36: =#REF! -> #REF! | E36: ='[1]세입명세서(운영비)'!E30 -> 0 | F36: ='[1]세입명세서(운영비)'!F30 -> 18754000 | G36: 1713000 | H36: =세입명세서!M52 -> 20000000 | I36: =세입명세서!N52 -> 26301000 | J36: =세입명세서!O52 -> 26301000 | K36: =세입명세서!P52 -> 26301000 | L36: =세입명세서!Q52 -> 10000000 | M36: =세입명세서!R52 -> 12432000 | N36: =세입명세서!S52 -> 12432000 | O36: =세입명세서!T52 -> 25000000 | P36: =O36-N36 -> 12568000 | Q36: =P36/N36 -> 1.0109395 | T36: 정서생활지원사업비 | U36: =세출명세서!M187 -> 500000 | V36: =세출명세서!N187 -> 1200000 | W36: =세출명세서!O187 -> 1200000 | X36: =세출명세서!P187 -> 1200000 | Y36: =세출명세서!Q187 -> 7500000 | Z36: =세출명세서!R187 -> 7500000 | AA36: =세출명세서!S187 -> 3500000 | AB36: =세출명세서!T187 -> 4500000 | AC36: =AB36-AA36 -> 1000000 | AD36: =AC36/AA36 -> 0.28571429
A37: 잡수입 | B37: 잡수입 | C37: 소계 | D37: =SUM(D38:D39) -> #REF! | E37: =SUM(E38:E39) -> 4220000 | F37: =SUM(F38:F39) -> 8220000 | G37: =SUM(G38:G39) -> 7448000 | H37: =SUM(H38:H39) -> 7000000 | I37: =SUM(I38:I39) -> 6940000 | J37: =SUM(J38:J39) -> 4064000 | K37: =SUM(K38:K39) -> 4064000 | ... O37: =SUM(O38:O39) -> 6300000 | P37: =O37-N37 -> -38670000 | Q37: =P37/N37 -> -0.8599066 | T37: 사회참여지원사업비 | U37: =세출명세서!M191 -> 600000 | V37: =세출명세서!N191 -> 600000 | W37: =세출명세서!O191 -> 600000 | X37: =세출명세서!P191 -> 600000 | Y37: =세출명세서!Q191 -> 900000 | Z37: =세출명세서!R191 -> 900000 | AA37: =세출명세서!S191 -> 900000 | AB37: =세출명세서!T191 -> 2600000 | AC37: =AB37-AA37 -> 1700000 | AD37: =AC37/AA37 -> 1.8888889
B38: =N37/N5*100 -> 1.3766709 | C38: 기타예금이자수입 | D38: =#REF! -> #REF! | E38: ='[1]세입명세서(운영비)'!E33 -> 40000 | F38: ='[1]세입명세서(운영비)'!F33 -> 40000 | G38: 40000 | H38: =세입명세서!M55 -> 40000 | I38: =세입명세서!N55 -> 40000 | J38: =세입명세서!O55 -> 114000 | K38: =세입명세서!P55 -> 114000 | L38: =세입명세서!Q55 -> 0 | M38: =세입명세서!R55 -> 0 | N38: =세입명세서!S55 -> 600000 | O38: =세입명세서!T55 -> 100000 | P38: =O38-N38 -> -500000 | Q38: =P38/N38 -> -0.83333333 | T38: 노인연계프로그램 | AA38: =세출명세서!S196 -> 25000000 | AB38: =세출명세서!T196 -> 28463000 | AC38: =AB38-AA38 -> 3463000 | AD38: =AC38/AA38 -> 0.13852
C39: 기타잡수입 | D39: =#REF! -> #REF! | E39: ='[1]세입명세서(운영비)'!E34 -> 4180000 | F39: ='[1]세입명세서(운영비)'!F34 -> 8180000 | G39: 7408000 | H39: =세입명세서!M56 -> 6960000 | I39: =세입명세서!N56 -> 6900000 | J39: =세입명세서!O56 -> 3950000 | K39: =세입명세서!P56 -> 3950000 | L39: =세입명세서!Q56 -> 4800000 | M39: =세입명세서!R56 -> 4800000 | N39: =세입명세서!S56 -> 44370000 | O39: =세입명세서!T56 -> 6200000 | P39: =O39-N39 -> -38170000 | Q39: =P39/N39 -> -0.86026595 | T39: 노인대학사업비 | AA39: =세출명세서!S208 -> 0 | AB39: =세출명세서!T208 -> 22632000 | AC39: =AB39-AA39 -> 22632000 | AD39: 0
T40: 응급안전알리미사업비 | AA40: =세출명세서!S226 -> 37532000 | AB40: =세출명세서!T226 -> 41167000 | AC40: =AB40-AA40 -> 3635000 | AD40: =AC40/AA40 -> 0.096850687
...

Sheet 세입명세서
A1: 2022년 세입예산 산출내역서
A2: (세입) | Y2: (단위 : 천원)
A3: 관 | B3: 항 | C3: 목 | D3: 2016년도 | E3: 2017년도 | F3: 1차추경 | G3: 2016년 | H3: 2017년 | I3: 2018년 | J3: 본예산 | K3: 1차추경 | L3: 2019년 | M3: 2020년 | N3: 1차 | O3: 2차 | P3: 2020년3차 | Q3: 2021년 | R3: 2021년1차 | S3: 2021년 예산(A) | T3: 2022년 예산(B) | U3: 증감(B)-(A) | W3: 산출내역
U4: 금액 | V4: 비율(%)
A5: 총 계 | D5: =D6+D29+D36+D39+D48+D53 -> 548206000 | E5: =E6+E29+E36+E39+E48+E53 -> 554916000 | F5: =F6+F29+F36+F39+F48+F53 -> 546098000 | G5: =G6+G29+G36+G39+G48+G53 -> 548206000 | H5: =H6+H29+H36+H39+H48+H53 -> 558482000 | I5: =I6+I29+I36+I39+I48+I53 -> 623850000 | J5: =J6+J29+J36+J39+J48+J53 -> 621258000 | K5: =K6+K29+K36+K39+K48+K53 -> 742221000 | ... T5: =T6+T29+T36+T39+T48+T53 -> 3223709000 | U5: =T5-S5 -> -42867000 | V5: =U5/S5 -> -0.013122915
A6: 보조금수입 | D6: =D7 -> 343950000 | E6: =E7 -> 353320000 | F6: =F7 -> 353320000 | G6: =G7 -> 343950000 | H6: =H7 -> 353320000 | I6: =I7 -> 461320000 | J6: =J7 -> 461320000 | K6: =K7 -> 587223000 | ... T6: =T7 -> 2984209000 | U6: =T6-S6 -> 9939000 | V6: =U6/S6 -> 0.0033416603
B7: 보조금수입 | D7: =D8 -> 343950000 | E7: =E8 -> 353320000 | F7: =F8 -> 353320000 | G7: =G8 -> 343950000 | H7: =H8 -> 353320000 | I7: =I8 -> 461320000 | J7: =J8 -> 461320000 | K7: =K8 -> 587223000 | ... R7: =R8 -> 587223000 | S7: =S8+S24 -> 2974270000 | T7: =T8+T24 -> 2984209000 | U7: =T7-S7 -> 9939000 | V7: =U7/S7 -> 0.0033416603
C8: 시군구보조금 소계 | D8: =SUM(D9:D13) -> 343950000 | E8: =SUM(E9:E13) -> 353320000 | F8: =SUM(F9:F13) -> 353320000 | G8: =SUM(G9:G13) -> 343950000 | H8: =SUM(H9:H13) -> 353320000 | I8: =SUM(I9:I13) -> 461320000 | J8: =SUM(J9:J13) -> 461320000 | K8: =SUM(K9:K13) -> 587223000 | ... R8: =SUM(R9:R13) -> 587223000 | S8: =SUM(S9:S23) -> 2951645000 | T8: =SUM(T9:T23) -> 2983709000 | U8: =T8-S8 -> 32064000 | V8: =U8/S8 -> 0.010863095
C9: 운영비보조금 | D9: 330750000 | E9: 340000000 | F9: 340000000 | G9: 330750000 | H9: 340000000 | I9: 448000000 | J9: 448000000 | K9: =X9 -> 573903000 | L9: 515200000 | M9: 530656000 | N9: 530656000 | O9: 530656000 | P9: 530656000 | Q9: 546575000 | R9: =X9 -> 573903000 | S9: 546575000 | T9: =Y9 -> 573903000 | U9: =T9-S9 -> 27328000 | V9: =U9/S9 -> 0.049998628 | W9: 복지관운영 경상보조금수입 546,575,000원×5% | X9: =ROUNDDOWN(546575000*105%,-3) -> 573903000 | Y9: =X9 -> 573903000
S10: 0 | T10: =SUM(Y10) -> 10000000 | U10: =T10-S10 -> 10000000 | V10: 0 | W10: 동아리회원 단복 보조금 7,000,000원×1식 | X10: =7000000*1 -> 7000000 | Y10: =SUM(X10:X11) -> 10000000
W11: 전동현수막거치대 보조금 3,000,000원×1식 | X11: =3000000*1 -> 3000000
C12: 종사자특별수당보조금 | D12: 13200000 | E12: 13320000 | F12: 13320000 | G12: 13200000 | H12: 13320000 | I12: 13320000 | J12: 13320000 | K12: 13320000 | L12: 13320000 | M12: 13320000 | N12: 13320000 | O12: 13320000 | P12: 13320000 | Q12: 13320000 | R12: 13320000 | S12: 12720000 | T12: =Y12 -> 12720000 | U12: =T12-S12 -> 0 | V12: =U12/S12 -> 0 | W12: 6명×150,000원 ×12월 | X12: =6*150000*12 -> 10800000 | Y12: =SUM(X12:X13) -> 12720000
W13: (1명×120,000원×12월)+(1명×120,000원×4월) | X13: =(1*120000*12)+(1*120000*4) -> 1920000
C14: 노인연계프로그램보조금 | S14: 25000000 | T14: =Y14 -> 28463000 | U14: =T14-S14 -> 3463000 | V14: =U14/S14 -> 0.13852 | W14: 노인연계프로그램보조금 | X14: 28463000 | Y14: =X14 -> 28463000
C15: 무료중식사업보조금 | S15: 40200000 | T15: =Y15 -> 52259000 | U15: =T15-S15 -> 12059000 | V15: =U15/S15 -> 0.29997512 | W15: 3,500원×237일×63명 | X15: =ROUNDUP(3500*237*63,-3) -> 52259000 | Y15: =X15 -> 52259000
C16: 밑반찬배달사업보조금 | S16: 15000000 | T16: =Y16 -> 15093000 | U16: =T16-S16 -> 93000 | V16: =U16/S16 -> 0.0062 | W16: 1,350원×52주×5일×43명 | X16: =1350*52*5*43 -> 15093000 | Y16: =X16 -> 15093000
C17: 노인사회활동지원사업보조금 | S17: 2089200000 | T17: =Y17 -> 2070360000 | U17: =T17-S17 -> -18840000 | V17: =U17/S17 -> -0.0090178059 | W17: 공익형보조금 | X17: 2022300000 | Y17: =SUM(X17:X18) -> 2070360000
W18: 시장형보조금 | X18: 48060000
C19: 노인사회활동전담관리보조금 | S19: 125158000 | T19: =Y19 -> 134750000 | U19: =T19-S19 -> 9592000 | V19: =U19/S19 -> 0.076639128 | W19: (1,976,000원×13개월×5명)+(1,262,000원×5명) | X19: =(1976000*13*5)+(1262000*5) -> 134750000 | Y19: =X19 -> 134750000
C20: 운동처방사보조금 | S20: 28060000 | T20: =Y20 -> 29562000 | U20: =T20-S20 -> 1502000 | V20: =U20/S20 -> 0.053528154 | W20: 운동처방사보조금 29,562,000원×1식 | X20: 29562000 | Y20: =X20 -> 29562000
C21: 정읍시북부노인대학보조금 | S21: 0 | T21: =X21 -> 15432000 | U21: =T21-S21 -> 15432000 | V21: 0 | W21: 노인대학보조금 | X21: 15432000 | Y21: =X21 -> 15432000
C22: 응급안전알리미사업보조금 | S22: 37532000 | T22: =Y22 -> 41167000 | U22: =T22-S22 -> 3635000 | V22: =U22/S22 -> 0.096850687 | W22: 응급안전알리미보조금 | X22: 41167000 | Y22: =X22 -> 41167000
C23: 경로당정향누리사업보조금 | S23: 32200000 | T23: =Y23 -> 0 | U23: =T23-S23 -> -32200000 | V23: =U23/S23 -> -1 | Y23: 0
C24: 기타보조금계 | S24: =SUM(S25:S28) -> 22625000 | T24: =SUM(T25:T28) -> 500000 | U24: =T24-S24 -> -22125000 | V24: =U24/S24 -> -0.97790055
C25: 기타보조금 | S25: 500000 | T25: =Y25 -> 500000 | U25: =T25-S25 -> 0 | V25: =U25/S25 -> 0 | W25: 직원동아리활동지원사업 500,000원×1식 | X25: =500000*1 -> 500000 | Y25: =X25 -> 500000
C26: 선배시민자원봉사단사업 (서지말기자단) | S26: 1600000 | T26: =Y26 -> 0 | U26: =T26-S26 -> -1600000 | V26: =U26/S26 -> -1 | Y26: 0
C27: 선배시민자원봉사단사업 (행복나눔봉사단) | S27: 6400000 | T27: =Y27 -> 0 | U27: =T27-S27 -> -6400000 | V27: =U27/S27 -> -1 | Y27: 0
C28: 농촌재능나눔사업(이동복지관) | S28: 14125000 | T28: =Y28 -> 0 | U28: =T28-S28 -> -14125000 | V28: =U28/S28 -> -1 | Y28: 0
A29: 후원금수입 | D29: =D30 -> 59980000 | E29: =E30 -> 57600000 | F29: =F30 -> 57600000 | G29: =G30 -> 59980000 | H29: =H30 -> 73000000 | I29: =I30 -> 66400000 | J29: =J30 -> 67200000 | K29: =K30 -> 67200000 | ... T29: =T30 -> 79200000 | U29: =T29-S29 -> -6875000 | V29: =U29/S29 -> -0.079872204
B30: 후원금수입 | D30: =SUM(D31:D34) -> 59980000 | E30: =SUM(E31:E34) -> 57600000 | F30: 57600000 | G30: =SUM(G31) -> 59980000 | H30: =SUM(H31) -> 73000000 | I30: =I31 -> 66400000 | J30: =J31 -> 67200000 | K30: =K31 -> 67200000 | L30: =L31 -> 65100000 | M30: =M31 -> 71700000 | N30: =N31 -> 71700000 | O30: =O31 -> 46000000 | P30: =P31 -> 38400000 | ... R30: =R31 -> 72000000 | S30: =SUM(S31:S35) -> 86075000 | T30: =SUM(T31:T35) -> 79200000 | U30: =T30-S30 -> -6875000 | V30: =U30/S30 -> -0.079872204
C31: 비지정후원금 | D31: 59980000 | E31: 57600000 | F31: 57600000 | G31: 59980000 | H31: 73000000 | I31: 66400000 | J31: 67200000 | K31: 67200000 | L31: 65100000 | M31: 71700000 | N31: 71700000 | O31: 46000000 | P31: 38400000 | Q31: 72000000 | R31: 72000000 | S31: 75800000 | T31: =SUM(Y31:Y34) -> 79200000 | U31: =T31-S31 -> 3400000 | V31: =U31/S31 -> 0.044854881 | W31: CMS 3,100,000원×12월 | X31: =3100000*12 -> 37200000 | Y31: =X31 -> 37200000
W32: 일시금 500,000원×12월 | X32: =500000*12 -> 6000000 | Y32: =X32 -> 6000000
W33: 어버이날행사 일시금 1,000,000원×1회 | X33: =1000000*1 -> 1000000 | Y33: =X33 -> 1000000
W34: 10월행사 일시금 35,000,000원×1회 | X34: =35000000*1 -> 35000000 | Y34: =X34 -> 35000000
C35: 지정후원금 | S35: 10275000 | T35: =Y35 -> 0 | U35: =T35-S35 -> -10275000 | V35: =U35/S35 -> -1 | Y35: 0
A36: 전입금 | D36: =D37 -> 49613000 | E36: =E37 -> 51000000 | F36: =F37 -> 51000000 | G36: =G37 -> 49613000 | H36: =H37 -> 51000000 | I36: =I37 -> 25000000 | J36: =J37 -> 25000000 | K36: =K37 -> 0 | ... T36: =T37 -> 25000000 | U36: =T36-S36 -> -7000 | V36: =U36/S36 -> -0.00027992162
B37: 전입금 | D37: =D38 -> 49613000 | E37: =E38 -> 51000000 | F37: =F38 -> 51000000 | G37: =G38 -> 49613000 | H37: =H38 -> 51000000 | I37: =I38 -> 25000000 | J37: =J38 -> 25000000 | K37: =K38 -> 0 | ... T37: =T38 -> 25000000 | U37: =T37-S37 -> -7000 | V37: =U37/S37 -> -0.00027992162
C38: 법인전입금 | D38: 49613000 | E38: 51000000 | F38: 51000000 | G38: 49613000 | H38: 51000000 | I38: 25000000 | J38: 25000000 | L38: 25000000 | M38: 25000000 | N38: 25000000 | O38: 25000000 | P38: 25000000 | Q38: 25000000 | R38: 25000000 | S38: 25007000 | T38: =Y38 -> 25000000 | U38: =T38-S38 -> -7000 | V38: =U38/S38 -> -0.00027992162 | W38: 법인전입금수입 25,000,000원 | X38: 25000000 | Y38: =X38 -> 25000000
A39: 사업수입 | D39: =D40 -> 83255000 | E39: =E40 -> 80776000 | F39: =F40 -> 47080000 | G39: =G40 -> 83255000 | H39: =H40 -> 46144000 | I39: =I40 -> 47558000 | J39: =J40 -> 47558000 | K39: =K40 -> 47558000 | ... T39: =T40 -> 87000000 | U39: =T39-S39 -> 25812000 | V39: =U39/S39 -> 0.42184742
B40: 사업수입 | D40: =SUM(D41:D45) -> 83255000 | E40: =SUM(E41:E45) -> 80776000 | F40: =SUM(F41:F45) -> 47080000 | G40: =SUM(G41:G45) -> 83255000 | H40: =SUM(H41:H45) -> 46144000 | I40: =SUM(I41:I45) -> 47558000 | J40: =SUM(J41:J45) -> 47558000 | K40: =SUM(K41:K45) -> 47558000 | L40: 47558000 | M40: =SUM(M41:M45) -> 53050000 | N40: =SUM(N41:N45) -> 46262000 | O40: =SUM(O41:O45) -> 34509000 | P40: =SUM(P41:P45) -> 24071000 | Q40: =SUM(Q41:Q45) -> 59757000 | R40: =SUM(R41:R45) -> 46188000 | S40: =SUM(S41:S47) -> 61188000 | T40: =SUM(T41:T47) -> 87000000 | U40: =T40-S40 -> 25812000 | V40: =U40/S40 -> 0.42184742
...

Sheet 세출명세서
A1: 2022년 세출예산 산출내역서
Z2: (단위:천원)
A3: 관 | B3: 항 | C3: 목 | D3: 2016년 | E3: 2017년 | F3: 1차추경 | G3: 2016년 | H3: 2017년 | I3: 2018년 | J3: 본예산 | K3: 1차추경 | L3: 2019년 | M3: 2020년 | N3: 1차 | O3: 2차 | P3: 2020년3차 | Q3: 2021년 | R3: 2021년1차 | S3: 2021년 예산(A) | T3: 2022년 예산(B) | U3: 증감(B)-(A) | W3: 산 출 내 역
U4: 금액 | V4: 비율(%)
A5: 총 계 | D5: =D6+D115+D127+D276+D279 -> 543731000 | E5: =E6+E115+E127+E276+E279 -> 542413000 | F5: =F6+F115+F127+F276+F279 -> #REF! | G5: =G6+G115+G127+G276+G279 -> 543731000 | H5: =H6+H115+H127+H276+H279 -> #REF! | I5: =I6+I115+I127+I276+I279 -> 623430000 | J5: =J6+J115+J127+J276+J279 -> 621158000 | K5: =K6+K115+K127+K276+K279 -> 697334000 | ... T5: =T6+T115+T127+T276+T279 -> 3223709000 | U5: =T5-S5 -> -42867000 | V5: =U5/S5 -> -0.013122915
A6: 사무비 | D6: =D7+D46+D59 -> 430695000 | E6: =E7+E46+E59 -> 442423000 | F6: =F7+F46+F59 -> 442270000 | G6: =G7+G46+G59 -> 430695000 | H6: =H7+H46+H59 -> 459818000 | I6: =I7+I46+I59 -> 504747000 | J6: =J7+J46+J59 -> 525468000 | K6: =K7+K46+K59 -> 527890000 | ... T6: =T7+T46+T59 -> 589869000 | U6: =T6-S6 -> 12103000 | V6: =U6/S6 -> 0.020947927
B7: 인건비 | D7: =SUM(D8:D45) -> 314390000 | E7: =SUM(E8:E45) -> 330794000 | F7: =SUM(F8:F45) -> 330509000 | G7: =SUM(G8:G45) -> 314390000 | H7: =SUM(H8:H45) -> 350342000 | I7: =SUM(I8:I45) -> 386354000 | J7: =SUM(J8:J45) -> 408807000 | K7: =SUM(K8:K45) -> 399731000 | ... T7: =SUM(T8:T45) -> 447801000 | U7: =T7-S7 -> 8442000 | V7: =U7/S7 -> 0.019214355 | W7: 직 | X7: 호봉
C8: 급여 | D8: 218997000 | E8: 229395000 | F8: 229395000 | G8: 218997000 | H8: 230087000 | I8: 262591000 | J8: 275853000 | K8: 267392000 | L8: 267392000 | M8: 282641000 | N8: 282436000 | O8: 280156000 | P8: 279703000 | Q8: 293574000 | R8: 292439000 | S8: 297260000 | T8: =ROUNDUP(SUM(Z8:Z23),-3) -> 304183000 | U8: =T8-S8 -> 6923000 | V8: =U8/S8 -> 0.023289376 | W8: 관장 | X8: 21 | Y8: 4,774,460원×12개월 | Z8: =4774460*12 -> 57293520
W9: 과장 | X9: 21 | Y9: 3,965,910원×11개월 | Z9: =3965910*11 -> 43625010
X10: 22 | Y10: 4,019,780원×1개월 | Z10: =4019780*1 -> 4019780
W11: 과장 | X11: 17 | Y11: 3,721,700원×12개월 | Z11: =3721700*12 -> 44660400
W12: 선임사회복지사 | X12: 10 | Y12: 2,852,480원×4개월 | Z12: =2852480*4 -> 11409920
W13: 사회복지사 | X13: 8 | Y13: 2,431,520원×3개월 | Z13: =2431520*3 -> 7294560
X14: 9 | Y14: 2,528,650원×5개월 | Z14: =2528650*5 -> 12643250
W15: 사회복지사 | X15: 12 | Y15: 2,777,400원×9개월 | Z15: =2777400*9 -> 24996600
X16: 13 | Y16: 2,845,580원×3개월 | Z16: =2845580*3 -> 8536740
W17: 영양사 | X17: 10 | Y17: 2,372,400원×8개월 | Z17: =2372400*8 -> 18979200
X18: 11 | Y18: 2,432,550원×4개월 | Z18: =2432550*4 -> 9730200
W19: 운전기사 | X19: 10 | Y19: 2,549,660원×3개월 | Z19: =2549660*3 -> 7648980
X20: 11 | Y20: 2,633,400원×9개월 | Z20: =2633400*9 -> 23700600
W21: 조리사 | X21: 11 | Y21: 2,541,830원×4개월 | Z21: =2541830*4 -> 10167320
X22: 12 | Y22: 2,620,930원×2개월 | Z22: =2620930*2 -> 5241860
X23: 10 | Y23: 2,372,400원×6개월 | Z23: =2372400*6 -> 14234400
C24: 일용잡급 | H24: 12495000 | I24: 10200000 | J24: 10900000 | K24: 11800000 | L24: 11800000 | M24: 13200000 | N24: 13200000 | O24: 13200000 | P24: 13200000 | Q24: 13200000 | R24: 13200000 | S24: 13200000 | T24: =SUM(Z24:Z25) -> 13200000 | U24: =T24-S24 -> 0 | V24: =U24/S24 -> 0 | W24: 조리보조원 | X24: 시급제 | Y24: 10,000원×4시간×25일×12개월 | Z24: =10000*4*25*12 -> 12000000
W25: 차량운전일용직 | Y25: 100,000원×12회 | Z25: =100000*12 -> 1200000
C26: 제수당 | D26: 46019000 | E26: 49755000 | F26: 49497000 | G26: 46019000 | H26: 48790000 | I26: 58956000 | J26: 63906000 | K26: 63247000 | L26: 63247000 | M26: 70633000 | N26: 64007000 | O26: 63059000 | P26: 62618000 | Q26: 63312000 | R26: 63159000 | S26: 62633000 | T26: =ROUNDUP(SUM(Z26:Z35),-3) -> 64999000 | U26: =T26-S26 -> 2366000 | V26: =U26/S26 -> 0.037775613 | W26: 효도휴가비 | Y26: 15,200,000원×2회 | Z26: =15200000*2 -> 30400000
X27: 전담관리자 | Y27: 603,600원×5명×2회 | Z27: =603600*5*2 -> 6036000
X28: 운동처방사 | Y28: 1,185,600원×1명×1회 | Z28: =1185600*1*1 -> 1185600
X29: 응급안전알리미 | Y29: 1,148,660원×1명×2회 | Z29: =1148660*1*2 -> 2297320
X30: 시간제조리보조원 | Y30: 300,000원×1명×2회 | Z30: =300000*2 -> 600000
W31: 종사자특별수당 | Y31: 6명×150,000원 ×12월 | Z31: =6*150000*12 -> 10800000
Y32: (1명×120,000원×12월)+(1명×120,000원×4월) | Z32: =(1*120000*12)+(1*120000*4) -> 1920000
W33: 기타수당 | X33: 전담관리자 | Y33: 1명×100,000원×12월 | Z33: =1*100000*12 -> 1200000
W34: 위험수당 | X34: 시설관리 | Y34: 200,000원×12개월 | Z34: =200000*12 -> 2400000
W35: 가족수당 | X35: 직원 | Y35: 680,000원×12개월 | Z35: =680000*12 -> 8160000
C36: 퇴직금 및 퇴직적립금 | D36: 25494000 | E36: 26639000 | F36: 26612000 | G36: 25494000 | H36: 32816000 | I36: 27367000 | J36: 28936000 | K36: 28001000 | L36: 28001000 | M36: 28938000 | N36: 29579000 | O36: 29311000 | P36: 29509000 | Q36: 30573000 | R36: 30474000 | S36: 30833000 | T36: =ROUNDUP(SUM(Z36:Z40),-3) -> 30546000 | U36: =T36-S36 -> -287000 | V36: =U36/S36 -> -0.0093082087 | W36: 퇴직연금 | Y36: 2,387,670원×12개월 | Z36: =28652000 -> 28652000
X37: 전담관리자 | Y37: (8,330원×12개월)+(50,300원×5명×2회) | Z37: =(8330*12)+(50300*5*2) -> 602960
X38: 운동처방사 | Y38: 98,800원×1명×1회 | Z38: =98800*1*1 -> 98800
X39: 응급안전알리미 | Y39: 95,720원×1명×2회 | Z39: =95720*1*2 -> 191440
X40: 조리보조원 | Y40: 10,000원×4시간×25일×1개월 | Z40: =10000*4*25*1 -> 1000000
...
