Workbook

Sheet 표지(안)
A2: 2022년도 1차 추경예산(안)
A3: 자 애 자 립 장

Sheet 표지(서)
A2: 2022년도 1차 추경예산서
A3: 자 애 자 립 장

Sheet 예산총칙
A2: 2022년도 | C2: 1차 추경예산 총칙
A4: 제 1 조 | B4: =A2 -> 2022년도 | C4: 추경예산은 이사회의 의결을 거쳐야 한다.
A5: 제 2 조 | B5: =A2 -> 2022년도 | C5: 세입, 세출 추경예산 총액은 | D5: ='총괄표(목)'!F4 -> 726650000 | E5: 원 으로 한다.
A6: 제 3 조 | B6: =A2 -> 2022년도 | C6: 세입, 세출 명세는 세입 세출 추경예산서와 같다.
A7: 제 4 조 | B7: =B4 -> 2022년도 | C7: 예산의 항목간 전용은 이사회 및 시설장의 승인을 얻어 전용한다.
A8: 제 5 조 | B8: =B5 -> 2022년도 | C8: 예비비는 시설장의 승인을 받아 지출한다.

Sheet 총괄표(항)
A1: 순번 | B1: 세 입 | G1: 세 출
B2: 관 | C2: 항 | D2: 예 산 액 | F2: 증감 | G2: 관 | H2: 항 | I2: 예 산 액 | K2: 증감
D3: 당초예산액 | E3: 추경예산액 | F3: 금액 | I3: 당초예산액 | J3: 추경예산액 | K3: 금액
A4: 합 계 | D4: =SUM(D5,D7,D9,D11,D13,D15) -> 755135000 | E4: =SUM(E5,E7,E9,E11,E13,E15) -> 726650000 | F4: =SUM(F5,F7,F9,F11,F13,F15) -> -28485000 | G4: 합 계 | I4: =SUM(I5,I9,I11,I15,I17) -> 755135000 | J4: =SUM(J5,J9,J11,J15,J17) -> 726650000 | K4: =J4-I4 -> -28485000
A5: 1 | B5: 사업수입 | D5: =D6 -> 183702000 | E5: =E6 -> 154355487 | F5: =E5-D5 -> -29346513 | G5: 사무비 | I5: =SUM(I6:I8) -> 527641450 | J5: =SUM(J6:J8) -> 510999012 | K5: =J5-I5 -> -16642438
A6: 2 | C6: 사업수입 | D6: ='총괄표(목)'!E6 -> 183702000 | E6: ='총괄표(목)'!F6 -> 154355487 | F6: =E6-D6 -> -29346513 | H6: 인건비 | I6: ='총괄표(목)'!K6 -> 481933810 | J6: ='총괄표(목)'!L6 -> 465113800 | K6: =J6-I6 -> -16820010
A7: 3 | B7: 보조금수입 | D7: =D8 -> 513551550 | E7: =E8 -> 500774080 | F7: =E7-D7 -> -12777470 | H7: 업무추진비 | I7: ='총괄표(목)'!K12 -> 1440000 | J7: ='총괄표(목)'!L12 -> 1220150 | K7: =J7-I7 -> -219850
A8: 4 | C8: 보조금수입 | D8: ='총괄표(목)'!E9 -> 513551550 | E8: ='총괄표(목)'!F9 -> 500774080 | F8: =E8-D8 -> -12777470 | H8: 운영비 | I8: ='총괄표(목)'!K15 -> 44267640 | J8: ='총괄표(목)'!L15 -> 44665062 | K8: =J8-I8 -> 397422
A9: 5 | B9: 후원금수입 | D9: =D10 -> 840000 | E9: =E10 -> 900000 | F9: =E9-D9 -> 60000 | G9: 재산조성비 | I9: =I10 -> 20018360 | J9: =J10 -> 17851950 | K9: =J9-I9 -> -2166410
A10: 6 | C10: 후원금수입 | D10: ='총괄표(목)'!E15 -> 840000 | E10: ='총괄표(목)'!F15 -> 900000 | F10: =E10-D10 -> 60000 | H10: 시설비 | I10: ='총괄표(목)'!K23 -> 20018360 | J10: ='총괄표(목)'!L23 -> 17851950 | K10: =J10-I10 -> -2166410
A11: 7 | B11: 전입금 | D11: =D12 -> 36000000 | E11: =E12 -> 42000000 | F11: =E11-D11 -> 6000000 | G11: 사업비 | I11: =SUM(I12:I14) -> 191111680 | J11: =SUM(J12:J14) -> 187085820 | K11: =J11-I11 -> -4025860
A12: 8 | C12: 전입금 | D12: ='총괄표(목)'!E19 -> 36000000 | E12: ='총괄표(목)'!F19 -> 42000000 | F12: =E12-D12 -> 6000000 | H12: 운영비 | I12: ='총괄표(목)'!K28 -> 1110000 | J12: ='총괄표(목)'!L28 -> 1938560 | K12: =J12-I12 -> 828560
A13: 9 | B13: 이월금 | D13: =D14 -> 20646175 | E13: =E14 -> 27654899 | F13: =E13-D13 -> 7008724 | H13: 교육비 | I13: 0 | J13: 0 | K13: =J13-I13 -> 0
A14: 10 | C14: 이월금 | D14: ='총괄표(목)'!E23 -> 20646175 | E14: ='총괄표(목)'!F23 -> 27654899 | F14: =E14-D14 -> 7008724 | H14: 사업비 | I14: ='총괄표(목)'!K32 -> 190001680 | J14: ='총괄표(목)'!L32 -> 185147260 | K14: =J14-I14 -> -4854420
A15: 11 | B15: 잡수입 | D15: =D16 -> 395275 | E15: =E16 -> 965534 | F15: =E15-D15 -> 570259 | G15: 잡지출 | I15: =SUM(I16) -> 35275 | J15: =SUM(J16) -> 22448 | K15: =J15-I15 -> -12827
A16: 12 | C16: 잡수입 | D16: ='총괄표(목)'!E27 -> 395275 | E16: ='총괄표(목)'!F27 -> 965534 | F16: =E16-D16 -> 570259 | H16: 잡지출 | I16: ='총괄표(목)'!K38 -> 35275 | J16: ='총괄표(목)'!L38 -> 22448 | K16: =J16-I16 -> -12827
A17: 13 | G17: 예비비 | I17: =SUM(I18) -> 16328235 | J17: =SUM(J18) -> 10690770 | K17: =J17-I17 -> -5637465
A18: 14 | H18: 예비비 | I18: ='총괄표(목)'!K41 -> 16328235 | J18: ='총괄표(목)'!L41 -> 10690770 | K18: =J18-I18 -> -5637465

Sheet 총괄표(목)
A1: 순번 | B1: 세 입 | H1: 세 출
B2: 과 목 | E2: 당초예산액 | F2: 추경예산액 | G2: 증감 | H2: 과 목 | K2: 당초예산액 | L2: 추경예산액 | M2: 증감
B3: 관 | C3: 항 | D3: 목 | H3: 관 | I3: 항 | J3: 목
A4: 세 입 계 | E4: =SUM(,E5,E8,E14,E18,E22,E27) -> 755135000 | F4: =SUM(,F5,F8,F14,F18,F22,F27) -> 726650000 | G4: =SUM(,G5,G8,G14,G18,G22,G27) -> -28485000 | H4: 세 출 계 | K4: =SUM(K5,K22,K27,K37,K40) -> 755135000 | L4: =SUM(L5,L22,L27,L37,L40) -> 726650000 | M4: =SUM(M5,M22,M27,M37,M40) -> -28485000
A5: 1 | B5: 사업수입 | E5: =E6 -> 183702000 | F5: =F6 -> 154355487 | G5: =F5-E5 -> -29346513 | H5: 사무비 | K5: =SUM(K6,K12,K15) -> 527641450 | L5: =SUM(L6,L12,L15) -> 510999012 | M5: =L5-K5 -> -16642438
A6: 2 | C6: 사업수입 | E6: =E7 -> 183702000 | F6: =F7 -> 154355487 | G6: =F6-E6 -> -29346513 | I6: 인건비 | K6: =SUM(K7:K11) -> 481933810 | L6: =SUM(L7:L11) -> 465113800 | M6: =L6-K6 -> -16820010
A7: 3 | D7: 사업수입 | E7: 183702000 | F7: 154355487 | G7: =F7-E7 -> -29346513 | J7: 급여 | K7: 295839200 | L7: 289263200 | M7: =L7-K7 -> -6576000
A8: 4 | B8: 보조금수입 | E8: =E9 -> 513551550 | F8: =F9 -> 500774080 | G8: =F8-E8 -> -12777470 | J8: 제수당 | K8: 61785470 | L8: 60121310 | M8: =L8-K8 -> -1664160
A9: 5 | C9: 보조금수입 | E9: =SUM(E10:E13) -> 513551550 | F9: =SUM(F10:F13) -> 500774080 | G9: =F9-E9 -> -12777470 | J9: 퇴직금및퇴직적립금 | K9: 44489720 | L9: 42988530 | M9: =L9-K9 -> -1501190
A10: 6 | D10: 국고보조금 | E10: 501671550 | F10: 489614080 | G10: =F10-E10 -> -12057470 | J10: 사회보험부담비용 | K10: 50294440 | L10: 43908540 | M10: =L10-K10 -> -6385900
A11: 7 | D11: 시도보조금 | E11: 11880000 | F11: 11160000 | G11: =F11-E11 -> -720000 | J11: 기타후생경비 | K11: 29524980 | L11: 28832220 | M11: =L11-K11 -> -692760
A12: 8 | D12: 시군구보조금 | E12: 0 | F12: 0 | G12: =F12-E12 -> 0 | I12: 업무추진비 | K12: =SUM(K13:K14) -> 1440000 | L12: =SUM(L13:L14) -> 1220150 | M12: =L12-K12 -> -219850
A13: 9 | D13: 기타보조금 | E13: 0 | F13: 0 | G13: =F13-E13 -> 0 | J13: 기관운영비 | K13: 400000 | L13: 450650 | M13: =L13-K13 -> 50650
A14: 10 | B14: 후원금수입 | E14: =E15 -> 840000 | F14: =F15 -> 900000 | G14: =F14-E14 -> 60000 | J14: 회의비 | K14: 1040000 | L14: 769500 | M14: =L14-K14 -> -270500
A15: 11 | C15: 후원금수입 | E15: =E16+E17 -> 840000 | F15: =F16+F17 -> 900000 | G15: =F15-E15 -> 60000 | I15: 운영비 | K15: =SUM(K16:K21) -> 44267640 | L15: =SUM(L16:L21) -> 44665062 | M15: =L15-K15 -> 397422
A16: 12 | D16: 지정후원금 | E16: 0 | F16: 0 | G16: =F16-E16 -> 0 | J16: 여비 | K16: 300000 | L16: 511000 | M16: =L16-K16 -> 211000
A17: 13 | D17: 비지정후원금 | E17: 840000 | F17: 900000 | G17: =F17-E17 -> 60000 | J17: 수용비및수수료 | K17: 12765640 | L17: 13109742 | M17: =L17-K17 -> 344102
A18: 14 | B18: 전입금 | E18: =E19 -> 36000000 | F18: =F19 -> 42000000 | G18: =F18-E18 -> 6000000 | J18: 공공요금 | K18: 5401000 | L18: 5711180 | M18: =L18-K18 -> 310180
A19: 15 | C19: 전입금 | E19: =E20+E21 -> 36000000 | F19: =F20+F21 -> 42000000 | G19: =F19-E19 -> 6000000 | J19: 제세공과금 | K19: 14306500 | L19: 12478840 | M19: =L19-K19 -> -1827660
A20: 16 | D20: 법인전입금 | E20: 36000000 | F20: 42000000 | G20: =F20-E20 -> 6000000 | J20: 차량비 | K20: 10382500 | L20: 12201300 | M20: =L20-K20 -> 1818800
A21: 17 | D21: 법인전입금(후원금) | E21: 0 | F21: 0 | G21: =F21-E21 -> 0 | J21: 기타운영비 | K21: 1112000 | L21: 653000 | M21: =L21-K21 -> -459000
A22: 18 | B22: 이월금 | E22: =E23 -> 20646175 | F22: =F23 -> 27654899 | G22: =F22-E22 -> 7008724 | H22: 재산조성비 | K22: =K23 -> 20018360 | L22: =L23 -> 17851950 | M22: =L22-K22 -> -2166410
A23: 19 | C23: 이월금 | E23: =SUM(E24:E26) -> 20646175 | F23: =SUM(F24:F26) -> 27654899 | G23: =F23-E23 -> 7008724 | I23: 시설비 | K23: =SUM(K24:K26) -> 20018360 | L23: =SUM(L24:L26) -> 17851950 | M23: =L23-K23 -> -2166410
A24: 20 | D24: 전년도이월금 | E24: 19806175 | F24: 26814899 | G24: =F24-E24 -> 7008724 | J24: 시설비 | K24: 5900000 | L24: 0 | M24: =L24-K24 -> -5900000
A25: 21 | D25: 전년도이월금(후원금) | E25: 840000 | F25: 840000 | G25: =F25-E25 -> 0 | J25: 자산취득비 | K25: 8600000 | L25: 5673980 | M25: =L25-K25 -> -2926020
A26: 22 | D26: 이월사업비 | E26: 0 | F26: 0 | G26: =F26-E26 -> 0 | J26: 시설장비유지비 | K26: 5518360 | L26: 12177970 | M26: =L26-K26 -> 6659610
A27: 23 | B27: 잡수입 | E27: =E28 -> 395275 | F27: =F28 -> 965534 | G27: =F27-E27 -> 570259 | H27: 사업비 | K27: =SUM(K28,K32) -> 191111680 | L27: =SUM(L28,L32) -> 187085820 | M27: =L27-K27 -> -4025860
A28: 24 | C28: 잡수입 | E28: =SUM(E29:E30) -> 395275 | F28: =SUM(F29:F30) -> 965534 | G28: =F28-E28 -> 570259 | I28: 운영비 | K28: =K29+K30+K31 -> 1110000 | L28: =L29+L30+L31 -> 1938560 | M28: =L28-K28 -> 828560
A29: 25 | D29: 기타예금이자수입 | E29: 35275 | F29: 33534 | G29: =F29-E29 -> -1741 | J29: 수용기관경비 | K29: 360000 | L29: 56760 | M29: =L29-K29 -> -303240
A30: 26 | D30: 기타잡수입 | E30: 360000 | F30: 932000 | G30: =F30-E30 -> 572000 | J30: 의료비 | K30: 30000 | L30: 1178000 | M30: =L30-K30 -> 1148000
A31: 27 | J31: 특별급식비 | K31: 720000 | L31: 703800 | M31: =L31-K31 -> -16200
A32: 28 | I32: 사업비 | K32: =SUM(K33:K36) -> 190001680 | L32: =SUM(L33:L36) -> 185147260 | M32: =L32-K32 -> -4854420
A33: 29 | J33: 직업훈련사업비 | K33: 42100800 | L33: 45761700 | M33: =L33-K33 -> 3660900
A34: 30 | J34: 교육훈련사업비 | K34: 450000 | L34: 1238560 | M34: =L34-K34 -> 788560
A35: 31 | J35: 근로자임금사업비 | K35: 146714880 | L35: 137632800 | M35: =L35-K35 -> -9082080
A36: 32 | J36: 기타사업비 | K36: 736000 | L36: 514200 | M36: =L36-K36 -> -221800
A37: 33 | H37: 잡지출 | K37: =K38 -> 35275 | L37: =L38 -> 22448 | M37: =L37-K37 -> -12827
A38: 34 | I38: 잡지출 | K38: =K39 -> 35275 | L38: =L39 -> 22448 | M38: =L38-K38 -> -12827
A39: 35 | J39: 잡지출 | K39: 35275 | L39: 22448 | M39: =L39-K39 -> -12827
A40: 36 | H40: 예비비 | K40: =K41 -> 16328235 | L40: =L41 -> 10690770 | M40: =L40-K40 -> -5637465
A41: 37 | I41: 예비비 | K41: =K42 -> 16328235 | L41: =L42 -> 10690770 | M41: =L41-K41 -> -5637465
A42: 38 | J42: 예비비 | K42: 16328235 | L42: 10690770 | M42: =L42-K42 -> -5637465

Sheet 총괄표(목) (운영위원회자료(안), 김국장님14일경)
A1: 순번 | B1: 세 입 | H1: 세 출
B2: 과 목 | E2: 당초예산액 | F2: 추경예산액 | G2: 증감 | H2: 과 목 | K2: 당초예산액 | L2: 추경예산액 | M2: 증감
B3: 관 | C3: 항 | D3: 목 | H3: 관 | I3: 항 | J3: 목
A4: 세 입 계 | E4: =SUM(,E5,E8,E14,E18,E22,E27) -> 755135000 | F4: =SUM(,F5,F8,F14,F18,F22,F27) -> 726650000 | G4: =SUM(,G5,G8,G14,G18,G22,G27) -> -28485000 | H4: 세 출 계 | K4: =SUM(K5,K22,K27,K37,K40) -> 755135000 | L4: =SUM(L5,L22,L27,L37,L40) -> 726650000 | M4: =SUM(M5,M22,M27,M37,M40) -> -28485000
A5: 1 | B5: 사업수입 | E5: =E6 -> 183702000 | F5: =F6 -> 154355487 | G5: =F5-E5 -> -29346513 | H5: 사무비 | K5: =SUM(K6,K12,K15) -> 527641450 | L5: =SUM(L6,L12,L15) -> 510999012 | M5: =L5-K5 -> -16642438
A6: 2 | C6: 사업수입 | E6: =E7 -> 183702000 | F6: =F7 -> 154355487 | G6: =F6-E6 -> -29346513 | I6: 인건비 | K6: =SUM(K7:K11) -> 481933810 | L6: =SUM(L7:L11) -> 465113800 | M6: =L6-K6 -> -16820010
A7: 3 | D7: 사업수입 | E7: 183702000 | F7: 154355487 | G7: =F7-E7 -> -29346513 | J7: 급여 | K7: 295839200 | L7: 289263200 | M7: =L7-K7 -> -6576000
A8: 4 | B8: 보조금수입 | E8: =E9 -> 513551550 | F8: =F9 -> 500774080 | G8: =F8-E8 -> -12777470 | J8: 제수당 | K8: 61785470 | L8: 60121310 | M8: =L8-K8 -> -1664160
A9: 5 | C9: 보조금수입 | E9: =SUM(E10:E13) -> 513551550 | F9: =SUM(F10:F13) -> 500774080 | G9: =F9-E9 -> -12777470 | J9: 퇴직금및퇴직적립금 | K9: 44489720 | L9: 42988530 | M9: =L9-K9 -> -1501190
A10: 6 | D10: 국고보조금 | E10: 501671550 | F10: 489614080 | G10: =F10-E10 -> -12057470 | J10: 사회보험부담비용 | K10: 50294440 | L10: 43908540 | M10: =L10-K10 -> -6385900
A11: 7 | D11: 시도보조금 | E11: 11880000 | F11: 11160000 | G11: =F11-E11 -> -720000 | J11: 기타후생경비 | K11: 29524980 | L11: 28832220 | M11: =L11-K11 -> -692760
A12: 8 | D12: 시군구보조금 | E12: 0 | F12: 0 | G12: =F12-E12 -> 0 | I12: 업무추진비 | K12: =SUM(K13:K14) -> 1440000 | L12: =SUM(L13:L14) -> 1220150 | M12: =L12-K12 -> -219850
A13: 9 | D13: 기타보조금 | E13: 0 | F13: 0 | G13: =F13-E13 -> 0 | J13: 기관운영비 | K13: 400000 | L13: 450650 | M13: =L13-K13 -> 50650
A14: 10 | B14: 후원금수입 | E14: =E15 -> 840000 | F14: =F15 -> 900000 | G14: =F14-E14 -> 60000 | J14: 회의비 | K14: 1040000 | L14: 769500 | M14: =L14-K14 -> -270500
A15: 11 | C15: 후원금수입 | E15: =E16+E17 -> 840000 | F15: =F16+F17 -> 900000 | G15: =F15-E15 -> 60000 | I15: 운영비 | K15: =SUM(K16:K21) -> 44267640 | L15: =SUM(L16:L21) -> 44665062 | M15: =L15-K15 -> 397422
A16: 12 | D16: 지정후원금 | E16: 0 | F16: 0 | G16: =F16-E16 -> 0 | J16: 여비 | K16: 300000 | L16: 511000 | M16: =L16-K16 -> 211000
A17: 13 | D17: 비지정후원금 | E17: 840000 | F17: 900000 | G17: =F17-E17 -> 60000 | J17: 수용비및수수료 | K17: 12765640 | L17: 13109742 | M17: =L17-K17 -> 344102
A18: 14 | B18: 전입금 | E18: =E19 -> 36000000 | F18: =F19 -> 42000000 | G18: =F18-E18 -> 6000000 | J18: 공공요금 | K18: 5401000 | L18: 5711180 | M18: =L18-K18 -> 310180
A19: 15 | C19: 전입금 | E19: =E20+E21 -> 36000000 | F19: =F20+F21 -> 42000000 | G19: =F19-E19 -> 6000000 | J19: 제세공과금 | K19: 14306500 | L19: 12478840 | M19: =L19-K19 -> -1827660
A20: 16 | D20: 법인전입금 | E20: 36000000 | F20: 42000000 | G20: =F20-E20 -> 6000000 | J20: 차량비 | K20: 10382500 | L20: 12201300 | M20: =L20-K20 -> 1818800
A21: 17 | D21: 법인전입금(후원금) | E21: 0 | F21: 0 | G21: =F21-E21 -> 0 | J21: 기타운영비 | K21: 1112000 | L21: 653000 | M21: =L21-K21 -> -459000
A22: 18 | B22: 이월금 | E22: =E23 -> 20646175 | F22: =F23 -> 27654899 | G22: =F22-E22 -> 7008724 | H22: 재산조성비 | K22: =K23 -> 20018360 | L22: =L23 -> 17851950 | M22: =L22-K22 -> -2166410
A23: 19 | C23: 이월금 | E23: =SUM(E24:E26) -> 20646175 | F23: =SUM(F24:F26) -> 27654899 | G23: =F23-E23 -> 7008724 | I23: 시설비 | K23: =SUM(K24:K26) -> 20018360 | L23: =SUM(L24:L26) -> 17851950 | M23: =L23-K23 -> -2166410
A24: 20 | D24: 전년도이월금 | E24: 19806175 | F24: 26814899 | G24: =F24-E24 -> 7008724 | J24: 시설비 | K24: 5900000 | L24: 0 | M24: =L24-K24 -> -5900000
A25: 21 | D25: 전년도이월금(후원금) | E25: 840000 | F25: 840000 | G25: =F25-E25 -> 0 | J25: 자산취득비 | K25: 8600000 | L25: 5673980 | M25: =L25-K25 -> -2926020
A26: 22 | D26: 이월사업비 | E26: 0 | F26: 0 | G26: =F26-E26 -> 0 | J26: 시설장비유지비 | K26: 5518360 | L26: 12177970 | M26: =L26-K26 -> 6659610
A27: 23 | B27: 잡수입 | E27: =E28 -> 395275 | F27: =F28 -> 965534 | G27: =F27-E27 -> 570259 | H27: 사업비 | K27: =SUM(K28,K32) -> 191111680 | L27: =SUM(L28,L32) -> 187085820 | M27: =L27-K27 -> -4025860
A28: 24 | C28: 잡수입 | E28: =SUM(E29:E30) -> 395275 | F28: =SUM(F29:F30) -> 965534 | G28: =F28-E28 -> 570259 | I28: 운영비 | K28: =K29+K30+K31 -> 1110000 | L28: =L29+L30+L31 -> 1938560 | M28: =L28-K28 -> 828560
A29: 25 | D29: 기타예금이자수입 | E29: 35275 | F29: 33534 | G29: =F29-E29 -> -1741 | J29: 수용기관경비 | K29: 360000 | L29: 56760 | M29: =L29-K29 -> -303240
A30: 26 | D30: 기타잡수입 | E30: 360000 | F30: 932000 | G30: =F30-E30 -> 572000 | J30: 의료비 | K30: 30000 | L30: 1178000 | M30: =L30-K30 -> 1148000
A31: 27 | J31: 특별급식비 | K31: 720000 | L31: 703800 | M31: =L31-K31 -> -16200
A32: 28 | I32: 사업비 | K32: =SUM(K33:K36) -> 190001680 | L32: =SUM(L33:L36) -> 185147260 | M32: =L32-K32 -> -4854420
A33: 29 | J33: 직업훈련사업비 | K33: 42100800 | L33: 45761700 | M33: =L33-K33 -> 3660900
A34: 30 | J34: 교육훈련사업비 | K34: 450000 | L34: 1238560 | M34: =L34-K34 -> 788560
A35: 31 | J35: 근로자임금사업비 | K35: 146714880 | L35: 137632800 | M35: =L35-K35 -> -9082080
A36: 32 | J36: 기타사업비 | K36: 736000 | L36: 514200 | M36: =L36-K36 -> -221800
A37: 33 | H37: 잡지출 | K37: =K38 -> 35275 | L37: =L38 -> 22448 | M37: =L37-K37 -> -12827
A38: 34 | I38: 잡지출 | K38: =K39 -> 35275 | L38: =L39 -> 22448 | M38: =L38-K38 -> -12827
A39: 35 | J39: 잡지출 | K39: 35275 | L39: 22448 | M39: =L39-K39 -> -12827
A40: 36 | H40: 예비비 | K40: =K41 -> 16328235 | L40: =L41 -> 10690770 | M40: =L40-K40 -> -5637465
A41: 37 | I41: 예비비 | K41: =K42 -> 16328235 | L41: =L42 -> 10690770 | M41: =L41-K41 -> -5637465
A42: 38 | J42: 예비비 | K42: 16328235 | L42: 10690770 | M42: =L42-K42 -> -5637465

Sheet 사업계획서표지
A1: =예산총칙!A2 -> 2022년도
A2: [변경]사업계획서
A3: 자 애 자 립 장
