Workbook

Sheet 개요
B2: 2018 기적의도서관 4차 도서구입
B4: 구분 | C4: 등록구분 | D4: 권수 | E4: 도서구입비 | F4: marc & 장비용역비 | G4: 합계금액
B5: 합계 | D5: =SUM(D6:D7) -> 392 | E5: =SUM(E6:E7) -> 4805900 | F5: =SUM(F6:F7) -> 337120 | G5: =E5+F5 -> 5143020
B6: 일반도서 | C6: ML | D6: =일반!G4 -> 77 | E6: =일반!I6 -> 1124700 | F6: =일반!I5 -> 66220 | G6: =E6+F6 -> 1190920
B7: 어린이도서 | C7: ML | D7: =어린이!G4 -> 315 | E7: =어린이!I6 -> 3681200 | F7: =어린이!I5 -> 270900 | G7: =E7+F7 -> 3952100

Sheet 전체목록
A1: 2018 기적의도서관 4차 도서구입 전체목록
A3: 연번 | B3: 대상 | C3: 서명 | D3: 저자 | E3: 발행자 | F3: 발행년 | G3: 책수 | H3: 가격 | I3: 금액
C4: 총합계 | G4: =SUM(G7:G400) -> 392 | I4: =I5+I6 -> 5143020
C5: marc & 장비 용역비 | D5: 권당 860원 | I5: =G4*860 -> 337120
C6: 구입비 | I6: =SUM(I7:I400) -> 4805900
A7: 1 | B7: 일반 | C7: 문장 수집 생활 | D7: 이유미 | E7: 21세기북스 | F7: 2018 | G7: 1 | H7: 15000 | I7: =H7*G7 -> 15000
A8: 2 | B8: 어린이 | C8: 똥파리 포롱이 | D8: 이시구 | E8: 가문비 | F8: 2017 | G8: 1 | H8: 9800 | I8: =H8*G8 -> 9800
A9: 3 | B9: 어린이 | C9: 할머니의 거울 상자 | D9: 김경우 | E9: 가문비 | F9: 2017 | G9: 1 | H9: 9800 | I9: =H9*G9 -> 9800
A10: 4 | B10: 어린이 | C10: 왕따 연주 은따 유리 | D10: 유하은 | E10: 가문비 | F10: 2017 | G10: 1 | H10: 9800 | I10: =H10*G10 -> 9800
A11: 5 | B11: 어린이 | C11: 이 집 사람들 | D11: 장지혜 | E11: 가문비 | F11: 2017 | G11: 1 | H11: 9800 | I11: =H11*G11 -> 9800
A12: 6 | B12: 어린이 | C12: 파도에 실려 온 꿈 | D12: 정혜원 | E12: 가문비 | F12: 2017 | G12: 1 | H12: 9800 | I12: =H12*G12 -> 9800
A13: 7 | B13: 어린이 | C13: 우산걸음 | D13: 김미영 | E13: 가문비 | F13: 2017 | G13: 1 | H13: 9000 | I13: =H13*G13 -> 9000
A14: 8 | B14: 어린이 | C14: 다윗 오바마와 싸움대장 골리앗 | D14: 조명숙 | E14: 가문비 | F14: 2016 | G14: 1 | H14: 9800 | I14: =H14*G14 -> 9800
A15: 9 | B15: 어린이 | C15: 수상한 여행 친구 | D15: 소중애 | E15: 거북이북스 | F15: 2017 | G15: 1 | H15: 11500 | I15: =H15*G15 -> 11500
A16: 10 | B16: 어린이 | C16: 꼬마 흡혈귀. 1 : 창가의 괴물 | D16: 앙겔라 좀머-보덴 부르크 | E16: 거북이북스 | F16: 2017 | G16: 1 | H16: 12000 | I16: =H16*G16 -> 12000
A17: 11 | B17: 어린이 | C17: 꼬마 흡혈귀. 2 : 눈물 골짜기의 비밀 파티 | D17: 앙겔라 좀머-보덴 부르크 | E17: 거북이북스 | F17: 2017 | G17: 1 | H17: 12000 | I17: =H17*G17 -> 12000
A18: 12 | B18: 어린이 | C18: 꼬마 흡혈귀. 3 : 위험천만 기차 여행 | D18: 앙겔라 좀머-보덴 부르크 | E18: 거북이북스 | F18: 2017 | G18: 1 | H18: 12000 | I18: =H18*G18 -> 12000
... A243: 237 | B243: 어린이 | C243: 나의 증조할머니 | D243: 안나 피스케 | E243: 우리나비 | F243: 2017 | G243: 1 | H243: 13000 | I243: =H243*G243 -> 13000
A244: 238 | B244: 어린이 | C244: 이상희 선생님이 들려주는 인류 이야기 | D244: 이상희 | E244: 우리학교 | G244: 1 | H244: 12000 | I244: =H244*G244 -> 12000
A245: 239 | B245: 어린이 | C245: 봄이다 | D245: 정하섭 | E245: 우주나무 | F245: 2017 | G245: 1 | H245: 13000 | I245: =H245*G245 -> 13000
A246: 240 | B246: 어린이 | C246: 엄마 고향은 어디야? | D246: 노정임 | E246: 웃는돌고래 | F246: 2018 | G246: 1 | H246: 12000 | I246: =H246*G246 -> 12000
A247: 241 | B247: 어린이 | C247: 이름 도둑 | D247: 문은아 | E247: 웅진주니어 | F247: 2018 | G247: 1 | H247: 9500 | I247: =H247*G247 -> 9500
A248: 242 | B248: 어린이 | C248: 나씨의 아침 식사 | D248: 미 안 | E248: 웅진주니어 | F248: 2017 | G248: 1 | H248: 21000 | I248: =H248*G248 -> 21000
A249: 243 | B249: 어린이 | C249: 어린이 박물관 : 신라 | D249: 강응천 | E249: 웅진주니어 | F249: 2017 | G249: 1 | H249: 13000 | I249: =H249*G249 -> 13000
A250: 244 | B250: 어린이 | C250: 사샤의 돌 | D250: 에런 베커 | E250: 웅진주니어 | F250: 2018 | G250: 1 | H250: 12000 | I250: =H250*G250 -> 12000
A251: 245 | B251: 일반 | C251: 따라하면 매출이 따라오는 인스타그램 마케팅 | D251: 양성길 | E251: 원앤원북스 | F251: 2018 | G251: 1 | H251: 14000 | I251: =H251*G251 -> 14000
A252: 246 | B252: 일반 | C252: 생각하기의 기술 | D252: 그랜트 스나이더 | E252: 윌북 | F252: 2018 | G252: 1 | H252: 13800 | I252: =H252*G252 -> 13800
A253: 247 | B253: 어린이 | C253: 생각 부자가 된 키라 | D253: 박현숙 | E253: 을파소 | F253: 2017 | G253: 1 | H253: 13000 | I253: =H253*G253 -> 13000
A254: 248 | B254: 어린이 | C254: 착각 탐정단. 1 | D254: 후지에 준 | E254: 을파소 | F254: 2017 | G254: 1 | H254: 11000 | I254: =H254*G254 -> 11000
A255: 249 | B255: 어린이 | C255: 착각 탐정단. 2 | D255: 후지에 준 | E255: 을파소 | F255: 2017 | G255: 1 | H255: 11000 | I255: =H255*G255 -> 11000
A256: 250 | B256: 어린이 | C256: 착각 탐정단. 3 | D256: 후지에 준 | E256: 을파소 | F256: 2017 | G256: 1 | H256: 11000 | I256: =H256*G256 -> 11000
... A393: 387 | B393: 어린이 | C393: 날마다 달마다 신나는 책놀이터 | D393: 이숙현 | E393: 행복한아침독서 | F393: 2016 | G393: 1 | H393: 15000 | I393: =H393*G393 -> 15000

Sheet 일반
A1: 2018 기적의도서관 4차 도서구입(일반도서)
A3: 연번 | B3: 대상 | C3: 서명 | D3: 저자 | E3: 발행자 | F3: 발행년 | G3: 책수 | H3: 가격 | I3: 금액
C4: 총합계 | G4: =SUM(G7:G83) -> 77 | I4: =I5+I6 -> 1190920
C5: marc & 장비 용역비 | D5: 권당 860원 | I5: =G4*860 -> 66220
C6: 도서구입비 | I6: =SUM(I7:I83) -> 1124700
A7: 1 | B7: 일반 | C7: 문장 수집 생활 | D7: 이유미 | E7: 21세기북스 | F7: 2018 | G7: 1 | H7: 15000 | I7: =H7*G7 -> 15000
A8: 2 | B8: 일반 | C8: 다시, 초등 고전 읽기 혁명 | D8: 송재환 | E8: 글담출판 | F8: 2018 | G8: 1 | H8: 14800 | I8: =H8*G8 -> 14800
A9: 3 | B9: 일반 | C9: 다시, 초등 고전 읽기 혁명 : 실천편 | D9: 송재환 | E9: 글담출판 | F9: 2018 | G9: 1 | H9: 14800 | I9: =H9*G9 -> 14800
A10: 4 | B10: 일반 | C10: 운명에서 희망으로 | D10: 문재인 | E10: 다산북스 | F10: 2017 | G10: 1 | H10: 15000 | I10: =H10*G10 -> 15000
A11: 5 | B11: 일반 | C11: 나는 둔감하게 살기로 했다 | D11: 와타나베 준이치 | E11: 다산초당 | F11: 2018 | G11: 1 | H11: 14000 | I11: =H11*G11 -> 14000
A12: 6 | B12: 일반 | C12: 그리운 권정생 선생님 | D12: 똘배어린이문학회 | E12: 단비 | F12: 2017 | G12: 1 | H12: 14000 | I12: =H12*G12 -> 14000
A13: 7 | B13: 일반 | C13: 신채호 말꽃모음 | D13: 신채호 | E13: 단비 | F13: 2017 | G13: 1 | H13: 12000 | I13: =H13*G13 -> 12000
A14: 8 | B14: 일반 | C14: 연암 박지원 말꽃모음 | D14: 박지원 | E14: 단비 | F14: 2017 | G14: 1 | H14: 12000 | I14: =H14*G14 -> 12000
A15: 9 | B15: 일반 | C15: 나는 오늘도 소진되고 있습니다 | D15: 이진희 | E15: 대림북스 | F15: 2017 | G15: 1 | H15: 13000 | I15: =H15*G15 -> 13000
A16: 10 | B16: 일반 | C16: 본의 아니게 연애 공백기 | D16: 최미정 | E16: 대림북스 | F16: 2017 | G16: 1 | H16: 14000 | I16: =H16*G16 -> 14000
A17: 11 | B17: 일반 | C17: 나는야 호기심 많은 관찰자 | D17: 임정욱 | E17: 더난출판사 | F17: 2018 | G17: 1 | H17: 15500 | I17: =H17*G17 -> 15500
A18: 12 | B18: 일반 | C18: 모두 거짓말을 한다 | D18: 세스 스티븐스 다비도위츠 | E18: 더퀘스트 | F18: 2018 | G18: 1 | H18: 18000 | I18: =H18*G18 -> 18000
... A83: 77 | B83: 일반 | C83: 드라이빙 미스 노마 | D83: 팀, 라미 | E83: 흐름출판 | F83: 2018 | G83: 1 | H83: 14000 | I83: =H83*G83 -> 14000

Sheet 어린이
A1: 2018 기적의도서관 4차 도서구입(어린이도서)
A3: 연번 | B3: 대상 | C3: 서명 | D3: 저자 | E3: 발행자 | F3: 발행년 | G3: 책수 | H3: 가격 | I3: 금액
C4: 총합계 | G4: =SUM(G7:G320) -> 315 | I4: =I5+I6 -> 3952100
C5: marc & 장비 용역비 | D5: 권당 860원 | I5: =G4*860 -> 270900
C6: 도서구입비 | I6: =SUM(I7:I320) -> 3681200
A7: 1 | B7: 어린이 | C7: 똥파리 포롱이 | D7: 이시구 | E7: 가문비 | F7: 2017 | G7: 1 | H7: 9800 | I7: =H7*G7 -> 9800
A8: 2 | B8: 어린이 | C8: 할머니의 거울 상자 | D8: 김경우 | E8: 가문비 | F8: 2017 | G8: 1 | H8: 9800 | I8: =H8*G8 -> 9800
A9: 3 | B9: 어린이 | C9: 왕따 연주 은따 유리 | D9: 유하은 | E9: 가문비 | F9: 2017 | G9: 1 | H9: 9800 | I9: =H9*G9 -> 9800
A10: 4 | B10: 어린이 | C10: 이 집 사람들 | D10: 장지혜 | E10: 가문비 | F10: 2017 | G10: 1 | H10: 9800 | I10: =H10*G10 -> 9800
A11: 5 | B11: 어린이 | C11: 파도에 실려 온 꿈 | D11: 정혜원 | E11: 가문비 | F11: 2017 | G11: 1 | H11: 9800 | I11: =H11*G11 -> 9800
A12: 6 | B12: 어린이 | C12: 우산걸음 | D12: 김미영 | E12: 가문비 | F12: 2017 | G12: 1 | H12: 9000 | I12: =H12*G12 -> 9000
A13: 7 | B13: 어린이 | C13: 다윗 오바마와 싸움대장 골리앗 | D13: 조명숙 | E13: 가문비 | F13: 2016 | G13: 1 | H13: 9800 | I13: =H13*G13 -> 9800
A14: 8 | B14: 어린이 | C14: 수상한 여행 친구 | D14: 소중애 | E14: 거북이북스 | F14: 2017 | G14: 1 | H14: 11500 | I14: =H14*G14 -> 11500
A15: 9 | B15: 어린이 | C15: 꼬마 흡혈귀. 1 : 창가의 괴물 | D15: 앙겔라 좀머-보덴 부르크 | E15: 거북이북스 | F15: 2017 | G15: 1 | H15: 12000 | I15: =H15*G15 -> 12000
A16: 10 | B16: 어린이 | C16: 꼬마 흡혈귀. 2 : 눈물 골짜기의 비밀 파티 | D16: 앙겔라 좀머-보덴 부르크 | E16: 거북이북스 | F16: 2017 | G16: 1 | H16: 12000 | I16: =H16*G16 -> 12000
A17: 11 | B17: 어린이 | C17: 꼬마 흡혈귀. 3 : 위험천만 기차 여행 | D17: 앙겔라 좀머-보덴 부르크 | E17: 거북이북스 | F17: 2017 | G17: 1 | H17: 12000 | I17: =H17*G17 -> 12000
A18: 12 | B18: 어린이 | C18: 꼬마 흡혈귀. 4 : 괴물농장의 달걀 도둑 | D18: 앙겔라 좀머-보덴 부르크 | E18: 거북이북스 | F18: 2018 | G18: 1 | H18: 12000 | I18: =H18*G18 -> 12000
... A194: 188 | B194: 어린이 | C194: 나의 증조할머니 | D194: 안나 피스케 | E194: 우리나비 | F194: 2017 | G194: 1 | H194: 13000 | I194: =H194*G194 -> 13000
A195: 189 | B195: 어린이 | C195: 이상희 선생님이 들려주는 인류 이야기 | D195: 이상희 | E195: 우리학교 | G195: 1 | H195: 12000 | I195: =H195*G195 -> 12000
A196: 190 | B196: 어린이 | C196: 봄이다 | D196: 정하섭 | E196: 우주나무 | F196: 2017 | G196: 1 | H196: 13000 | I196: =H196*G196 -> 13000
A197: 191 | B197: 어린이 | C197: 엄마 고향은 어디야? | D197: 노정임 | E197: 웃는돌고래 | F197: 2018 | G197: 1 | H197: 12000 | I197: =H197*G197 -> 12000
A198: 192 | B198: 어린이 | C198: 이름 도둑 | D198: 문은아 | E198: 웅진주니어 | F198: 2018 | G198: 1 | H198: 9500 | I198: =H198*G198 -> 9500
A199: 193 | B199: 어린이 | C199: 나씨의 아침 식사 | D199: 미 안 | E199: 웅진주니어 | F199: 2017 | G199: 1 | H199: 21000 | I199: =H199*G199 -> 21000
A200: 194 | B200: 어린이 | C200: 어린이 박물관 : 신라 | D200: 강응천 | E200: 웅진주니어 | F200: 2017 | G200: 1 | H200: 13000 | I200: =H200*G200 -> 13000
A201: 195 | B201: 어린이 | C201: 사샤의 돌 | D201: 에런 베커 | E201: 웅진주니어 | F201: 2018 | G201: 1 | H201: 12000 | I201: =H201*G201 -> 12000
A202: 196 | B202: 어린이 | C202: 생각 부자가 된 키라 | D202: 박현숙 | E202: 을파소 | F202: 2017 | G202: 1 | H202: 13000 | I202: =H202*G202 -> 13000
A203: 197 | B203: 어린이 | C203: 착각 탐정단. 1 | D203: 후지에 준 | E203: 을파소 | F203: 2017 | G203: 1 | H203: 11000 | I203: =H203*G203 -> 11000
A204: 198 | B204: 어린이 | C204: 착각 탐정단. 2 | D204: 후지에 준 | E204: 을파소 | F204: 2017 | G204: 1 | H204: 11000 | I204: =H204*G204 -> 11000
A205: 199 | B205: 어린이 | C205: 착각 탐정단. 3 | D205: 후지에 준 | E205: 을파소 | F205: 2017 | G205: 1 | H205: 11000 | I205: =H205*G205 -> 11000
A206: 200 | B206: 어린이 | C206: 니나 | D206: 알리스 브리에르-아케 | E206: 이른비 | F206: 2017 | G206: 1 | H206: 13000 | I206: =H206*G206 -> 13000
A207: 201 | B207: 어린이 | C207: 징검다리 | D207: 마그리트 루어스 | E207: 이마주 | F207: 2018 | G207: 1 | H207: 9500 | I207: =H207*G207 -> 9500
... A316: 310 | B316: 어린이 | C316: 날마다 달마다 신나는 책놀이터 | D316: 이숙현 | E316: 행복한아침독서 | F316: 2016 | G316: 1 | H316: 15000 | I316: =H316*G316 -> 15000
