Workbook

Sheet 개요
B2: 2018 기적의도서관 5차 도서구입(도서,비도서)
B4: 구분 | C4: 등록구분 | D4: 권수 | E4: 도서구입비 | F4: marc & 장비용역비 | G4: 합계금액
B5: 합계 | D5: =SUM(D6:D8) -> 273 | E5: =SUM(E6:E8) -> 3590600 | F5: =SUM(F6:F8) -> 234780 | G5: =E5+F5 -> 3825380
B6: 일반도서 | C6: ML | D6: =일반!G4 -> 96 | E6: =일반!I6 -> 1361200 | F6: =일반!I5 -> 82560 | G6: =E6+F6 -> 1443760
B7: 어린이도서 | C7: ML | D7: =어린이!G4 -> 171 | E7: =어린이!I6 -> 2090800 | F7: =어린이!I5 -> 147060 | G7: =E7+F7 -> 2237860
B8: 비도서(DVD) | C8: EV | D8: =DVD!E4 -> 6 | E8: =DVD!G6 -> 138600 | F8: =860*D8 -> 5160 | G8: =E8+F8 -> 143760

Sheet 전체목록
A1: 2018 기적의도서관 5차 도서구입 전체목록
A3: 연번 | B3: 대상 | C3: 서명 | D3: 저자 | E3: 발행자 | F3: 발행년 | G3: 책수 | H3: 가격 | I3: 금액
C4: 총합계 | G4: =SUM(G7:G279) -> 273 | I4: =I5+I6 -> 3825380
C5: marc & 장비 용역비 | D5: 권당 860원 | I5: =G4*860 -> 234780
C6: 구입비 | I6: =SUM(I7:I279) -> 3590600
A7: 1 | B7: 일반 | C7: 부모라면 그들처럼 | D7: 김민태 | E7: 21세기북스 | F7: 2018 | G7: 1 | H7: 16000 | I7: =H7*G7 -> 16000
A8: 2 | B8: 일반 | C8: 할망은 희망 | D8: 정신지 | E8: 가르스연구소 | F8: 2018 | G8: 1 | H8: 15000 | I8: =H8*G8 -> 15000
A9: 3 | B9: 일반 | C9: 대한민국 엄마표 하브루타 | D9: 김수진 | E9: 공명 | F9: 2018 | G9: 1 | H9: 15800 | I9: =H9*G9 -> 15800
A10: 4 | B10: 일반 | C10: 지구인이 되는 중입니다 | D10: 최은경 | E10: 교육공동체벗 | F10: 2018 | G10: 1 | H10: 12000 | I10: =H10*G10 -> 12000
A11: 5 | B11: 일반 | C11: 고전 읽는 가족 | D11: 전병국 | E11: 궁리 | F11: 2017 | G11: 1 | H11: 15000 | I11: =H11*G11 -> 15000
A12: 6 | B12: 일반 | C12: 소와 흙 | D12: 신나미 쿄스케 | E12: 글항아리 | F12: 2018 | G12: 1 | H12: 15000 | I12: =H12*G12 -> 15000
A13: 7 | B13: 일반 | C13: 3층 서기실의 암호 | D13: 태영호 | E13: 기파랑 | F13: 2018 | G13: 1 | H13: 20000 | I13: =H13*G13 -> 20000
A14: 8 | B14: 일반 | C14: 코끼리의 시간, 쥐의 시간 | D14: 모토카와 타츠오 | E14: 김영사 | F14: 2018 | G14: 1 | H14: 14000 | I14: =H14*G14 -> 14000
A15: 9 | B15: 일반 | C15: 나를 부르는 숲 | D15: 빌 브라이슨 | E15: 까치 | F15: 2018 | G15: 1 | H15: 13500 | I15: =H15*G15 -> 13500
A16: 10 | B16: 일반 | C16: 마흔다섯 미선씨 | D16: 윤이재 | E16: 꿈의지도 | F16: 2018 | G16: 1 | H16: 12000 | I16: =H16*G16 -> 12000
A17: 11 | B17: 일반 | C17: 스페이스 보이 | D17: 박형근 | E17: 나무옆의자 | F17: 2018 | G17: 1 | H17: 13000 | I17: =H17*G17 -> 13000
A18: 12 | B18: 일반 | C18: 작은 불씨는 어디에나 | D18: 실레스트 잉 | E18: 나무의철학 | F18: 2018 | G18: 1 | H18: 15000 | I18: =H18*G18 -> 15000
... A273: 267 | B273: 어린이 | C273: 내가 없으면 좋겠어? | D273: 임어진 | E273: 현북스 | F273: 2018 | G273: 1 | H273: 12000 | I273: =H273*G273 -> 12000
A274: 268 | B274: DVD | C274: 코코 | E274: 월트디즈니 | F274: 2018 | G274: 1 | H274: 22000 | I274: =H274 -> 22000
A275: 269 | B275: DVD | C275: 핀두스 이야기 | E275: 루커스엔터 | F275: 2018 | G275: 1 | H275: 25300 | I275: =H275 -> 25300
A276: 270 | B276: DVD | C276: 넛잡 2 | E276: 비디오여행 | F276: 2018 | G276: 1 | H276: 25300 | I276: =H276 -> 25300
A277: 271 | B277: DVD | C277: 딥:DEEP | E277: 알스컴퍼니 | F277: 2018 | G277: 1 | H277: 22000 | I277: =H277 -> 22000
A278: 272 | B278: DVD | C278: 빅풋 주니어 | E278: 알스컴퍼니 | F278: 2017 | G278: 1 | H278: 22000 | I278: =H278 -> 22000
A279: 273 | B279: DVD | C279: 보스 베이비 | E279: 유니버셜픽쳐스 | F279: 2018 | G279: 1 | H279: 22000 | I279: =H279 -> 22000

Sheet 일반
A1: 2018 기적의도서관 5차 도서구입(일반)
A3: 연번 | B3: 대상 | C3: 서명 | D3: 저자 | E3: 발행자 | F3: 발행년 | G3: 책수 | H3: 가격 | I3: 금액
C4: 총합계 | G4: =SUM(G7:G150) -> 96 | I4: =I5+I6 -> 1443760
C5: marc & 장비 용역비 | D5: 권당 860원 | I5: =G4*860 -> 82560
C6: 도서구입비 | I6: =SUM(I7:I150) -> 1361200
A7: 1 | B7: 일반 | C7: 부모라면 그들처럼 | D7: 김민태 | E7: 21세기북스 | F7: 2018 | G7: 1 | H7: 16000 | I7: =H7*G7 -> 16000
A8: 2 | B8: 일반 | C8: 할망은 희망 | D8: 정신지 | E8: 가르스연구소 | F8: 2018 | G8: 1 | H8: 15000 | I8: =H8*G8 -> 15000
A9: 3 | B9: 일반 | C9: 대한민국 엄마표 하브루타 | D9: 김수진 | E9: 공명 | F9: 2018 | G9: 1 | H9: 15800 | I9: =H9*G9 -> 15800
A10: 4 | B10: 일반 | C10: 지구인이 되는 중입니다 | D10: 최은경 | E10: 교육공동체벗 | F10: 2018 | G10: 1 | H10: 12000 | I10: =H10*G10 -> 12000
A11: 5 | B11: 일반 | C11: 고전 읽는 가족 | D11: 전병국 | E11: 궁리 | F11: 2017 | G11: 1 | H11: 15000 | I11: =H11*G11 -> 15000
A12: 6 | B12: 일반 | C12: 소와 흙 | D12: 신나미 쿄스케 | E12: 글항아리 | F12: 2018 | G12: 1 | H12: 15000 | I12: =H12*G12 -> 15000
A13: 7 | B13: 일반 | C13: 3층 서기실의 암호 | D13: 태영호 | E13: 기파랑 | F13: 2018 | G13: 1 | H13: 20000 | I13: =H13*G13 -> 20000
A14: 8 | B14: 일반 | C14: 코끼리의 시간, 쥐의 시간 | D14: 모토카와 타츠오 | E14: 김영사 | F14: 2018 | G14: 1 | H14: 14000 | I14: =H14*G14 -> 14000
A15: 9 | B15: 일반 | C15: 나를 부르는 숲 | D15: 빌 브라이슨 | E15: 까치 | F15: 2018 | G15: 1 | H15: 13500 | I15: =H15*G15 -> 13500
A16: 10 | B16: 일반 | C16: 마흔다섯 미선씨 | D16: 윤이재 | E16: 꿈의지도 | F16: 2018 | G16: 1 | H16: 12000 | I16: =H16*G16 -> 12000
A17: 11 | B17: 일반 | C17: 스페이스 보이 | D17: 박형근 | E17: 나무옆의자 | F17: 2018 | G17: 1 | H17: 13000 | I17: =H17*G17 -> 13000
A18: 12 | B18: 일반 | C18: 작은 불씨는 어디에나 | D18: 실레스트 잉 | E18: 나무의철학 | F18: 2018 | G18: 1 | H18: 15000 | I18: =H18*G18 -> 15000
... A102: 96 | B102: 일반 | C102: 오늘도 미세먼지 나쁨 | D102: 김동환 | E102: 휴머니스트 | F102: 2018 | G102: 1 | H102: 15000 | I102: =H102*G102 -> 15000

Sheet 어린이
A1: 2018 기적의도서관 5차 도서구입(어린이)
A3: 연번 | B3: 대상 | C3: 서명 | D3: 저자 | E3: 발행자 | F3: 발행년 | G3: 책수 | H3: 가격 | I3: 금액
C4: 총합계 | G4: =SUM(G7:G177) -> 171 | I4: =I5+I6 -> 2237860
C5: marc & 장비 용역비 | D5: 권당 860원 | I5: =G4*860 -> 147060
C6: 도서구입비 | I6: =SUM(I7:I177) -> 2090800
A7: 1 | B7: 어린이 | C7: 벽 너머 | D7: 마리도 비알 | E7: 계수나무 | F7: 2018 | G7: 1 | H7: 12500 | I7: =H7*G7 -> 12500
A8: 2 | B8: 어린이 | C8: 호랭이 꽃방귀 | D8: 박윤규 | E8: 계수나무 | F8: 2018 | G8: 1 | H8: 12500 | I8: =H8*G8 -> 12500
A9: 3 | B9: 어린이 | C9: 독도와 인어 | D9: 김정현 | E9: 고래가숨쉬는도서관 | F9: 2015 | G9: 1 | H9: 12000 | I9: =H9*G9 -> 12000
A10: 4 | B10: 어린이 | C10: 아기가 어떻게 만들어지는지에 대한 놀랍고도 진실한 이야기 | D10: 피오나 커토스커스 | E10: 고래가숨쉬는도서관 | F10: 2018 | G10: 1 | H10: 12000 | I10: =H10*G10 -> 12000
A11: 5 | B11: 어린이 | C11: 인어 소녀 | D11: 차율이 | E11: 고래가숨쉬는도서관 | F11: 2018 | G11: 1 | H11: 12000 | I11: =H11*G11 -> 12000
A12: 6 | B12: 어린이 | C12: 산으로 오르는 길 | D12: 마리안느 뒤비크 | E12: 고래뱃속 | F12: 2018 | G12: 1 | H12: 13000 | I12: =H12*G12 -> 13000
A13: 7 | B13: 어린이 | C13: 짜장면 | D13: 김세영 | E13: 고래뱃속 | F13: 2018 | G13: 1 | H13: 13000 | I13: =H13*G13 -> 13000
A14: 8 | B14: 어린이 | C14: 여자 남자, 할 일이 따로 정해져 있을까요? | D14: 나카야마 치나쓰 | E14: 고래이야기 | F14: 2018 | G14: 1 | H14: 12000 | I14: =H14*G14 -> 12000
A15: 9 | B15: 어린이 | C15: 노래를 품은 섬 소안도 | D15: 홍종의 | E15: 국민서관 | F15: 2018 | G15: 1 | H15: 13000 | I15: =H15*G15 -> 13000
A16: 10 | B16: 어린이 | C16: 멋진 귀를 가진 개를 키우고 싶어 | D16: 로렌 차일드 | E16: 국민서관 | F16: 2018 | G16: 1 | H16: 12000 | I16: =H16*G16 -> 12000
A17: 11 | B17: 어린이 | C17: 안개가 보이세요? | D17: 쿄 매클리어 | E17: 국민서관 | F17: 2018 | G17: 1 | H17: 12000 | I17: =H17*G17 -> 12000
A18: 12 | B18: 어린이 | C18: 우주 전사 복실이 | D18: 한미호 | E18: 국민서관 | F18: 2018 | G18: 1 | H18: 12000 | I18: =H18*G18 -> 12000
... A177: 171 | B177: 어린이 | C177: 내가 없으면 좋겠어? | D177: 임어진 | E177: 현북스 | F177: 2018 | G177: 1 | H177: 12000 | I177: =H177*G177 -> 12000

Sheet DVD
A1: 2018 기적의도서관 2차 비도서구입(DVD)
A3: 연번 | B3: 서명 | C3: 발행자 | D3: 발행년 | E3: 책수 | F3: 가격 | G3: 금액
B4: 총합계 | E4: =SUM(E7:E12) -> 6 | G4: =G5+G6 -> 143760
B5: marc & 장비 용역비 | G5: =E4*860 -> 5160
B6: 비도서구입비 | G6: =SUM(G7:G12) -> 138600
A7: 1 | B7: 코코 | C7: 월트디즈니 | D7: 43160 | E7: 1 | F7: 22000 | G7: =F7 -> 22000
A8: 2 | B8: 핀두스 이야기 | C8: 루커스엔터 | D8: 43252 | E8: 1 | F8: 25300 | G8: =F8 -> 25300
A9: 3 | B9: 넛잡 2 | C9: 비디오여행 | D9: 43221 | E9: 1 | F9: 25300 | G9: =F9 -> 25300
A10: 4 | B10: 딥:DEEP | C10: 알스컴퍼니 | D10: 43160 | E10: 1 | F10: 22000 | G10: =F10 -> 22000
A11: 5 | B11: 빅풋 주니어 | C11: 알스컴퍼니 | D11: 43070 | E11: 1 | F11: 22000 | G11: =F11 -> 22000
A12: 6 | B12: 보스 베이비 | C12: 유니버셜픽쳐스 | D12: 43252 | E12: 1 | F12: 22000 | G12: =F12 -> 22000
